{"text_format":"1","workbook":"xlsx","n_sheets":2,"sheets":["Input","Simulator"],"not_rendered":{"charts":0,"images":0,"macros":1,"external_links":0,"defined_names":2,"comments":0,"pivot_tables":0},"unopened":[],"bounds":{"document_bytes":16777216,"sheet_cells":100000,"rows_first":2000,"rows_last":500,"rows_between":2000,"halvings":0,"cell_chars":16384,"cell_head_chars":4096},"cells_cut":0,"cells_raw":0,"read":"whole","date_system":"1900"}

{"sheet":"Input","index":0,"n_rows":131,"n_cols":45,"rows_kept":131,"cut":false,"hidden":false,"merged":[]}
["MDAG Dynamic ARD-Onset Simulator Version 1.0"]
["K. Morin, July 2017"]
[]
[]
["INPUT"]
[]
["Name of This Simulation =","First Sim"]
[null,null,null,null,null,"INITIAL MAPS BELOW (TIME = 0)"]
["Net Acid Generating (NAG) Rock: Enter 0 (zero) in Grid Cells in the NAN vs. NAG Map to the Right",null,null,null,null,"Two-Dimensional Vertical Grids (Each cell is identical in shape (cube), size, and volume, and each vertical grid is 40 cells long and 20 cells high)"]
["Effective Neutralization Potential (NP, wt-ppt CaCO3 such as t CaCO3/1000 t) =",5,"<- manual",null,null,"NAG vs. NAN Grid (Enter 0 or 1)",null,null,null,null,null,null,null,null,null,null,null,null,null,null,null,null,"Top (Surface)"]
["Equivalent Pyrite Content (%S) = ",10,"<- manual",null,null,1,1,1,1,1,1,1,1,1,1,1,1,1,1,1,1,1,1,1,1,1,1,1,1,1,1,1,1,1,1,1,1,1,1,1,1,1,1,1,1]
["Acid Potential (AP, wt-ppt CaCO3 such as t CaCO3/1000 t) =",{"$f":"B11*31.25","v":312.5},"< - calculated",null,null,1,1,1,1,1,1,1,1,1,1,1,1,1,1,1,1,1,1,1,1,1,1,1,1,1,1,1,1,1,1,1,1,1,1,1,1,1,1,1,1]
["Effective Net Potential Ratio =",{"$f":"B10/B12","v":1.6E-2},"< - calculated",null,null,1,1,1,1,1,1,1,1,1,1,1,1,1,1,1,1,1,1,1,1,1,1,1,1,1,1,1,1,1,1,1,1,1,1,1,1,1,1,1,1]
["Rate of Acidity Generation for NAG Rock (mg CaCO3/kg/wk) =",100,"<- manual",null,null,1,1,1,1,1,1,1,1,1,1,1,1,1,1,1,1,1,1,1,1,1,1,1,1,1,1,1,1,1,1,1,1,1,1,1,1,1,1,1,1]
["Ratio of Rate of NP Consumption / Rate of Acid Generation (NPR Criterion) =",2,"<- manual",null,null,1,1,1,1,1,1,1,1,1,1,1,1,1,1,1,1,1,1,1,1,1,1,1,1,1,1,1,1,1,1,1,1,1,1,1,1,1,1,1,1]
["Rate of NP Consumption for NAG Rock (mg CaCO3/kg/wk) =",{"$f":"B14*B15","v":200},"< - calculated",null,null,1,1,1,1,1,1,1,1,1,1,1,1,1,1,1,1,1,1,1,1,1,1,1,1,1,1,1,1,1,1,1,1,1,1,1,1,1,1,1,1]
["Channelling Ratio of (% net acidity transported):(% downgradient NP encountered) =",1,"<- manual",null,null,1,1,1,1,1,1,1,1,1,1,1,1,1,1,1,1,1,1,1,1,1,1,1,1,1,1,1,1,1,1,1,1,1,1,1,1,1,1,1,1]
["Adjusted Rate of Acidity Release for NAG Rock When Acidic (mg CaCO3/kg/wk) =",{"$f":"B14*B17","v":100},"< - calculated or manual",null,null,1,1,1,1,1,1,1,1,1,1,1,1,1,1,1,1,1,1,1,1,1,1,1,1,1,1,1,1,1,1,1,1,1,1,1,1,1,1,1,1]
["(Internal acidity generated by NAG rock decreases its Effective NP until zero)",null,null,null,null,1,1,1,1,1,1,1,1,1,1,1,1,1,1,1,1,1,1,1,1,1,1,1,1,1,1,1,1,1,1,1,1,1,1,1,1,1,1,1,1]
["(Effective NP in NAG rock is consumed first by internal acid generation and second by any inflowing acidity)",null,null,null,null,1,1,1,1,1,1,1,1,1,1,1,1,1,1,1,1,1,1,1,1,1,1,1,1,1,1,1,1,1,1,1,1,1,1,1,1,1,1,1,1]
[null,null,null,null,null,1,1,1,1,1,1,1,1,1,1,1,1,1,1,1,1,1,1,1,1,1,1,1,1,1,1,1,1,1,1,1,1,1,1,1,1,1,1,1,1]
["Net Acid Neutralizing (NAN) Rock: Enter 1 in Grid Cells in the NAN vs. NAG Map to the Right",null,null,null,null,1,1,1,1,1,1,1,1,1,1,1,1,1,1,1,1,1,1,1,1,1,1,1,1,1,1,1,1,1,1,1,1,1,1,1,1,1,1,1,1]
["Effective Neutralization Potential (NP, wt-ppt CaCO3 such as t CaCO3/1000 t) =",20,"<- manual",null,null,1,1,1,1,1,1,1,1,1,1,1,1,1,1,1,1,1,1,1,1,1,1,1,1,1,1,1,1,1,1,1,1,1,1,1,1,1,1,1,1]
["Equivalent Pyrite Content (%S) = ",0.2,"<- manual",null,null,1,1,1,1,1,1,1,1,1,1,1,1,1,1,1,1,1,1,1,1,1,1,1,1,1,1,1,1,1,1,1,1,1,1,1,1,1,1,1,1]
["Acid Potential (AP, wt-ppt CaCO3 such as t CaCO3/1000 t) =",{"$f":"B24*31.25","v":6.25},"< - calculated",null,null,1,1,1,1,1,1,1,1,1,1,1,1,1,1,1,1,1,1,1,1,1,1,1,1,1,1,1,1,1,1,1,1,1,1,1,1,1,1,1,1]
["Effective Net Potential Ratio =",{"$f":"B23/B25","v":3.2},"< - calculated",null,null,1,1,1,1,1,1,1,1,1,1,1,1,1,1,1,1,1,1,1,1,1,1,1,1,1,1,1,1,1,1,1,1,1,1,1,1,1,1,1,1]
["Rate of Acidity Generation for NAN Rock (mg CaCO3/kg/wk) =",10,"<- manual",null,null,1,1,1,1,1,1,1,1,1,1,1,1,1,1,1,1,1,1,1,1,1,1,1,1,1,1,1,1,1,1,1,1,1,1,1,1,1,1,1,1]
["Ratio of Rate of NP Consumption / Rate of Acid Generation (NPR Criterion) =",2,"<- manual",null,null,1,1,1,1,1,1,1,1,1,1,1,1,1,1,1,1,1,1,1,1,1,1,1,1,1,1,1,1,1,1,1,1,1,1,1,1,1,1,1,1]
["Rate of NP Consumption for NAN Rock (mg CaCO3/kg/wk) =",{"$f":"B27*B28","v":20},"< - calculated",null,null,1,1,1,1,1,1,1,1,1,1,1,1,1,1,1,1,1,1,1,1,1,1,1,1,1,1,1,1,1,1,1,1,1,1,1,1,1,1,1,1]
["Channelling Ratio of (% net acidity transported):(% downgradient NP encountered) =",1,"<- manual",null,"Toe Drain",1,1,1,1,1,1,1,1,1,1,1,1,1,1,1,1,1,1,1,1,1,1,1,1,1,1,1,1,1,1,1,1,1,1,1,1,1,1,1,1]
["Adjusted Rate of Acidity Release for NAN Rock When Acidic (mg CaCO3/kg/wk) =",{"$f":"B27*B30","v":10},"< - calculated or manual",null,null,null,null,null,null,null,null,null,null,null,null,null,null,null,"Bottom (Base) and Underlying Groundwater System"]
["(Internal acidity generated by NAN rock decreases its Effective NP until zero)"]
["(Effective NP in NAN rock is consumed first by internal acid generation and second by any inflowing acidity)"]
[null,null,null,null,null,"NP Grid (Automatically Calculated, or Manually Overridden by Cell, Row, or Column)"]
["Initial Average Grid Effective Net Potential Ratios",null,null,null,null,null,null,null,null,null,null,null,null,null,null,null,null,null,null,null,null,null,"Top (Surface)"]
["[SUM(NP/AP)] by Cell =",{"$f":"((COUNTIF(F11:AS30,\"<1\")*$B$13)+(COUNTIF(F11:AS30,\">0\")*$B$26))/COUNT(F11:AS30)","v":3.2},null,null,null,{"$f":"IF(F11=0,$B$10,$B$23)","v":20},20,20,20,20,20,20,20,20,20,20,20,20,20,20,20,20,20,20,20,20,20,20,20,20,20,20,20,20,20,20,20,20,20,20,20,20,20,20,20]
["[SUM(NP) for All Cells]/[SUM(AP) for All Cells] =",{"$f":"SUM(F36:AS55)/SUM(F61:AS80)","v":3.2},null,null,null,{"$f":"IF(F12=0,$B$10,$B$23)","v":20},20,20,20,20,20,20,20,20,20,20,20,20,20,20,20,20,20,20,20,20,20,20,20,20,20,20,20,20,20,20,20,20,20,20,20,20,20,20,20]
["% of Cells Specified as Net Acid Generating =",{"$f":"(COUNTIF(F11:AS30,\"<1\")*100)/COUNT(F11:AS30)","v":0},null,null,null,{"$f":"IF(F13=0,$B$10,$B$23)","v":20},20,20,20,20,20,20,20,20,20,20,20,20,20,20,20,20,20,20,20,20,20,20,20,20,20,20,20,20,20,20,20,20,20,20,20,20,20,20,20]
[null,null,null,null,null,{"$f":"IF(F14=0,$B$10,$B$23)","v":20},20,20,20,20,20,20,20,20,20,20,20,20,20,20,20,20,20,20,20,20,20,20,20,20,20,20,20,20,20,20,20,20,20,20,20,20,20,20,20]
["Fully Saturated, Submerged, or Flooded Cells (see Non-Oxidizing Grid farther below)",null,null,null,null,{"$f":"IF(F15=0,$B$10,$B$23)","v":20},20,20,20,20,20,20,20,20,20,20,20,20,20,20,20,20,20,20,20,20,20,20,20,20,20,20,20,20,20,20,20,20,20,20,20,20,20,20,20]
["- These cells will be simulated by setting the cell's AP (Acid Potential) to zero",null,null,null,null,{"$f":"IF(F16=0,$B$10,$B$23)","v":20},20,20,20,20,20,20,20,20,20,20,20,20,20,20,20,20,20,20,20,20,20,20,20,20,20,20,20,20,20,20,20,20,20,20,20,20,20,20,20]
["- These cells are still open to acidity migration vertically and/or laterally",null,null,null,null,{"$f":"IF(F17=0,$B$10,$B$23)","v":20},20,20,20,20,20,20,20,20,20,20,20,20,20,20,20,20,20,20,20,20,20,20,20,20,20,20,20,20,20,20,20,20,20,20,20,20,20,20,20]
["Saturated, Non-Oxidizing Cell =",0,"<- manual",null,null,{"$f":"IF(F18=0,$B$10,$B$23)","v":20},20,20,20,20,20,20,20,20,20,20,20,20,20,20,20,20,20,20,20,20,20,20,20,20,20,20,20,20,20,20,20,20,20,20,20,20,20,20,20]
["Oxidizing Cell =",1,"<- manual",null,null,{"$f":"IF(F19=0,$B$10,$B$23)","v":20},20,20,20,20,20,20,20,20,20,20,20,20,20,20,20,20,20,20,20,20,20,20,20,20,20,20,20,20,20,20,20,20,20,20,20,20,20,20,20]
["% of Cells Specified Here as Non-Oxidizing =",{"$f":"(COUNTIF(F86:AS105,\"=0\")*100)/COUNT(F86:AS105)","v":0},null,null,null,{"$f":"IF(F20=0,$B$10,$B$23)","v":20},20,20,20,20,20,20,20,20,20,20,20,20,20,20,20,20,20,20,20,20,20,20,20,20,20,20,20,20,20,20,20,20,20,20,20,20,20,20,20]
[null,null,null,null,null,{"$f":"IF(F21=0,$B$10,$B$23)","v":20},20,20,20,20,20,20,20,20,20,20,20,20,20,20,20,20,20,20,20,20,20,20,20,20,20,20,20,20,20,20,20,20,20,20,20,20,20,20,20]
["Vertical and Lateral Movement of Water and Acidity (see Proportion Grid farther below)",null,null,null,null,{"$f":"IF(F22=0,$B$10,$B$23)","v":20},20,20,20,20,20,20,20,20,20,20,20,20,20,20,20,20,20,20,20,20,20,20,20,20,20,20,20,20,20,20,20,20,20,20,20,20,20,20,20]
["Proportion of Acidity Release Moving Downward =",0.95,"<- manual",null,null,{"$f":"IF(F23=0,$B$10,$B$23)","v":20},20,20,20,20,20,20,20,20,20,20,20,20,20,20,20,20,20,20,20,20,20,20,20,20,20,20,20,20,20,20,20,20,20,20,20,20,20,20,20]
["Proportion of Acidity Release Moving Left =",{"$f":"1-B48","v":5.0000000000000044E-2},"< - calculated",null,null,{"$f":"IF(F24=0,$B$10,$B$23)","v":20},20,20,20,20,20,20,20,20,20,20,20,20,20,20,20,20,20,20,20,20,20,20,20,20,20,20,20,20,20,20,20,20,20,20,20,20,20,20,20]
[null,null,null,null,null,{"$f":"IF(F25=0,$B$10,$B$23)","v":20},20,20,20,20,20,20,20,20,20,20,20,20,20,20,20,20,20,20,20,20,20,20,20,20,20,20,20,20,20,20,20,20,20,20,20,20,20,20,20]
[null,null,null,null,null,{"$f":"IF(F26=0,$B$10,$B$23)","v":20},20,20,20,20,20,20,20,20,20,20,20,20,20,20,20,20,20,20,20,20,20,20,20,20,20,20,20,20,20,20,20,20,20,20,20,20,20,20,20]
[null,null,null,null,null,{"$f":"IF(F27=0,$B$10,$B$23)","v":20},20,20,20,20,20,20,20,20,20,20,20,20,20,20,20,20,20,20,20,20,20,20,20,20,20,20,20,20,20,20,20,20,20,20,20,20,20,20,20]
[null,null,null,null,null,{"$f":"IF(F28=0,$B$10,$B$23)","v":20},20,20,20,20,20,20,20,20,20,20,20,20,20,20,20,20,20,20,20,20,20,20,20,20,20,20,20,20,20,20,20,20,20,20,20,20,20,20,20]
[null,null,null,null,null,{"$f":"IF(F29=0,$B$10,$B$23)","v":20},20,20,20,20,20,20,20,20,20,20,20,20,20,20,20,20,20,20,20,20,20,20,20,20,20,20,20,20,20,20,20,20,20,20,20,20,20,20,20]
[null,null,null,null,"Toe Drain",{"$f":"IF(F30=0,$B$10,$B$23)","v":20},20,20,20,20,20,20,20,20,20,20,20,20,20,20,20,20,20,20,20,20,20,20,20,20,20,20,20,20,20,20,20,20,20,20,20,20,20,20,20]
[null,null,null,null,null,null,null,null,null,null,null,null,null,null,null,null,null,null,"Bottom (Base) and Underlying Groundwater System"]
[]
[]
[null,null,null,null,null,"AP Grid (Automatically Calculated, or Manually Overridden by Cell, Row, or Column)"]
[null,null,null,null,null,null,null,null,null,null,null,null,null,null,null,null,null,null,null,null,null,null,"Top (Surface)"]
[null,null,null,null,null,{"$f":"IF(F11=0,$B$12,$B$25)","v":6.25},6.25,6.25,6.25,6.25,6.25,6.25,6.25,6.25,6.25,6.25,6.25,6.25,6.25,6.25,6.25,6.25,6.25,6.25,6.25,6.25,6.25,6.25,6.25,6.25,6.25,6.25,6.25,6.25,6.25,6.25,6.25,6.25,6.25,6.25,6.25,6.25,6.25,6.25,6.25]
[null,null,null,null,null,{"$f":"IF(F12=0,$B$12,$B$25)","v":6.25},6.25,6.25,6.25,6.25,6.25,6.25,6.25,6.25,6.25,6.25,6.25,6.25,6.25,6.25,6.25,6.25,6.25,6.25,6.25,6.25,6.25,6.25,6.25,6.25,6.25,6.25,6.25,6.25,6.25,6.25,6.25,6.25,6.25,6.25,6.25,6.25,6.25,6.25,6.25]
[null,null,null,null,null,{"$f":"IF(F13=0,$B$12,$B$25)","v":6.25},6.25,6.25,6.25,6.25,6.25,6.25,6.25,6.25,6.25,6.25,6.25,6.25,6.25,6.25,6.25,6.25,6.25,6.25,6.25,6.25,6.25,6.25,6.25,6.25,6.25,6.25,6.25,6.25,6.25,6.25,6.25,6.25,6.25,6.25,6.25,6.25,6.25,6.25,6.25]
[null,null,null,null,null,{"$f":"IF(F14=0,$B$12,$B$25)","v":6.25},6.25,6.25,6.25,6.25,6.25,6.25,6.25,6.25,6.25,6.25,6.25,6.25,6.25,6.25,6.25,6.25,6.25,6.25,6.25,6.25,6.25,6.25,6.25,6.25,6.25,6.25,6.25,6.25,6.25,6.25,6.25,6.25,6.25,6.25,6.25,6.25,6.25,6.25,6.25]
[null,null,null,null,null,{"$f":"IF(F15=0,$B$12,$B$25)","v":6.25},6.25,6.25,6.25,6.25,6.25,6.25,6.25,6.25,6.25,6.25,6.25,6.25,6.25,6.25,6.25,6.25,6.25,6.25,6.25,6.25,6.25,6.25,6.25,6.25,6.25,6.25,6.25,6.25,6.25,6.25,6.25,6.25,6.25,6.25,6.25,6.25,6.25,6.25,6.25]
[null,null,null,null,null,{"$f":"IF(F16=0,$B$12,$B$25)","v":6.25},6.25,6.25,6.25,6.25,6.25,6.25,6.25,6.25,6.25,6.25,6.25,6.25,6.25,6.25,6.25,6.25,6.25,6.25,6.25,6.25,6.25,6.25,6.25,6.25,6.25,6.25,6.25,6.25,6.25,6.25,6.25,6.25,6.25,6.25,6.25,6.25,6.25,6.25,6.25]
[null,null,null,null,null,{"$f":"IF(F17=0,$B$12,$B$25)","v":6.25},6.25,6.25,6.25,6.25,6.25,6.25,6.25,6.25,6.25,6.25,6.25,6.25,6.25,6.25,6.25,6.25,6.25,6.25,6.25,6.25,6.25,6.25,6.25,6.25,6.25,6.25,6.25,6.25,6.25,6.25,6.25,6.25,6.25,6.25,6.25,6.25,6.25,6.25,6.25]
[null,null,null,null,null,{"$f":"IF(F18=0,$B$12,$B$25)","v":6.25},6.25,6.25,6.25,6.25,6.25,6.25,6.25,6.25,6.25,6.25,6.25,6.25,6.25,6.25,6.25,6.25,6.25,6.25,6.25,6.25,6.25,6.25,6.25,6.25,6.25,6.25,6.25,6.25,6.25,6.25,6.25,6.25,6.25,6.25,6.25,6.25,6.25,6.25,6.25]
[null,null,null,null,null,{"$f":"IF(F19=0,$B$12,$B$25)","v":6.25},6.25,6.25,6.25,6.25,6.25,6.25,6.25,6.25,6.25,6.25,6.25,6.25,6.25,6.25,6.25,6.25,6.25,6.25,6.25,6.25,6.25,6.25,6.25,6.25,6.25,6.25,6.25,6.25,6.25,6.25,6.25,6.25,6.25,6.25,6.25,6.25,6.25,6.25,6.25]
[null,null,null,null,null,{"$f":"IF(F20=0,$B$12,$B$25)","v":6.25},6.25,6.25,6.25,6.25,6.25,6.25,6.25,6.25,6.25,6.25,6.25,6.25,6.25,6.25,6.25,6.25,6.25,6.25,6.25,6.25,6.25,6.25,6.25,6.25,6.25,6.25,6.25,6.25,6.25,6.25,6.25,6.25,6.25,6.25,6.25,6.25,6.25,6.25,6.25]
[null,null,null,null,null,{"$f":"IF(F21=0,$B$12,$B$25)","v":6.25},6.25,6.25,6.25,6.25,6.25,6.25,6.25,6.25,6.25,6.25,6.25,6.25,6.25,6.25,6.25,6.25,6.25,6.25,6.25,6.25,6.25,6.25,6.25,6.25,6.25,6.25,6.25,6.25,6.25,6.25,6.25,6.25,6.25,6.25,6.25,6.25,6.25,6.25,6.25]
[null,null,null,null,null,{"$f":"IF(F22=0,$B$12,$B$25)","v":6.25},6.25,6.25,6.25,6.25,6.25,6.25,6.25,6.25,6.25,6.25,6.25,6.25,6.25,6.25,6.25,6.25,6.25,6.25,6.25,6.25,6.25,6.25,6.25,6.25,6.25,6.25,6.25,6.25,6.25,6.25,6.25,6.25,6.25,6.25,6.25,6.25,6.25,6.25,6.25]
[null,null,null,null,null,{"$f":"IF(F23=0,$B$12,$B$25)","v":6.25},6.25,6.25,6.25,6.25,6.25,6.25,6.25,6.25,6.25,6.25,6.25,6.25,6.25,6.25,6.25,6.25,6.25,6.25,6.25,6.25,6.25,6.25,6.25,6.25,6.25,6.25,6.25,6.25,6.25,6.25,6.25,6.25,6.25,6.25,6.25,6.25,6.25,6.25,6.25]
[null,null,null,null,null,{"$f":"IF(F24=0,$B$12,$B$25)","v":6.25},6.25,6.25,6.25,6.25,6.25,6.25,6.25,6.25,6.25,6.25,6.25,6.25,6.25,6.25,6.25,6.25,6.25,6.25,6.25,6.25,6.25,6.25,6.25,6.25,6.25,6.25,6.25,6.25,6.25,6.25,6.25,6.25,6.25,6.25,6.25,6.25,6.25,6.25,6.25]
[null,null,null,null,null,{"$f":"IF(F25=0,$B$12,$B$25)","v":6.25},6.25,6.25,6.25,6.25,6.25,6.25,6.25,6.25,6.25,6.25,6.25,6.25,6.25,6.25,6.25,6.25,6.25,6.25,6.25,6.25,6.25,6.25,6.25,6.25,6.25,6.25,6.25,6.25,6.25,6.25,6.25,6.25,6.25,6.25,6.25,6.25,6.25,6.25,6.25]
[null,null,null,null,null,{"$f":"IF(F26=0,$B$12,$B$25)","v":6.25},6.25,6.25,6.25,6.25,6.25,6.25,6.25,6.25,6.25,6.25,6.25,6.25,6.25,6.25,6.25,6.25,6.25,6.25,6.25,6.25,6.25,6.25,6.25,6.25,6.25,6.25,6.25,6.25,6.25,6.25,6.25,6.25,6.25,6.25,6.25,6.25,6.25,6.25,6.25]
[null,null,null,null,null,{"$f":"IF(F27=0,$B$12,$B$25)","v":6.25},6.25,6.25,6.25,6.25,6.25,6.25,6.25,6.25,6.25,6.25,6.25,6.25,6.25,6.25,6.25,6.25,6.25,6.25,6.25,6.25,6.25,6.25,6.25,6.25,6.25,6.25,6.25,6.25,6.25,6.25,6.25,6.25,6.25,6.25,6.25,6.25,6.25,6.25,6.25]
[null,null,null,null,null,{"$f":"IF(F28=0,$B$12,$B$25)","v":6.25},6.25,6.25,6.25,6.25,6.25,6.25,6.25,6.25,6.25,6.25,6.25,6.25,6.25,6.25,6.25,6.25,6.25,6.25,6.25,6.25,6.25,6.25,6.25,6.25,6.25,6.25,6.25,6.25,6.25,6.25,6.25,6.25,6.25,6.25,6.25,6.25,6.25,6.25,6.25]
[null,null,null,null,null,{"$f":"IF(F29=0,$B$12,$B$25)","v":6.25},6.25,6.25,6.25,6.25,6.25,6.25,6.25,6.25,6.25,6.25,6.25,6.25,6.25,6.25,6.25,6.25,6.25,6.25,6.25,6.25,6.25,6.25,6.25,6.25,6.25,6.25,6.25,6.25,6.25,6.25,6.25,6.25,6.25,6.25,6.25,6.25,6.25,6.25,6.25]
[null,null,null,null,"Toe Drain",{"$f":"IF(F30=0,$B$12,$B$25)","v":6.25},6.25,6.25,6.25,6.25,6.25,6.25,6.25,6.25,6.25,6.25,6.25,6.25,6.25,6.25,6.25,6.25,6.25,6.25,6.25,6.25,6.25,6.25,6.25,6.25,6.25,6.25,6.25,6.25,6.25,6.25,6.25,6.25,6.25,6.25,6.25,6.25,6.25,6.25,6.25]
[null,null,null,null,null,null,null,null,null,null,null,null,null,null,null,null,null,null,"Bottom (Base) and Underlying Groundwater System"]
[]
[null,null,null,null,null,null,null,null,null,null,null,null,null,null,null,null,null,null,null,null,null,null,"Top (Surface)"]
[null,null,null,null,null,"Non-Oxidizing Grid (Automatically Specified, or Manually Overridden by Cell, Row, or Column; 0 = Saturated, non-oxidizing cell, 1 = Oxidizing cell)"]
[]
[null,null,null,null,null,1,1,1,1,1,1,1,1,1,1,1,1,1,1,1,1,1,1,1,1,1,1,1,1,1,1,1,1,1,1,1,1,1,1,1,1,1,1,1,1]
[null,null,null,null,null,1,1,1,1,1,1,1,1,1,1,1,1,1,1,1,1,1,1,1,1,1,1,1,1,1,1,1,1,1,1,1,1,1,1,1,1,1,1,1,1]
[null,null,null,null,null,1,1,1,1,1,1,1,1,1,1,1,1,1,1,1,1,1,1,1,1,1,1,1,1,1,1,1,1,1,1,1,1,1,1,1,1,1,1,1,1]
[null,null,null,null,null,1,1,1,1,1,1,1,1,1,1,1,1,1,1,1,1,1,1,1,1,1,1,1,1,1,1,1,1,1,1,1,1,1,1,1,1,1,1,1,1]
[null,null,null,null,null,1,1,1,1,1,1,1,1,1,1,1,1,1,1,1,1,1,1,1,1,1,1,1,1,1,1,1,1,1,1,1,1,1,1,1,1,1,1,1,1]
[null,null,null,null,null,1,1,1,1,1,1,1,1,1,1,1,1,1,1,1,1,1,1,1,1,1,1,1,1,1,1,1,1,1,1,1,1,1,1,1,1,1,1,1,1]
[null,null,null,null,null,1,1,1,1,1,1,1,1,1,1,1,1,1,1,1,1,1,1,1,1,1,1,1,1,1,1,1,1,1,1,1,1,1,1,1,1,1,1,1,1]
[null,null,null,null,null,1,1,1,1,1,1,1,1,1,1,1,1,1,1,1,1,1,1,1,1,1,1,1,1,1,1,1,1,1,1,1,1,1,1,1,1,1,1,1,1]
[null,null,null,null,null,1,1,1,1,1,1,1,1,1,1,1,1,1,1,1,1,1,1,1,1,1,1,1,1,1,1,1,1,1,1,1,1,1,1,1,1,1,1,1,1]
[null,null,null,null,null,1,1,1,1,1,1,1,1,1,1,1,1,1,1,1,1,1,1,1,1,1,1,1,1,1,1,1,1,1,1,1,1,1,1,1,1,1,1,1,1]
[null,null,null,null,null,1,1,1,1,1,1,1,1,1,1,1,1,1,1,1,1,1,1,1,1,1,1,1,1,1,1,1,1,1,1,1,1,1,1,1,1,1,1,1,1]
[null,null,null,null,null,1,1,1,1,1,1,1,1,1,1,1,1,1,1,1,1,1,1,1,1,1,1,1,1,1,1,1,1,1,1,1,1,1,1,1,1,1,1,1,1]
[null,null,null,null,null,1,1,1,1,1,1,1,1,1,1,1,1,1,1,1,1,1,1,1,1,1,1,1,1,1,1,1,1,1,1,1,1,1,1,1,1,1,1,1,1]
[null,null,null,null,null,1,1,1,1,1,1,1,1,1,1,1,1,1,1,1,1,1,1,1,1,1,1,1,1,1,1,1,1,1,1,1,1,1,1,1,1,1,1,1,1]
[null,null,null,null,null,1,1,1,1,1,1,1,1,1,1,1,1,1,1,1,1,1,1,1,1,1,1,1,1,1,1,1,1,1,1,1,1,1,1,1,1,1,1,1,1]
[null,null,null,null,null,1,1,1,1,1,1,1,1,1,1,1,1,1,1,1,1,1,1,1,1,1,1,1,1,1,1,1,1,1,1,1,1,1,1,1,1,1,1,1,1]
[null,null,null,null,null,1,1,1,1,1,1,1,1,1,1,1,1,1,1,1,1,1,1,1,1,1,1,1,1,1,1,1,1,1,1,1,1,1,1,1,1,1,1,1,1]
[null,null,null,null,null,1,1,1,1,1,1,1,1,1,1,1,1,1,1,1,1,1,1,1,1,1,1,1,1,1,1,1,1,1,1,1,1,1,1,1,1,1,1,1,1]
[null,null,null,null,null,1,1,1,1,1,1,1,1,1,1,1,1,1,1,1,1,1,1,1,1,1,1,1,1,1,1,1,1,1,1,1,1,1,1,1,1,1,1,1,1]
[null,null,null,null,"Toe Drain",1,1,1,1,1,1,1,1,1,1,1,1,1,1,1,1,1,1,1,1,1,1,1,1,1,1,1,1,1,1,1,1,1,1,1,1,1,1,1,1]
[null,null,null,null,null,null,null,null,null,null,null,null,null,null,null,null,null,null,"Bottom (Base) and Underlying Groundwater System"]
[]
[]
[null,null,null,null,null,"Vertical-Downward-Flow-Proportion Grid (Automatically Calculated, or Manually Overridden by Cell, Row, or Column; "]
[null,null,null,null,null,null,null,null,null,null,null,null,null,null,null,null,null,null,"Top (Surface)",null,null,null,"1 = Vertical-downward flow only, 0 = Lateral flow to the left only, 0.8 = 80% Vertical Flow and 20% Lateral Flow to the Left, Etc.)"]
[null,null,null,null,null,{"$f":"$B$48","v":0.95},0.95,0.95,0.95,0.95,0.95,0.95,0.95,0.95,0.95,{"$f":"$B$48","v":0.95},0.95,0.95,0.95,0.95,0.95,0.95,0.95,0.95,0.95,{"$f":"$B$48","v":0.95},0.95,0.95,0.95,0.95,0.95,0.95,0.95,0.95,0.95,{"$f":"$B$48","v":0.95},0.95,0.95,0.95,0.95,0.95,0.95,0.95,0.95,0.95]
[null,null,null,null,null,0.95,0.95,0.95,0.95,0.95,0.95,0.95,0.95,0.95,0.95,0.95,0.95,0.95,0.95,0.95,0.95,0.95,0.95,0.95,0.95,0.95,0.95,0.95,0.95,0.95,0.95,0.95,0.95,0.95,0.95,0.95,0.95,0.95,0.95,0.95,0.95,0.95,0.95,0.95,0.95]
[null,null,null,null,null,0.95,0.95,0.95,0.95,0.95,0.95,0.95,0.95,0.95,0.95,0.95,0.95,0.95,0.95,0.95,0.95,0.95,0.95,0.95,0.95,0.95,0.95,0.95,0.95,0.95,0.95,0.95,0.95,0.95,0.95,0.95,0.95,0.95,0.95,0.95,0.95,0.95,0.95,0.95,0.95]
[null,null,null,null,null,0.95,0.95,0.95,0.95,0.95,0.95,0.95,0.95,0.95,0.95,0.95,0.95,0.95,0.95,0.95,0.95,0.95,0.95,0.95,0.95,0.95,0.95,0.95,0.95,0.95,0.95,0.95,0.95,0.95,0.95,0.95,0.95,0.95,0.95,0.95,0.95,0.95,0.95,0.95,0.95]
[null,null,null,null,"Any Side",0.95,0.95,0.95,0.95,0.95,0.95,0.95,0.95,0.95,0.95,0.95,0.95,0.95,0.95,0.95,0.95,0.95,0.95,0.95,0.95,0.95,0.95,0.95,0.95,0.95,0.95,0.95,0.95,0.95,0.95,0.95,0.95,0.95,0.95,0.95,0.95,0.95,0.95,0.95,0.95]
[null,null,null,null,"Discharges",0.95,0.95,0.95,0.95,0.95,0.95,0.95,0.95,0.95,0.95,0.95,0.95,0.95,0.95,0.95,0.95,0.95,0.95,0.95,0.95,0.95,0.95,0.95,0.95,0.95,0.95,0.95,0.95,0.95,0.95,0.95,0.95,0.95,0.95,0.95,0.95,0.95,0.95,0.95,0.95]
[null,null,null,null,null,0.95,0.95,0.95,0.95,0.95,0.95,0.95,0.95,0.95,0.95,0.95,0.95,0.95,0.95,0.95,0.95,0.95,0.95,0.95,0.95,0.95,0.95,0.95,0.95,0.95,0.95,0.95,0.95,0.95,0.95,0.95,0.95,0.95,0.95,0.95,0.95,0.95,0.95,0.95,0.95]
[null,null,null,null,null,0.95,0.95,0.95,0.95,0.95,0.95,0.95,0.95,0.95,0.95,0.95,0.95,0.95,0.95,0.95,0.95,0.95,0.95,0.95,0.95,0.95,0.95,0.95,0.95,0.95,0.95,0.95,0.95,0.95,0.95,0.95,0.95,0.95,0.95,0.95,0.95,0.95,0.95,0.95,0.95]
[null,null,null,null,null,0.95,0.95,0.95,0.95,0.95,0.95,0.95,0.95,0.95,0.95,0.95,0.95,0.95,0.95,0.95,0.95,0.95,0.95,0.95,0.95,0.95,0.95,0.95,0.95,0.95,0.95,0.95,0.95,0.95,0.95,0.95,0.95,0.95,0.95,0.95,0.95,0.95,0.95,0.95,0.95]
[null,null,null,null,null,0.95,0.95,0.95,0.95,0.95,0.95,0.95,0.95,0.95,0.95,0.95,0.95,0.95,0.95,0.95,0.95,0.95,0.95,0.95,0.95,0.95,0.95,0.95,0.95,0.95,0.95,0.95,0.95,0.95,0.95,0.95,0.95,0.95,0.95,0.95,0.95,0.95,0.95,0.95,0.95]
[null,null,null,null,null,{"$f":"$B$48","v":0.95},0.95,0.95,0.95,0.95,0.95,0.95,0.95,0.95,0.95,{"$f":"$B$48","v":0.95},0.95,0.95,0.95,0.95,0.95,0.95,0.95,0.95,0.95,{"$f":"$B$48","v":0.95},0.95,0.95,0.95,0.95,0.95,0.95,0.95,0.95,0.95,{"$f":"$B$48","v":0.95},0.95,0.95,0.95,0.95,0.95,0.95,0.95,0.95,0.95]
[null,null,null,null,null,0.95,0.95,0.95,0.95,0.95,0.95,0.95,0.95,0.95,0.95,0.95,0.95,0.95,0.95,0.95,0.95,0.95,0.95,0.95,0.95,0.95,0.95,0.95,0.95,0.95,0.95,0.95,0.95,0.95,0.95,0.95,0.95,0.95,0.95,0.95,0.95,0.95,0.95,0.95,0.95]
[null,null,null,null,null,0.95,0.95,0.95,0.95,0.95,0.95,0.95,0.95,0.95,0.95,0.95,0.95,0.95,0.95,0.95,0.95,0.95,0.95,0.95,0.95,0.95,0.95,0.95,0.95,0.95,0.95,0.95,0.95,0.95,0.95,0.95,0.95,0.95,0.95,0.95,0.95,0.95,0.95,0.95,0.95]
[null,null,null,null,null,0.95,0.95,0.95,0.95,0.95,0.95,0.95,0.95,0.95,0.95,0.95,0.95,0.95,0.95,0.95,0.95,0.95,0.95,0.95,0.95,0.95,0.95,0.95,0.95,0.95,0.95,0.95,0.95,0.95,0.95,0.95,0.95,0.95,0.95,0.95,0.95,0.95,0.95,0.95,0.95]
[null,null,null,null,null,0.95,0.95,0.95,0.95,0.95,0.95,0.95,0.95,0.95,0.95,0.95,0.95,0.95,0.95,0.95,0.95,0.95,0.95,0.95,0.95,0.95,0.95,0.95,0.95,0.95,0.95,0.95,0.95,0.95,0.95,0.95,0.95,0.95,0.95,0.95,0.95,0.95,0.95,0.95,0.95]
[null,null,null,null,null,0.95,0.95,0.95,0.95,0.95,0.95,0.95,0.95,0.95,0.95,0.95,0.95,0.95,0.95,0.95,0.95,0.95,0.95,0.95,0.95,0.95,0.95,0.95,0.95,0.95,0.95,0.95,0.95,0.95,0.95,0.95,0.95,0.95,0.95,0.95,0.95,0.95,0.95,0.95,0.95]
[null,null,null,null,null,0.95,0.95,0.95,0.95,0.95,0.95,0.95,0.95,0.95,0.95,0.95,0.95,0.95,0.95,0.95,0.95,0.95,0.95,0.95,0.95,0.95,0.95,0.95,0.95,0.95,0.95,0.95,0.95,0.95,0.95,0.95,0.95,0.95,0.95,0.95,0.95,0.95,0.95,0.95,0.95]
[null,null,null,null,null,0.95,0.95,0.95,0.95,0.95,0.95,0.95,0.95,0.95,0.95,0.95,0.95,0.95,0.95,0.95,0.95,0.95,0.95,0.95,0.95,0.95,0.95,0.95,0.95,0.95,0.95,0.95,0.95,0.95,0.95,0.95,0.95,0.95,0.95,0.95,0.95,0.95,0.95,0.95,0.95]
[null,null,null,null,null,0.95,0.95,0.95,0.95,0.95,0.95,0.95,0.95,0.95,0.95,0.95,0.95,0.95,0.95,0.95,0.95,0.95,0.95,0.95,0.95,0.95,0.95,0.95,0.95,0.95,0.95,0.95,0.95,0.95,0.95,0.95,0.95,0.95,0.95,0.95,0.95,0.95,0.95,0.95,0.95]
[null,null,null,null,"Toe Drain",0.95,0.95,0.95,0.95,0.95,0.95,0.95,0.95,0.95,0.95,0.95,0.95,0.95,0.95,0.95,0.95,0.95,0.95,0.95,0.95,0.95,0.95,0.95,0.95,0.95,0.95,0.95,0.95,0.95,0.95,0.95,0.95,0.95,0.95,0.95,0.95,0.95,0.95,0.95,0.95]
[null,null,null,null,null,null,null,null,null,null,null,null,null,null,null,null,null,null,"Bottom (Base) and Underlying Groundwater System"]

{"sheet":"Simulator","index":1,"n_rows":234,"n_cols":42,"rows_kept":234,"cut":false,"hidden":false,"merged":[]}
[{"$f":"Input!A1","v":"MDAG Dynamic ARD-Onset Simulator Version 1.0"}]
[{"$f":"Input!A2","v":"K. Morin, July 2017"}]
[]
[]
[]
[null,"Time Stepping"]
[null,"  (To Reset, Enter \"0\" as the Value of Elapsed Weeks)"]
[]
[]
[]
[]
[]
[]
[]
[]
[]
[]
[]
[]
["Elapsed Time (Wks) =",0,null,"Title=",null,{"$f":"Input!$B$7","v":"First Sim"}]
["Elapsed Time (Yrs) =",{"$f":"B20/52","v":0},null,null,null,null,null,null,null,null,null,null,null,null,null,null,null,null,null,null,"Top (Surface)"]
["Vertical Cross-Section",null,{"$f":"C90","v":20},20,20,20,20,20,20,20,20,20,20,20,20,20,20,20,20,20,20,20,20,20,20,20,20,20,20,20,20,20,20,20,20,20,20,20,20,20,20,20]
[null,null,{"$f":"C91","v":20},20,20,20,20,20,20,20,20,20,20,20,20,20,20,20,20,20,20,20,20,20,20,20,20,20,20,20,20,20,20,20,20,20,20,20,20,20,20,20]
["Initial Avg Net Potential Ratios:",null,{"$f":"C92","v":20},20,20,20,20,20,20,20,20,20,20,20,20,20,20,20,20,20,20,20,20,20,20,20,20,20,20,20,20,20,20,20,20,20,20,20,20,20,20,20]
[{"$f":"\"  [SUM(NP/AP)] by Cell =\"&ROUND(Input!B36,3)","v":"  [SUM(NP/AP)] by Cell =3.2"},null,{"$f":"C93","v":20},20,20,20,20,20,20,20,20,20,20,20,20,20,20,20,20,20,20,20,20,20,20,20,20,20,20,20,20,20,20,20,20,20,20,20,20,20,20,20]
[{"$f":"\"  [SUM(NP)/SUM(AP)] =\"&ROUND(Input!B37,3)","v":"  [SUM(NP)/SUM(AP)] =3.2"},null,{"$f":"C94","v":20},20,20,20,20,20,20,20,20,20,20,20,20,20,20,20,20,20,20,20,20,20,20,20,20,20,20,20,20,20,20,20,20,20,20,20,20,20,20,20]
[{"$f":"\"% Net Acid Generating = \"&ROUND(Input!B38,3)","v":"% Net Acid Generating = 0"},null,{"$f":"C95","v":20},20,20,20,20,20,20,20,20,20,20,20,20,20,20,20,20,20,20,20,20,20,20,20,20,20,20,20,20,20,20,20,20,20,20,20,20,20,20,20]
[null,null,{"$f":"C96","v":20},20,20,20,20,20,20,20,20,20,20,20,20,20,20,20,20,20,20,20,20,20,20,20,20,20,20,20,20,20,20,20,20,20,20,20,20,20,20,20]
[null,"Any Side",{"$f":"C97","v":20},20,20,20,20,20,20,20,20,20,20,20,20,20,20,20,20,20,20,20,20,20,20,20,20,20,20,20,20,20,20,20,20,20,20,20,20,20,20,20]
[null,"Discharges",{"$f":"C98","v":20},20,20,20,20,20,20,20,20,20,20,20,20,20,20,20,20,20,20,20,20,20,20,20,20,20,20,20,20,20,20,20,20,20,20,20,20,20,20,20]
[null,null,{"$f":"C99","v":20},20,20,20,20,20,20,20,20,20,20,20,20,20,20,20,20,20,20,20,20,20,20,20,20,20,20,20,20,20,20,20,20,20,20,20,20,20,20,20]
["(Angled Hatched Fill= NAG Cell)",null,{"$f":"C100","v":20},20,20,20,20,20,20,20,20,20,20,20,20,20,20,20,20,20,20,20,20,20,20,20,20,20,20,20,20,20,20,20,20,20,20,20,20,20,20,20]
["(No Hatching = NAN Cell)",null,{"$f":"C101","v":20},20,20,20,20,20,20,20,20,20,20,20,20,20,20,20,20,20,20,20,20,20,20,20,20,20,20,20,20,20,20,20,20,20,20,20,20,20,20,20]
["(Stippled Fill = Non-Oxidizing Cell)",null,{"$f":"C102","v":20},20,20,20,20,20,20,20,20,20,20,20,20,20,20,20,20,20,20,20,20,20,20,20,20,20,20,20,20,20,20,20,20,20,20,20,20,20,20,20]
["(Green = No net acidity; near neutral)",null,{"$f":"C103","v":20},20,20,20,20,20,20,20,20,20,20,20,20,20,20,20,20,20,20,20,20,20,20,20,20,20,20,20,20,20,20,20,20,20,20,20,20,20,20,20]
["(Red = Net acidity; acidic)",null,{"$f":"C104","v":20},20,20,20,20,20,20,20,20,20,20,20,20,20,20,20,20,20,20,20,20,20,20,20,20,20,20,20,20,20,20,20,20,20,20,20,20,20,20,20]
[null,null,{"$f":"C105","v":20},20,20,20,20,20,20,20,20,20,20,20,20,20,20,20,20,20,20,20,20,20,20,20,20,20,20,20,20,20,20,20,20,20,20,20,20,20,20,20]
[null,null,{"$f":"C106","v":20},20,20,20,20,20,20,20,20,20,20,20,20,20,20,20,20,20,20,20,20,20,20,20,20,20,20,20,20,20,20,20,20,20,20,20,20,20,20,20]
[null,null,{"$f":"C107","v":20},20,20,20,20,20,20,20,20,20,20,20,20,20,20,20,20,20,20,20,20,20,20,20,20,20,20,20,20,20,20,20,20,20,20,20,20,20,20,20]
[null,null,{"$f":"C108","v":20},20,20,20,20,20,20,20,20,20,20,20,20,20,20,20,20,20,20,20,20,20,20,20,20,20,20,20,20,20,20,20,20,20,20,20,20,20,20,20]
[null,"Toe Drain",{"$f":"C109","v":20},20,20,20,20,20,20,20,20,20,20,20,20,20,20,20,20,20,20,20,20,20,20,20,20,20,20,20,20,20,20,20,20,20,20,20,20,20,20,20]
[null,null,null,null,null,null,null,null,null,null,null,null,null,null,null,null,null,"Bottom (Base) and Underlying Groundwater System"]
[]
[]
[]
[]
[]
[]
[]
[]
[]
["Temporary Calculations (DO NOT Alter)"]
["Net-Acid-Generating Rock"]
["Rate of Acidity Generation for NAG Rock (mg CaCO3/kg/wk) =",{"$f":"Input!B14","v":100}]
["Ratio of Rate of NP Consumption / Rate of Acid Generation (NPR Criterion)=",{"$f":"Input!B15","v":2}]
["Rate of NP Consumption for NAG Rock (mg CaCO3/kg/wk) =",{"$f":"Input!B16","v":200}]
["Channelling Ratio",{"$f":"Input!B17","v":1}]
["Adjusted Rate of Acidity Release for NAG Rock When Acidic (mg CaCO3/kg/wk) =",{"$f":"Input!B18","v":100}]
[]
["Net-Acid-Neutralizing Rock"]
["Rate of Acidity Generation for NAN Rock (mg CaCO3/kg/wk) =",{"$f":"Input!B27","v":10}]
["Ratio of Rate of NP Consumption / Rate of Acid Generation (NPR Criterion)=",{"$f":"Input!B28","v":2}]
["Rate of NP Consumption for NAN Rock (mg CaCO3/kg/wk) =",{"$f":"Input!B29","v":20}]
["Channelling Ratio",{"$f":"Input!B30","v":1}]
["Adjusted Rate of Acidity Release for NAN Rock When Acidic (mg CaCO3/kg/wk) =",{"$f":"Input!B31","v":10}]
[]
[]
["NAG vs. NAN Map",null,{"$f":"Input!F11","v":1},{"$f":"Input!G11","v":1},{"$f":"Input!H11","v":1},{"$f":"Input!I11","v":1},{"$f":"Input!J11","v":1},{"$f":"Input!K11","v":1},{"$f":"Input!L11","v":1},{"$f":"Input!M11","v":1},{"$f":"Input!N11","v":1},{"$f":"Input!O11","v":1},{"$f":"Input!P11","v":1},{"$f":"Input!Q11","v":1},{"$f":"Input!R11","v":1},{"$f":"Input!S11","v":1},{"$f":"Input!T11","v":1},{"$f":"Input!U11","v":1},{"$f":"Input!V11","v":1},{"$f":"Input!W11","v":1},{"$f":"Input!X11","v":1},{"$f":"Input!Y11","v":1},{"$f":"Input!Z11","v":1},{"$f":"Input!AA11","v":1},{"$f":"Input!AB11","v":1},{"$f":"Input!AC11","v":1},{"$f":"Input!AD11","v":1},{"$f":"Input!AE11","v":1},{"$f":"Input!AF11","v":1},{"$f":"Input!AG11","v":1},{"$f":"Input!AH11","v":1},{"$f":"Input!AI11","v":1},{"$f":"Input!AJ11","v":1},{"$f":"Input!AK11","v":1},{"$f":"Input!AL11","v":1},{"$f":"Input!AM11","v":1},{"$f":"Input!AN11","v":1},{"$f":"Input!AO11","v":1},{"$f":"Input!AP11","v":1},{"$f":"Input!AQ11","v":1},{"$f":"Input!AR11","v":1},{"$f":"Input!AS11","v":1}]
[null,null,{"$f":"Input!F12","v":1},{"$f":"Input!G12","v":1},{"$f":"Input!H12","v":1},{"$f":"Input!I12","v":1},{"$f":"Input!J12","v":1},{"$f":"Input!K12","v":1},{"$f":"Input!L12","v":1},{"$f":"Input!M12","v":1},{"$f":"Input!N12","v":1},{"$f":"Input!O12","v":1},{"$f":"Input!P12","v":1},{"$f":"Input!Q12","v":1},{"$f":"Input!R12","v":1},{"$f":"Input!S12","v":1},{"$f":"Input!T12","v":1},{"$f":"Input!U12","v":1},{"$f":"Input!V12","v":1},{"$f":"Input!W12","v":1},{"$f":"Input!X12","v":1},{"$f":"Input!Y12","v":1},{"$f":"Input!Z12","v":1},{"$f":"Input!AA12","v":1},{"$f":"Input!AB12","v":1},{"$f":"Input!AC12","v":1},{"$f":"Input!AD12","v":1},{"$f":"Input!AE12","v":1},{"$f":"Input!AF12","v":1},{"$f":"Input!AG12","v":1},{"$f":"Input!AH12","v":1},{"$f":"Input!AI12","v":1},{"$f":"Input!AJ12","v":1},{"$f":"Input!AK12","v":1},{"$f":"Input!AL12","v":1},{"$f":"Input!AM12","v":1},{"$f":"Input!AN12","v":1},{"$f":"Input!AO12","v":1},{"$f":"Input!AP12","v":1},{"$f":"Input!AQ12","v":1},{"$f":"Input!AR12","v":1},{"$f":"Input!AS12","v":1}]
[null,null,{"$f":"Input!F13","v":1},{"$f":"Input!G13","v":1},{"$f":"Input!H13","v":1},{"$f":"Input!I13","v":1},{"$f":"Input!J13","v":1},{"$f":"Input!K13","v":1},{"$f":"Input!L13","v":1},{"$f":"Input!M13","v":1},{"$f":"Input!N13","v":1},{"$f":"Input!O13","v":1},{"$f":"Input!P13","v":1},{"$f":"Input!Q13","v":1},{"$f":"Input!R13","v":1},{"$f":"Input!S13","v":1},{"$f":"Input!T13","v":1},{"$f":"Input!U13","v":1},{"$f":"Input!V13","v":1},{"$f":"Input!W13","v":1},{"$f":"Input!X13","v":1},{"$f":"Input!Y13","v":1},{"$f":"Input!Z13","v":1},{"$f":"Input!AA13","v":1},{"$f":"Input!AB13","v":1},{"$f":"Input!AC13","v":1},{"$f":"Input!AD13","v":1},{"$f":"Input!AE13","v":1},{"$f":"Input!AF13","v":1},{"$f":"Input!AG13","v":1},{"$f":"Input!AH13","v":1},{"$f":"Input!AI13","v":1},{"$f":"Input!AJ13","v":1},{"$f":"Input!AK13","v":1},{"$f":"Input!AL13","v":1},{"$f":"Input!AM13","v":1},{"$f":"Input!AN13","v":1},{"$f":"Input!AO13","v":1},{"$f":"Input!AP13","v":1},{"$f":"Input!AQ13","v":1},{"$f":"Input!AR13","v":1},{"$f":"Input!AS13","v":1}]
[null,null,{"$f":"Input!F14","v":1},{"$f":"Input!G14","v":1},{"$f":"Input!H14","v":1},{"$f":"Input!I14","v":1},{"$f":"Input!J14","v":1},{"$f":"Input!K14","v":1},{"$f":"Input!L14","v":1},{"$f":"Input!M14","v":1},{"$f":"Input!N14","v":1},{"$f":"Input!O14","v":1},{"$f":"Input!P14","v":1},{"$f":"Input!Q14","v":1},{"$f":"Input!R14","v":1},{"$f":"Input!S14","v":1},{"$f":"Input!T14","v":1},{"$f":"Input!U14","v":1},{"$f":"Input!V14","v":1},{"$f":"Input!W14","v":1},{"$f":"Input!X14","v":1},{"$f":"Input!Y14","v":1},{"$f":"Input!Z14","v":1},{"$f":"Input!AA14","v":1},{"$f":"Input!AB14","v":1},{"$f":"Input!AC14","v":1},{"$f":"Input!AD14","v":1},{"$f":"Input!AE14","v":1},{"$f":"Input!AF14","v":1},{"$f":"Input!AG14","v":1},{"$f":"Input!AH14","v":1},{"$f":"Input!AI14","v":1},{"$f":"Input!AJ14","v":1},{"$f":"Input!AK14","v":1},{"$f":"Input!AL14","v":1},{"$f":"Input!AM14","v":1},{"$f":"Input!AN14","v":1},{"$f":"Input!AO14","v":1},{"$f":"Input!AP14","v":1},{"$f":"Input!AQ14","v":1},{"$f":"Input!AR14","v":1},{"$f":"Input!AS14","v":1}]
[null,null,{"$f":"Input!F15","v":1},{"$f":"Input!G15","v":1},{"$f":"Input!H15","v":1},{"$f":"Input!I15","v":1},{"$f":"Input!J15","v":1},{"$f":"Input!K15","v":1},{"$f":"Input!L15","v":1},{"$f":"Input!M15","v":1},{"$f":"Input!N15","v":1},{"$f":"Input!O15","v":1},{"$f":"Input!P15","v":1},{"$f":"Input!Q15","v":1},{"$f":"Input!R15","v":1},{"$f":"Input!S15","v":1},{"$f":"Input!T15","v":1},{"$f":"Input!U15","v":1},{"$f":"Input!V15","v":1},{"$f":"Input!W15","v":1},{"$f":"Input!X15","v":1},{"$f":"Input!Y15","v":1},{"$f":"Input!Z15","v":1},{"$f":"Input!AA15","v":1},{"$f":"Input!AB15","v":1},{"$f":"Input!AC15","v":1},{"$f":"Input!AD15","v":1},{"$f":"Input!AE15","v":1},{"$f":"Input!AF15","v":1},{"$f":"Input!AG15","v":1},{"$f":"Input!AH15","v":1},{"$f":"Input!AI15","v":1},{"$f":"Input!AJ15","v":1},{"$f":"Input!AK15","v":1},{"$f":"Input!AL15","v":1},{"$f":"Input!AM15","v":1},{"$f":"Input!AN15","v":1},{"$f":"Input!AO15","v":1},{"$f":"Input!AP15","v":1},{"$f":"Input!AQ15","v":1},{"$f":"Input!AR15","v":1},{"$f":"Input!AS15","v":1}]
[null,null,{"$f":"Input!F16","v":1},{"$f":"Input!G16","v":1},{"$f":"Input!H16","v":1},{"$f":"Input!I16","v":1},{"$f":"Input!J16","v":1},{"$f":"Input!K16","v":1},{"$f":"Input!L16","v":1},{"$f":"Input!M16","v":1},{"$f":"Input!N16","v":1},{"$f":"Input!O16","v":1},{"$f":"Input!P16","v":1},{"$f":"Input!Q16","v":1},{"$f":"Input!R16","v":1},{"$f":"Input!S16","v":1},{"$f":"Input!T16","v":1},{"$f":"Input!U16","v":1},{"$f":"Input!V16","v":1},{"$f":"Input!W16","v":1},{"$f":"Input!X16","v":1},{"$f":"Input!Y16","v":1},{"$f":"Input!Z16","v":1},{"$f":"Input!AA16","v":1},{"$f":"Input!AB16","v":1},{"$f":"Input!AC16","v":1},{"$f":"Input!AD16","v":1},{"$f":"Input!AE16","v":1},{"$f":"Input!AF16","v":1},{"$f":"Input!AG16","v":1},{"$f":"Input!AH16","v":1},{"$f":"Input!AI16","v":1},{"$f":"Input!AJ16","v":1},{"$f":"Input!AK16","v":1},{"$f":"Input!AL16","v":1},{"$f":"Input!AM16","v":1},{"$f":"Input!AN16","v":1},{"$f":"Input!AO16","v":1},{"$f":"Input!AP16","v":1},{"$f":"Input!AQ16","v":1},{"$f":"Input!AR16","v":1},{"$f":"Input!AS16","v":1}]
[null,null,{"$f":"Input!F17","v":1},{"$f":"Input!G17","v":1},{"$f":"Input!H17","v":1},{"$f":"Input!I17","v":1},{"$f":"Input!J17","v":1},{"$f":"Input!K17","v":1},{"$f":"Input!L17","v":1},{"$f":"Input!M17","v":1},{"$f":"Input!N17","v":1},{"$f":"Input!O17","v":1},{"$f":"Input!P17","v":1},{"$f":"Input!Q17","v":1},{"$f":"Input!R17","v":1},{"$f":"Input!S17","v":1},{"$f":"Input!T17","v":1},{"$f":"Input!U17","v":1},{"$f":"Input!V17","v":1},{"$f":"Input!W17","v":1},{"$f":"Input!X17","v":1},{"$f":"Input!Y17","v":1},{"$f":"Input!Z17","v":1},{"$f":"Input!AA17","v":1},{"$f":"Input!AB17","v":1},{"$f":"Input!AC17","v":1},{"$f":"Input!AD17","v":1},{"$f":"Input!AE17","v":1},{"$f":"Input!AF17","v":1},{"$f":"Input!AG17","v":1},{"$f":"Input!AH17","v":1},{"$f":"Input!AI17","v":1},{"$f":"Input!AJ17","v":1},{"$f":"Input!AK17","v":1},{"$f":"Input!AL17","v":1},{"$f":"Input!AM17","v":1},{"$f":"Input!AN17","v":1},{"$f":"Input!AO17","v":1},{"$f":"Input!AP17","v":1},{"$f":"Input!AQ17","v":1},{"$f":"Input!AR17","v":1},{"$f":"Input!AS17","v":1}]
[null,null,{"$f":"Input!F18","v":1},{"$f":"Input!G18","v":1},{"$f":"Input!H18","v":1},{"$f":"Input!I18","v":1},{"$f":"Input!J18","v":1},{"$f":"Input!K18","v":1},{"$f":"Input!L18","v":1},{"$f":"Input!M18","v":1},{"$f":"Input!N18","v":1},{"$f":"Input!O18","v":1},{"$f":"Input!P18","v":1},{"$f":"Input!Q18","v":1},{"$f":"Input!R18","v":1},{"$f":"Input!S18","v":1},{"$f":"Input!T18","v":1},{"$f":"Input!U18","v":1},{"$f":"Input!V18","v":1},{"$f":"Input!W18","v":1},{"$f":"Input!X18","v":1},{"$f":"Input!Y18","v":1},{"$f":"Input!Z18","v":1},{"$f":"Input!AA18","v":1},{"$f":"Input!AB18","v":1},{"$f":"Input!AC18","v":1},{"$f":"Input!AD18","v":1},{"$f":"Input!AE18","v":1},{"$f":"Input!AF18","v":1},{"$f":"Input!AG18","v":1},{"$f":"Input!AH18","v":1},{"$f":"Input!AI18","v":1},{"$f":"Input!AJ18","v":1},{"$f":"Input!AK18","v":1},{"$f":"Input!AL18","v":1},{"$f":"Input!AM18","v":1},{"$f":"Input!AN18","v":1},{"$f":"Input!AO18","v":1},{"$f":"Input!AP18","v":1},{"$f":"Input!AQ18","v":1},{"$f":"Input!AR18","v":1},{"$f":"Input!AS18","v":1}]
[null,null,{"$f":"Input!F19","v":1},{"$f":"Input!G19","v":1},{"$f":"Input!H19","v":1},{"$f":"Input!I19","v":1},{"$f":"Input!J19","v":1},{"$f":"Input!K19","v":1},{"$f":"Input!L19","v":1},{"$f":"Input!M19","v":1},{"$f":"Input!N19","v":1},{"$f":"Input!O19","v":1},{"$f":"Input!P19","v":1},{"$f":"Input!Q19","v":1},{"$f":"Input!R19","v":1},{"$f":"Input!S19","v":1},{"$f":"Input!T19","v":1},{"$f":"Input!U19","v":1},{"$f":"Input!V19","v":1},{"$f":"Input!W19","v":1},{"$f":"Input!X19","v":1},{"$f":"Input!Y19","v":1},{"$f":"Input!Z19","v":1},{"$f":"Input!AA19","v":1},{"$f":"Input!AB19","v":1},{"$f":"Input!AC19","v":1},{"$f":"Input!AD19","v":1},{"$f":"Input!AE19","v":1},{"$f":"Input!AF19","v":1},{"$f":"Input!AG19","v":1},{"$f":"Input!AH19","v":1},{"$f":"Input!AI19","v":1},{"$f":"Input!AJ19","v":1},{"$f":"Input!AK19","v":1},{"$f":"Input!AL19","v":1},{"$f":"Input!AM19","v":1},{"$f":"Input!AN19","v":1},{"$f":"Input!AO19","v":1},{"$f":"Input!AP19","v":1},{"$f":"Input!AQ19","v":1},{"$f":"Input!AR19","v":1},{"$f":"Input!AS19","v":1}]
[null,null,{"$f":"Input!F20","v":1},{"$f":"Input!G20","v":1},{"$f":"Input!H20","v":1},{"$f":"Input!I20","v":1},{"$f":"Input!J20","v":1},{"$f":"Input!K20","v":1},{"$f":"Input!L20","v":1},{"$f":"Input!M20","v":1},{"$f":"Input!N20","v":1},{"$f":"Input!O20","v":1},{"$f":"Input!P20","v":1},{"$f":"Input!Q20","v":1},{"$f":"Input!R20","v":1},{"$f":"Input!S20","v":1},{"$f":"Input!T20","v":1},{"$f":"Input!U20","v":1},{"$f":"Input!V20","v":1},{"$f":"Input!W20","v":1},{"$f":"Input!X20","v":1},{"$f":"Input!Y20","v":1},{"$f":"Input!Z20","v":1},{"$f":"Input!AA20","v":1},{"$f":"Input!AB20","v":1},{"$f":"Input!AC20","v":1},{"$f":"Input!AD20","v":1},{"$f":"Input!AE20","v":1},{"$f":"Input!AF20","v":1},{"$f":"Input!AG20","v":1},{"$f":"Input!AH20","v":1},{"$f":"Input!AI20","v":1},{"$f":"Input!AJ20","v":1},{"$f":"Input!AK20","v":1},{"$f":"Input!AL20","v":1},{"$f":"Input!AM20","v":1},{"$f":"Input!AN20","v":1},{"$f":"Input!AO20","v":1},{"$f":"Input!AP20","v":1},{"$f":"Input!AQ20","v":1},{"$f":"Input!AR20","v":1},{"$f":"Input!AS20","v":1}]
[null,null,{"$f":"Input!F21","v":1},{"$f":"Input!G21","v":1},{"$f":"Input!H21","v":1},{"$f":"Input!I21","v":1},{"$f":"Input!J21","v":1},{"$f":"Input!K21","v":1},{"$f":"Input!L21","v":1},{"$f":"Input!M21","v":1},{"$f":"Input!N21","v":1},{"$f":"Input!O21","v":1},{"$f":"Input!P21","v":1},{"$f":"Input!Q21","v":1},{"$f":"Input!R21","v":1},{"$f":"Input!S21","v":1},{"$f":"Input!T21","v":1},{"$f":"Input!U21","v":1},{"$f":"Input!V21","v":1},{"$f":"Input!W21","v":1},{"$f":"Input!X21","v":1},{"$f":"Input!Y21","v":1},{"$f":"Input!Z21","v":1},{"$f":"Input!AA21","v":1},{"$f":"Input!AB21","v":1},{"$f":"Input!AC21","v":1},{"$f":"Input!AD21","v":1},{"$f":"Input!AE21","v":1},{"$f":"Input!AF21","v":1},{"$f":"Input!AG21","v":1},{"$f":"Input!AH21","v":1},{"$f":"Input!AI21","v":1},{"$f":"Input!AJ21","v":1},{"$f":"Input!AK21","v":1},{"$f":"Input!AL21","v":1},{"$f":"Input!AM21","v":1},{"$f":"Input!AN21","v":1},{"$f":"Input!AO21","v":1},{"$f":"Input!AP21","v":1},{"$f":"Input!AQ21","v":1},{"$f":"Input!AR21","v":1},{"$f":"Input!AS21","v":1}]
[null,null,{"$f":"Input!F22","v":1},{"$f":"Input!G22","v":1},{"$f":"Input!H22","v":1},{"$f":"Input!I22","v":1},{"$f":"Input!J22","v":1},{"$f":"Input!K22","v":1},{"$f":"Input!L22","v":1},{"$f":"Input!M22","v":1},{"$f":"Input!N22","v":1},{"$f":"Input!O22","v":1},{"$f":"Input!P22","v":1},{"$f":"Input!Q22","v":1},{"$f":"Input!R22","v":1},{"$f":"Input!S22","v":1},{"$f":"Input!T22","v":1},{"$f":"Input!U22","v":1},{"$f":"Input!V22","v":1},{"$f":"Input!W22","v":1},{"$f":"Input!X22","v":1},{"$f":"Input!Y22","v":1},{"$f":"Input!Z22","v":1},{"$f":"Input!AA22","v":1},{"$f":"Input!AB22","v":1},{"$f":"Input!AC22","v":1},{"$f":"Input!AD22","v":1},{"$f":"Input!AE22","v":1},{"$f":"Input!AF22","v":1},{"$f":"Input!AG22","v":1},{"$f":"Input!AH22","v":1},{"$f":"Input!AI22","v":1},{"$f":"Input!AJ22","v":1},{"$f":"Input!AK22","v":1},{"$f":"Input!AL22","v":1},{"$f":"Input!AM22","v":1},{"$f":"Input!AN22","v":1},{"$f":"Input!AO22","v":1},{"$f":"Input!AP22","v":1},{"$f":"Input!AQ22","v":1},{"$f":"Input!AR22","v":1},{"$f":"Input!AS22","v":1}]
[null,null,{"$f":"Input!F23","v":1},{"$f":"Input!G23","v":1},{"$f":"Input!H23","v":1},{"$f":"Input!I23","v":1},{"$f":"Input!J23","v":1},{"$f":"Input!K23","v":1},{"$f":"Input!L23","v":1},{"$f":"Input!M23","v":1},{"$f":"Input!N23","v":1},{"$f":"Input!O23","v":1},{"$f":"Input!P23","v":1},{"$f":"Input!Q23","v":1},{"$f":"Input!R23","v":1},{"$f":"Input!S23","v":1},{"$f":"Input!T23","v":1},{"$f":"Input!U23","v":1},{"$f":"Input!V23","v":1},{"$f":"Input!W23","v":1},{"$f":"Input!X23","v":1},{"$f":"Input!Y23","v":1},{"$f":"Input!Z23","v":1},{"$f":"Input!AA23","v":1},{"$f":"Input!AB23","v":1},{"$f":"Input!AC23","v":1},{"$f":"Input!AD23","v":1},{"$f":"Input!AE23","v":1},{"$f":"Input!AF23","v":1},{"$f":"Input!AG23","v":1},{"$f":"Input!AH23","v":1},{"$f":"Input!AI23","v":1},{"$f":"Input!AJ23","v":1},{"$f":"Input!AK23","v":1},{"$f":"Input!AL23","v":1},{"$f":"Input!AM23","v":1},{"$f":"Input!AN23","v":1},{"$f":"Input!AO23","v":1},{"$f":"Input!AP23","v":1},{"$f":"Input!AQ23","v":1},{"$f":"Input!AR23","v":1},{"$f":"Input!AS23","v":1}]
[null,null,{"$f":"Input!F24","v":1},{"$f":"Input!G24","v":1},{"$f":"Input!H24","v":1},{"$f":"Input!I24","v":1},{"$f":"Input!J24","v":1},{"$f":"Input!K24","v":1},{"$f":"Input!L24","v":1},{"$f":"Input!M24","v":1},{"$f":"Input!N24","v":1},{"$f":"Input!O24","v":1},{"$f":"Input!P24","v":1},{"$f":"Input!Q24","v":1},{"$f":"Input!R24","v":1},{"$f":"Input!S24","v":1},{"$f":"Input!T24","v":1},{"$f":"Input!U24","v":1},{"$f":"Input!V24","v":1},{"$f":"Input!W24","v":1},{"$f":"Input!X24","v":1},{"$f":"Input!Y24","v":1},{"$f":"Input!Z24","v":1},{"$f":"Input!AA24","v":1},{"$f":"Input!AB24","v":1},{"$f":"Input!AC24","v":1},{"$f":"Input!AD24","v":1},{"$f":"Input!AE24","v":1},{"$f":"Input!AF24","v":1},{"$f":"Input!AG24","v":1},{"$f":"Input!AH24","v":1},{"$f":"Input!AI24","v":1},{"$f":"Input!AJ24","v":1},{"$f":"Input!AK24","v":1},{"$f":"Input!AL24","v":1},{"$f":"Input!AM24","v":1},{"$f":"Input!AN24","v":1},{"$f":"Input!AO24","v":1},{"$f":"Input!AP24","v":1},{"$f":"Input!AQ24","v":1},{"$f":"Input!AR24","v":1},{"$f":"Input!AS24","v":1}]
[null,null,{"$f":"Input!F25","v":1},{"$f":"Input!G25","v":1},{"$f":"Input!H25","v":1},{"$f":"Input!I25","v":1},{"$f":"Input!J25","v":1},{"$f":"Input!K25","v":1},{"$f":"Input!L25","v":1},{"$f":"Input!M25","v":1},{"$f":"Input!N25","v":1},{"$f":"Input!O25","v":1},{"$f":"Input!P25","v":1},{"$f":"Input!Q25","v":1},{"$f":"Input!R25","v":1},{"$f":"Input!S25","v":1},{"$f":"Input!T25","v":1},{"$f":"Input!U25","v":1},{"$f":"Input!V25","v":1},{"$f":"Input!W25","v":1},{"$f":"Input!X25","v":1},{"$f":"Input!Y25","v":1},{"$f":"Input!Z25","v":1},{"$f":"Input!AA25","v":1},{"$f":"Input!AB25","v":1},{"$f":"Input!AC25","v":1},{"$f":"Input!AD25","v":1},{"$f":"Input!AE25","v":1},{"$f":"Input!AF25","v":1},{"$f":"Input!AG25","v":1},{"$f":"Input!AH25","v":1},{"$f":"Input!AI25","v":1},{"$f":"Input!AJ25","v":1},{"$f":"Input!AK25","v":1},{"$f":"Input!AL25","v":1},{"$f":"Input!AM25","v":1},{"$f":"Input!AN25","v":1},{"$f":"Input!AO25","v":1},{"$f":"Input!AP25","v":1},{"$f":"Input!AQ25","v":1},{"$f":"Input!AR25","v":1},{"$f":"Input!AS25","v":1}]
[null,null,{"$f":"Input!F26","v":1},{"$f":"Input!G26","v":1},{"$f":"Input!H26","v":1},{"$f":"Input!I26","v":1},{"$f":"Input!J26","v":1},{"$f":"Input!K26","v":1},{"$f":"Input!L26","v":1},{"$f":"Input!M26","v":1},{"$f":"Input!N26","v":1},{"$f":"Input!O26","v":1},{"$f":"Input!P26","v":1},{"$f":"Input!Q26","v":1},{"$f":"Input!R26","v":1},{"$f":"Input!S26","v":1},{"$f":"Input!T26","v":1},{"$f":"Input!U26","v":1},{"$f":"Input!V26","v":1},{"$f":"Input!W26","v":1},{"$f":"Input!X26","v":1},{"$f":"Input!Y26","v":1},{"$f":"Input!Z26","v":1},{"$f":"Input!AA26","v":1},{"$f":"Input!AB26","v":1},{"$f":"Input!AC26","v":1},{"$f":"Input!AD26","v":1},{"$f":"Input!AE26","v":1},{"$f":"Input!AF26","v":1},{"$f":"Input!AG26","v":1},{"$f":"Input!AH26","v":1},{"$f":"Input!AI26","v":1},{"$f":"Input!AJ26","v":1},{"$f":"Input!AK26","v":1},{"$f":"Input!AL26","v":1},{"$f":"Input!AM26","v":1},{"$f":"Input!AN26","v":1},{"$f":"Input!AO26","v":1},{"$f":"Input!AP26","v":1},{"$f":"Input!AQ26","v":1},{"$f":"Input!AR26","v":1},{"$f":"Input!AS26","v":1}]
[null,null,{"$f":"Input!F27","v":1},{"$f":"Input!G27","v":1},{"$f":"Input!H27","v":1},{"$f":"Input!I27","v":1},{"$f":"Input!J27","v":1},{"$f":"Input!K27","v":1},{"$f":"Input!L27","v":1},{"$f":"Input!M27","v":1},{"$f":"Input!N27","v":1},{"$f":"Input!O27","v":1},{"$f":"Input!P27","v":1},{"$f":"Input!Q27","v":1},{"$f":"Input!R27","v":1},{"$f":"Input!S27","v":1},{"$f":"Input!T27","v":1},{"$f":"Input!U27","v":1},{"$f":"Input!V27","v":1},{"$f":"Input!W27","v":1},{"$f":"Input!X27","v":1},{"$f":"Input!Y27","v":1},{"$f":"Input!Z27","v":1},{"$f":"Input!AA27","v":1},{"$f":"Input!AB27","v":1},{"$f":"Input!AC27","v":1},{"$f":"Input!AD27","v":1},{"$f":"Input!AE27","v":1},{"$f":"Input!AF27","v":1},{"$f":"Input!AG27","v":1},{"$f":"Input!AH27","v":1},{"$f":"Input!AI27","v":1},{"$f":"Input!AJ27","v":1},{"$f":"Input!AK27","v":1},{"$f":"Input!AL27","v":1},{"$f":"Input!AM27","v":1},{"$f":"Input!AN27","v":1},{"$f":"Input!AO27","v":1},{"$f":"Input!AP27","v":1},{"$f":"Input!AQ27","v":1},{"$f":"Input!AR27","v":1},{"$f":"Input!AS27","v":1}]
[null,null,{"$f":"Input!F28","v":1},{"$f":"Input!G28","v":1},{"$f":"Input!H28","v":1},{"$f":"Input!I28","v":1},{"$f":"Input!J28","v":1},{"$f":"Input!K28","v":1},{"$f":"Input!L28","v":1},{"$f":"Input!M28","v":1},{"$f":"Input!N28","v":1},{"$f":"Input!O28","v":1},{"$f":"Input!P28","v":1},{"$f":"Input!Q28","v":1},{"$f":"Input!R28","v":1},{"$f":"Input!S28","v":1},{"$f":"Input!T28","v":1},{"$f":"Input!U28","v":1},{"$f":"Input!V28","v":1},{"$f":"Input!W28","v":1},{"$f":"Input!X28","v":1},{"$f":"Input!Y28","v":1},{"$f":"Input!Z28","v":1},{"$f":"Input!AA28","v":1},{"$f":"Input!AB28","v":1},{"$f":"Input!AC28","v":1},{"$f":"Input!AD28","v":1},{"$f":"Input!AE28","v":1},{"$f":"Input!AF28","v":1},{"$f":"Input!AG28","v":1},{"$f":"Input!AH28","v":1},{"$f":"Input!AI28","v":1},{"$f":"Input!AJ28","v":1},{"$f":"Input!AK28","v":1},{"$f":"Input!AL28","v":1},{"$f":"Input!AM28","v":1},{"$f":"Input!AN28","v":1},{"$f":"Input!AO28","v":1},{"$f":"Input!AP28","v":1},{"$f":"Input!AQ28","v":1},{"$f":"Input!AR28","v":1},{"$f":"Input!AS28","v":1}]
[null,null,{"$f":"Input!F29","v":1},{"$f":"Input!G29","v":1},{"$f":"Input!H29","v":1},{"$f":"Input!I29","v":1},{"$f":"Input!J29","v":1},{"$f":"Input!K29","v":1},{"$f":"Input!L29","v":1},{"$f":"Input!M29","v":1},{"$f":"Input!N29","v":1},{"$f":"Input!O29","v":1},{"$f":"Input!P29","v":1},{"$f":"Input!Q29","v":1},{"$f":"Input!R29","v":1},{"$f":"Input!S29","v":1},{"$f":"Input!T29","v":1},{"$f":"Input!U29","v":1},{"$f":"Input!V29","v":1},{"$f":"Input!W29","v":1},{"$f":"Input!X29","v":1},{"$f":"Input!Y29","v":1},{"$f":"Input!Z29","v":1},{"$f":"Input!AA29","v":1},{"$f":"Input!AB29","v":1},{"$f":"Input!AC29","v":1},{"$f":"Input!AD29","v":1},{"$f":"Input!AE29","v":1},{"$f":"Input!AF29","v":1},{"$f":"Input!AG29","v":1},{"$f":"Input!AH29","v":1},{"$f":"Input!AI29","v":1},{"$f":"Input!AJ29","v":1},{"$f":"Input!AK29","v":1},{"$f":"Input!AL29","v":1},{"$f":"Input!AM29","v":1},{"$f":"Input!AN29","v":1},{"$f":"Input!AO29","v":1},{"$f":"Input!AP29","v":1},{"$f":"Input!AQ29","v":1},{"$f":"Input!AR29","v":1},{"$f":"Input!AS29","v":1}]
[null,null,{"$f":"Input!F30","v":1},{"$f":"Input!G30","v":1},{"$f":"Input!H30","v":1},{"$f":"Input!I30","v":1},{"$f":"Input!J30","v":1},{"$f":"Input!K30","v":1},{"$f":"Input!L30","v":1},{"$f":"Input!M30","v":1},{"$f":"Input!N30","v":1},{"$f":"Input!O30","v":1},{"$f":"Input!P30","v":1},{"$f":"Input!Q30","v":1},{"$f":"Input!R30","v":1},{"$f":"Input!S30","v":1},{"$f":"Input!T30","v":1},{"$f":"Input!U30","v":1},{"$f":"Input!V30","v":1},{"$f":"Input!W30","v":1},{"$f":"Input!X30","v":1},{"$f":"Input!Y30","v":1},{"$f":"Input!Z30","v":1},{"$f":"Input!AA30","v":1},{"$f":"Input!AB30","v":1},{"$f":"Input!AC30","v":1},{"$f":"Input!AD30","v":1},{"$f":"Input!AE30","v":1},{"$f":"Input!AF30","v":1},{"$f":"Input!AG30","v":1},{"$f":"Input!AH30","v":1},{"$f":"Input!AI30","v":1},{"$f":"Input!AJ30","v":1},{"$f":"Input!AK30","v":1},{"$f":"Input!AL30","v":1},{"$f":"Input!AM30","v":1},{"$f":"Input!AN30","v":1},{"$f":"Input!AO30","v":1},{"$f":"Input!AP30","v":1},{"$f":"Input!AQ30","v":1},{"$f":"Input!AR30","v":1},{"$f":"Input!AS30","v":1}]
[]
[]
["Interim NP Map",null,{"$f":"IF($B$20>0,IF(C115>0,IF(C68>0,IF(C90>0,C90-($B$63/1000)-C165-C190,0),IF(C90>0,C90-($B$56/1000)-C165-C190,0)),IF(C90>0,C90-C165-C190,0)),Input!F36)","v":20},{"$f":"IF($B$20>0,IF(D115>0,IF(D68>0,IF(D90>0,D90-($B$63/1000)-D165-D190,0),IF(D90>0,D90-($B$56/1000)-D165-D190,0)),IF(D90>0,D90-D165-D190,0)),Input!G36)","v":20},{"$f":"IF($B$20>0,IF(E115>0,IF(E68>0,IF(E90>0,E90-($B$63/1000)-E165-E190,0),IF(E90>0,E90-($B$56/1000)-E165-E190,0)),IF(E90>0,E90-E165-E190,0)),Input!H36)","v":20},{"$f":"IF($B$20>0,IF(F115>0,IF(F68>0,IF(F90>0,F90-($B$63/1000)-F165-F190,0),IF(F90>0,F90-($B$56/1000)-F165-F190,0)),IF(F90>0,F90-F165-F190,0)),Input!I36)","v":20},{"$f":"IF($B$20>0,IF(G115>0,IF(G68>0,IF(G90>0,G90-($B$63/1000)-G165-G190,0),IF(G90>0,G90-($B$56/1000)-G165-G190,0)),IF(G90>0,G90-G165-G190,0)),Input!J36)","v":20},{"$f":"IF($B$20>0,IF(H115>0,IF(H68>0,IF(H90>0,H90-($B$63/1000)-H165-H190,0),IF(H90>0,H90-($B$56/1000)-H165-H190,0)),IF(H90>0,H90-H165-H190,0)),Input!K36)","v":20},{"$f":"IF($B$20>0,IF(I115>0,IF(I68>0,IF(I90>0,I90-($B$63/1000)-I165-I190,0),IF(I90>0,I90-($B$56/1000)-I165-I190,0)),IF(I90>0,I90-I165-I190,0)),Input!L36)","v":20},{"$f":"IF($B$20>0,IF(J115>0,IF(J68>0,IF(J90>0,J90-($B$63/1000)-J165-J190,0),IF(J90>0,J90-($B$56/1000)-J165-J190,0)),IF(J90>0,J90-J165-J190,0)),Input!M36)","v":20},{"$f":"IF($B$20>0,IF(K115>0,IF(K68>0,IF(K90>0,K90-($B$63/1000)-K165-K190,0),IF(K90>0,K90-($B$56/1000)-K165-K190,0)),IF(K90>0,K90-K165-K190,0)),Input!N36)","v":20},{"$f":"IF($B$20>0,IF(L115>0,IF(L68>0,IF(L90>0,L90-($B$63/1000)-L165-L190,0),IF(L90>0,L90-($B$56/1000)-L165-L190,0)),IF(L90>0,L90-L165-L190,0)),Input!O36)","v":20},{"$f":"IF($B$20>0,IF(M115>0,IF(M68>0,IF(M90>0,M90-($B$63/1000)-M165-M190,0),IF(M90>0,M90-($B$56/1000)-M165-M190,0)),IF(M90>0,M90-M165-M190,0)),Input!P36)","v":20},{"$f":"IF($B$20>0,IF(N115>0,IF(N68>0,IF(N90>0,N90-($B$63/1000)-N165-N190,0),IF(N90>0,N90-($B$56/1000)-N165-N190,0)),IF(N90>0,N90-N165-N190,0)),Input!Q36)","v":20},{"$f":"IF($B$20>0,IF(O115>0,IF(O68>0,IF(O90>0,O90-($B$63/1000)-O165-O190,0),IF(O90>0,O90-($B$56/1000)-O165-O190,0)),IF(O90>0,O90-O165-O190,0)),Input!R36)","v":20},{"$f":"IF($B$20>0,IF(P115>0,IF(P68>0,IF(P90>0,P90-($B$63/1000)-P165-P190,0),IF(P90>0,P90-($B$56/1000)-P165-P190,0)),IF(P90>0,P90-P165-P190,0)),Input!S36)","v":20},{"$f":"IF($B$20>0,IF(Q115>0,IF(Q68>0,IF(Q90>0,Q90-($B$63/1000)-Q165-Q190,0),IF(Q90>0,Q90-($B$56/1000)-Q165-Q190,0)),IF(Q90>0,Q90-Q165-Q190,0)),Input!T36)","v":20},{"$f":"IF($B$20>0,IF(R115>0,IF(R68>0,IF(R90>0,R90-($B$63/1000)-R165-R190,0),IF(R90>0,R90-($B$56/1000)-R165-R190,0)),IF(R90>0,R90-R165-R190,0)),Input!U36)","v":20},{"$f":"IF($B$20>0,IF(S115>0,IF(S68>0,IF(S90>0,S90-($B$63/1000)-S165-S190,0),IF(S90>0,S90-($B$56/1000)-S165-S190,0)),IF(S90>0,S90-S165-S190,0)),Input!V36)","v":20},{"$f":"IF($B$20>0,IF(T115>0,IF(T68>0,IF(T90>0,T90-($B$63/1000)-T165-T190,0),IF(T90>0,T90-($B$56/1000)-T165-T190,0)),IF(T90>0,T90-T165-T190,0)),Input!W36)","v":20},{"$f":"IF($B$20>0,IF(U115>0,IF(U68>0,IF(U90>0,U90-($B$63/1000)-U165-U190,0),IF(U90>0,U90-($B$56/1000)-U165-U190,0)),IF(U90>0,U90-U165-U190,0)),Input!X36)","v":20},{"$f":"IF($B$20>0,IF(V115>0,IF(V68>0,IF(V90>0,V90-($B$63/1000)-V165-V190,0),IF(V90>0,V90-($B$56/1000)-V165-V190,0)),IF(V90>0,V90-V165-V190,0)),Input!Y36)","v":20},{"$f":"IF($B$20>0,IF(W115>0,IF(W68>0,IF(W90>0,W90-($B$63/1000)-W165-W190,0),IF(W90>0,W90-($B$56/1000)-W165-W190,0)),IF(W90>0,W90-W165-W190,0)),Input!Z36)","v":20},{"$f":"IF($B$20>0,IF(X115>0,IF(X68>0,IF(X90>0,X90-($B$63/1000)-X165-X190,0),IF(X90>0,X90-($B$56/1000)-X165-X190,0)),IF(X90>0,X90-X165-X190,0)),Input!AA36)","v":20},{"$f":"IF($B$20>0,IF(Y115>0,IF(Y68>0,IF(Y90>0,Y90-($B$63/1000)-Y165-Y190,0),IF(Y90>0,Y90-($B$56/1000)-Y165-Y190,0)),IF(Y90>0,Y90-Y165-Y190,0)),Input!AB36)","v":20},{"$f":"IF($B$20>0,IF(Z115>0,IF(Z68>0,IF(Z90>0,Z90-($B$63/1000)-Z165-Z190,0),IF(Z90>0,Z90-($B$56/1000)-Z165-Z190,0)),IF(Z90>0,Z90-Z165-Z190,0)),Input!AC36)","v":20},{"$f":"IF($B$20>0,IF(AA115>0,IF(AA68>0,IF(AA90>0,AA90-($B$63/1000)-AA165-AA190,0),IF(AA90>0,AA90-($B$56/1000)-AA165-AA190,0)),IF(AA90>0,AA90-AA165-AA190,0)),Input!AD36)","v":20},{"$f":"IF($B$20>0,IF(AB115>0,IF(AB68>0,IF(AB90>0,AB90-($B$63/1000)-AB165-AB190,0),IF(AB90>0,AB90-($B$56/1000)-AB165-AB190,0)),IF(AB90>0,AB90-AB165-AB190,0)),Input!AE36)","v":20},{"$f":"IF($B$20>0,IF(AC115>0,IF(AC68>0,IF(AC90>0,AC90-($B$63/1000)-AC165-AC190,0),IF(AC90>0,AC90-($B$56/1000)-AC165-AC190,0)),IF(AC90>0,AC90-AC165-AC190,0)),Input!AF36)","v":20},{"$f":"IF($B$20>0,IF(AD115>0,IF(AD68>0,IF(AD90>0,AD90-($B$63/1000)-AD165-AD190,0),IF(AD90>0,AD90-($B$56/1000)-AD165-AD190,0)),IF(AD90>0,AD90-AD165-AD190,0)),Input!AG36)","v":20},{"$f":"IF($B$20>0,IF(AE115>0,IF(AE68>0,IF(AE90>0,AE90-($B$63/1000)-AE165-AE190,0),IF(AE90>0,AE90-($B$56/1000)-AE165-AE190,0)),IF(AE90>0,AE90-AE165-AE190,0)),Input!AH36)","v":20},{"$f":"IF($B$20>0,IF(AF115>0,IF(AF68>0,IF(AF90>0,AF90-($B$63/1000)-AF165-AF190,0),IF(AF90>0,AF90-($B$56/1000)-AF165-AF190,0)),IF(AF90>0,AF90-AF165-AF190,0)),Input!AI36)","v":20},{"$f":"IF($B$20>0,IF(AG115>0,IF(AG68>0,IF(AG90>0,AG90-($B$63/1000)-AG165-AG190,0),IF(AG90>0,AG90-($B$56/1000)-AG165-AG190,0)),IF(AG90>0,AG90-AG165-AG190,0)),Input!AJ36)","v":20},{"$f":"IF($B$20>0,IF(AH115>0,IF(AH68>0,IF(AH90>0,AH90-($B$63/1000)-AH165-AH190,0),IF(AH90>0,AH90-($B$56/1000)-AH165-AH190,0)),IF(AH90>0,AH90-AH165-AH190,0)),Input!AK36)","v":20},{"$f":"IF($B$20>0,IF(AI115>0,IF(AI68>0,IF(AI90>0,AI90-($B$63/1000)-AI165-AI190,0),IF(AI90>0,AI90-($B$56/1000)-AI165-AI190,0)),IF(AI90>0,AI90-AI165-AI190,0)),Input!AL36)","v":20},{"$f":"IF($B$20>0,IF(AJ115>0,IF(AJ68>0,IF(AJ90>0,AJ90-($B$63/1000)-AJ165-AJ190,0),IF(AJ90>0,AJ90-($B$56/1000)-AJ165-AJ190,0)),IF(AJ90>0,AJ90-AJ165-AJ190,0)),Input!AM36)","v":20},{"$f":"IF($B$20>0,IF(AK115>0,IF(AK68>0,IF(AK90>0,AK90-($B$63/1000)-AK165-AK190,0),IF(AK90>0,AK90-($B$56/1000)-AK165-AK190,0)),IF(AK90>0,AK90-AK165-AK190,0)),Input!AN36)","v":20},{"$f":"IF($B$20>0,IF(AL115>0,IF(AL68>0,IF(AL90>0,AL90-($B$63/1000)-AL165-AL190,0),IF(AL90>0,AL90-($B$56/1000)-AL165-AL190,0)),IF(AL90>0,AL90-AL165-AL190,0)),Input!AO36)","v":20},{"$f":"IF($B$20>0,IF(AM115>0,IF(AM68>0,IF(AM90>0,AM90-($B$63/1000)-AM165-AM190,0),IF(AM90>0,AM90-($B$56/1000)-AM165-AM190,0)),IF(AM90>0,AM90-AM165-AM190,0)),Input!AP36)","v":20},{"$f":"IF($B$20>0,IF(AN115>0,IF(AN68>0,IF(AN90>0,AN90-($B$63/1000)-AN165-AN190,0),IF(AN90>0,AN90-($B$56/1000)-AN165-AN190,0)),IF(AN90>0,AN90-AN165-AN190,0)),Input!AQ36)","v":20},{"$f":"IF($B$20>0,IF(AO115>0,IF(AO68>0,IF(AO90>0,AO90-($B$63/1000)-AO165-AO190,0),IF(AO90>0,AO90-($B$56/1000)-AO165-AO190,0)),IF(AO90>0,AO90-AO165-AO190,0)),Input!AR36)","v":20},{"$f":"IF($B$20>0,IF(AP115>0,IF(AP68>0,IF(AP90>0,AP90-($B$63/1000)-AP165-AP190,0),IF(AP90>0,AP90-($B$56/1000)-AP165-AP190,0)),IF(AP90>0,AP90-AP165-AP190,0)),Input!AS36)","v":20}]
[null,null,{"$f":"IF($B$20>0,IF(C116>0,IF(C69>0,IF(C91>0,C91-($B$63/1000)-C166-C191,0),IF(C91>0,C91-($B$56/1000)-C166-C191,0)),IF(C91>0,C91-C166-C191,0)),Input!F37)","v":20},{"$f":"IF($B$20>0,IF(D116>0,IF(D69>0,IF(D91>0,D91-($B$63/1000)-D166-D191,0),IF(D91>0,D91-($B$56/1000)-D166-D191,0)),IF(D91>0,D91-D166-D191,0)),Input!G37)","v":20},{"$f":"IF($B$20>0,IF(E116>0,IF(E69>0,IF(E91>0,E91-($B$63/1000)-E166-E191,0),IF(E91>0,E91-($B$56/1000)-E166-E191,0)),IF(E91>0,E91-E166-E191,0)),Input!H37)","v":20},{"$f":"IF($B$20>0,IF(F116>0,IF(F69>0,IF(F91>0,F91-($B$63/1000)-F166-F191,0),IF(F91>0,F91-($B$56/1000)-F166-F191,0)),IF(F91>0,F91-F166-F191,0)),Input!I37)","v":20},{"$f":"IF($B$20>0,IF(G116>0,IF(G69>0,IF(G91>0,G91-($B$63/1000)-G166-G191,0),IF(G91>0,G91-($B$56/1000)-G166-G191,0)),IF(G91>0,G91-G166-G191,0)),Input!J37)","v":20},{"$f":"IF($B$20>0,IF(H116>0,IF(H69>0,IF(H91>0,H91-($B$63/1000)-H166-H191,0),IF(H91>0,H91-($B$56/1000)-H166-H191,0)),IF(H91>0,H91-H166-H191,0)),Input!K37)","v":20},{"$f":"IF($B$20>0,IF(I116>0,IF(I69>0,IF(I91>0,I91-($B$63/1000)-I166-I191,0),IF(I91>0,I91-($B$56/1000)-I166-I191,0)),IF(I91>0,I91-I166-I191,0)),Input!L37)","v":20},{"$f":"IF($B$20>0,IF(J116>0,IF(J69>0,IF(J91>0,J91-($B$63/1000)-J166-J191,0),IF(J91>0,J91-($B$56/1000)-J166-J191,0)),IF(J91>0,J91-J166-J191,0)),Input!M37)","v":20},{"$f":"IF($B$20>0,IF(K116>0,IF(K69>0,IF(K91>0,K91-($B$63/1000)-K166-K191,0),IF(K91>0,K91-($B$56/1000)-K166-K191,0)),IF(K91>0,K91-K166-K191,0)),Input!N37)","v":20},{"$f":"IF($B$20>0,IF(L116>0,IF(L69>0,IF(L91>0,L91-($B$63/1000)-L166-L191,0),IF(L91>0,L91-($B$56/1000)-L166-L191,0)),IF(L91>0,L91-L166-L191,0)),Input!O37)","v":20},{"$f":"IF($B$20>0,IF(M116>0,IF(M69>0,IF(M91>0,M91-($B$63/1000)-M166-M191,0),IF(M91>0,M91-($B$56/1000)-M166-M191,0)),IF(M91>0,M91-M166-M191,0)),Input!P37)","v":20},{"$f":"IF($B$20>0,IF(N116>0,IF(N69>0,IF(N91>0,N91-($B$63/1000)-N166-N191,0),IF(N91>0,N91-($B$56/1000)-N166-N191,0)),IF(N91>0,N91-N166-N191,0)),Input!Q37)","v":20},{"$f":"IF($B$20>0,IF(O116>0,IF(O69>0,IF(O91>0,O91-($B$63/1000)-O166-O191,0),IF(O91>0,O91-($B$56/1000)-O166-O191,0)),IF(O91>0,O91-O166-O191,0)),Input!R37)","v":20},{"$f":"IF($B$20>0,IF(P116>0,IF(P69>0,IF(P91>0,P91-($B$63/1000)-P166-P191,0),IF(P91>0,P91-($B$56/1000)-P166-P191,0)),IF(P91>0,P91-P166-P191,0)),Input!S37)","v":20},{"$f":"IF($B$20>0,IF(Q116>0,IF(Q69>0,IF(Q91>0,Q91-($B$63/1000)-Q166-Q191,0),IF(Q91>0,Q91-($B$56/1000)-Q166-Q191,0)),IF(Q91>0,Q91-Q166-Q191,0)),Input!T37)","v":20},{"$f":"IF($B$20>0,IF(R116>0,IF(R69>0,IF(R91>0,R91-($B$63/1000)-R166-R191,0),IF(R91>0,R91-($B$56/1000)-R166-R191,0)),IF(R91>0,R91-R166-R191,0)),Input!U37)","v":20},{"$f":"IF($B$20>0,IF(S116>0,IF(S69>0,IF(S91>0,S91-($B$63/1000)-S166-S191,0),IF(S91>0,S91-($B$56/1000)-S166-S191,0)),IF(S91>0,S91-S166-S191,0)),Input!V37)","v":20},{"$f":"IF($B$20>0,IF(T116>0,IF(T69>0,IF(T91>0,T91-($B$63/1000)-T166-T191,0),IF(T91>0,T91-($B$56/1000)-T166-T191,0)),IF(T91>0,T91-T166-T191,0)),Input!W37)","v":20},{"$f":"IF($B$20>0,IF(U116>0,IF(U69>0,IF(U91>0,U91-($B$63/1000)-U166-U191,0),IF(U91>0,U91-($B$56/1000)-U166-U191,0)),IF(U91>0,U91-U166-U191,0)),Input!X37)","v":20},{"$f":"IF($B$20>0,IF(V116>0,IF(V69>0,IF(V91>0,V91-($B$63/1000)-V166-V191,0),IF(V91>0,V91-($B$56/1000)-V166-V191,0)),IF(V91>0,V91-V166-V191,0)),Input!Y37)","v":20},{"$f":"IF($B$20>0,IF(W116>0,IF(W69>0,IF(W91>0,W91-($B$63/1000)-W166-W191,0),IF(W91>0,W91-($B$56/1000)-W166-W191,0)),IF(W91>0,W91-W166-W191,0)),Input!Z37)","v":20},{"$f":"IF($B$20>0,IF(X116>0,IF(X69>0,IF(X91>0,X91-($B$63/1000)-X166-X191,0),IF(X91>0,X91-($B$56/1000)-X166-X191,0)),IF(X91>0,X91-X166-X191,0)),Input!AA37)","v":20},{"$f":"IF($B$20>0,IF(Y116>0,IF(Y69>0,IF(Y91>0,Y91-($B$63/1000)-Y166-Y191,0),IF(Y91>0,Y91-($B$56/1000)-Y166-Y191,0)),IF(Y91>0,Y91-Y166-Y191,0)),Input!AB37)","v":20},{"$f":"IF($B$20>0,IF(Z116>0,IF(Z69>0,IF(Z91>0,Z91-($B$63/1000)-Z166-Z191,0),IF(Z91>0,Z91-($B$56/1000)-Z166-Z191,0)),IF(Z91>0,Z91-Z166-Z191,0)),Input!AC37)","v":20},{"$f":"IF($B$20>0,IF(AA116>0,IF(AA69>0,IF(AA91>0,AA91-($B$63/1000)-AA166-AA191,0),IF(AA91>0,AA91-($B$56/1000)-AA166-AA191,0)),IF(AA91>0,AA91-AA166-AA191,0)),Input!AD37)","v":20},{"$f":"IF($B$20>0,IF(AB116>0,IF(AB69>0,IF(AB91>0,AB91-($B$63/1000)-AB166-AB191,0),IF(AB91>0,AB91-($B$56/1000)-AB166-AB191,0)),IF(AB91>0,AB91-AB166-AB191,0)),Input!AE37)","v":20},{"$f":"IF($B$20>0,IF(AC116>0,IF(AC69>0,IF(AC91>0,AC91-($B$63/1000)-AC166-AC191,0),IF(AC91>0,AC91-($B$56/1000)-AC166-AC191,0)),IF(AC91>0,AC91-AC166-AC191,0)),Input!AF37)","v":20},{"$f":"IF($B$20>0,IF(AD116>0,IF(AD69>0,IF(AD91>0,AD91-($B$63/1000)-AD166-AD191,0),IF(AD91>0,AD91-($B$56/1000)-AD166-AD191,0)),IF(AD91>0,AD91-AD166-AD191,0)),Input!AG37)","v":20},{"$f":"IF($B$20>0,IF(AE116>0,IF(AE69>0,IF(AE91>0,AE91-($B$63/1000)-AE166-AE191,0),IF(AE91>0,AE91-($B$56/1000)-AE166-AE191,0)),IF(AE91>0,AE91-AE166-AE191,0)),Input!AH37)","v":20},{"$f":"IF($B$20>0,IF(AF116>0,IF(AF69>0,IF(AF91>0,AF91-($B$63/1000)-AF166-AF191,0),IF(AF91>0,AF91-($B$56/1000)-AF166-AF191,0)),IF(AF91>0,AF91-AF166-AF191,0)),Input!AI37)","v":20},{"$f":"IF($B$20>0,IF(AG116>0,IF(AG69>0,IF(AG91>0,AG91-($B$63/1000)-AG166-AG191,0),IF(AG91>0,AG91-($B$56/1000)-AG166-AG191,0)),IF(AG91>0,AG91-AG166-AG191,0)),Input!AJ37)","v":20},{"$f":"IF($B$20>0,IF(AH116>0,IF(AH69>0,IF(AH91>0,AH91-($B$63/1000)-AH166-AH191,0),IF(AH91>0,AH91-($B$56/1000)-AH166-AH191,0)),IF(AH91>0,AH91-AH166-AH191,0)),Input!AK37)","v":20},{"$f":"IF($B$20>0,IF(AI116>0,IF(AI69>0,IF(AI91>0,AI91-($B$63/1000)-AI166-AI191,0),IF(AI91>0,AI91-($B$56/1000)-AI166-AI191,0)),IF(AI91>0,AI91-AI166-AI191,0)),Input!AL37)","v":20},{"$f":"IF($B$20>0,IF(AJ116>0,IF(AJ69>0,IF(AJ91>0,AJ91-($B$63/1000)-AJ166-AJ191,0),IF(AJ91>0,AJ91-($B$56/1000)-AJ166-AJ191,0)),IF(AJ91>0,AJ91-AJ166-AJ191,0)),Input!AM37)","v":20},{"$f":"IF($B$20>0,IF(AK116>0,IF(AK69>0,IF(AK91>0,AK91-($B$63/1000)-AK166-AK191,0),IF(AK91>0,AK91-($B$56/1000)-AK166-AK191,0)),IF(AK91>0,AK91-AK166-AK191,0)),Input!AN37)","v":20},{"$f":"IF($B$20>0,IF(AL116>0,IF(AL69>0,IF(AL91>0,AL91-($B$63/1000)-AL166-AL191,0),IF(AL91>0,AL91-($B$56/1000)-AL166-AL191,0)),IF(AL91>0,AL91-AL166-AL191,0)),Input!AO37)","v":20},{"$f":"IF($B$20>0,IF(AM116>0,IF(AM69>0,IF(AM91>0,AM91-($B$63/1000)-AM166-AM191,0),IF(AM91>0,AM91-($B$56/1000)-AM166-AM191,0)),IF(AM91>0,AM91-AM166-AM191,0)),Input!AP37)","v":20},{"$f":"IF($B$20>0,IF(AN116>0,IF(AN69>0,IF(AN91>0,AN91-($B$63/1000)-AN166-AN191,0),IF(AN91>0,AN91-($B$56/1000)-AN166-AN191,0)),IF(AN91>0,AN91-AN166-AN191,0)),Input!AQ37)","v":20},{"$f":"IF($B$20>0,IF(AO116>0,IF(AO69>0,IF(AO91>0,AO91-($B$63/1000)-AO166-AO191,0),IF(AO91>0,AO91-($B$56/1000)-AO166-AO191,0)),IF(AO91>0,AO91-AO166-AO191,0)),Input!AR37)","v":20},{"$f":"IF($B$20>0,IF(AP116>0,IF(AP69>0,IF(AP91>0,AP91-($B$63/1000)-AP166-AP191,0),IF(AP91>0,AP91-($B$56/1000)-AP166-AP191,0)),IF(AP91>0,AP91-AP166-AP191,0)),Input!AS37)","v":20}]
[null,null,{"$f":"IF($B$20>0,IF(C117>0,IF(C70>0,IF(C92>0,C92-($B$63/1000)-C167-C192,0),IF(C92>0,C92-($B$56/1000)-C167-C192,0)),IF(C92>0,C92-C167-C192,0)),Input!F38)","v":20},{"$f":"IF($B$20>0,IF(D117>0,IF(D70>0,IF(D92>0,D92-($B$63/1000)-D167-D192,0),IF(D92>0,D92-($B$56/1000)-D167-D192,0)),IF(D92>0,D92-D167-D192,0)),Input!G38)","v":20},{"$f":"IF($B$20>0,IF(E117>0,IF(E70>0,IF(E92>0,E92-($B$63/1000)-E167-E192,0),IF(E92>0,E92-($B$56/1000)-E167-E192,0)),IF(E92>0,E92-E167-E192,0)),Input!H38)","v":20},{"$f":"IF($B$20>0,IF(F117>0,IF(F70>0,IF(F92>0,F92-($B$63/1000)-F167-F192,0),IF(F92>0,F92-($B$56/1000)-F167-F192,0)),IF(F92>0,F92-F167-F192,0)),Input!I38)","v":20},{"$f":"IF($B$20>0,IF(G117>0,IF(G70>0,IF(G92>0,G92-($B$63/1000)-G167-G192,0),IF(G92>0,G92-($B$56/1000)-G167-G192,0)),IF(G92>0,G92-G167-G192,0)),Input!J38)","v":20},{"$f":"IF($B$20>0,IF(H117>0,IF(H70>0,IF(H92>0,H92-($B$63/1000)-H167-H192,0),IF(H92>0,H92-($B$56/1000)-H167-H192,0)),IF(H92>0,H92-H167-H192,0)),Input!K38)","v":20},{"$f":"IF($B$20>0,IF(I117>0,IF(I70>0,IF(I92>0,I92-($B$63/1000)-I167-I192,0),IF(I92>0,I92-($B$56/1000)-I167-I192,0)),IF(I92>0,I92-I167-I192,0)),Input!L38)","v":20},{"$f":"IF($B$20>0,IF(J117>0,IF(J70>0,IF(J92>0,J92-($B$63/1000)-J167-J192,0),IF(J92>0,J92-($B$56/1000)-J167-J192,0)),IF(J92>0,J92-J167-J192,0)),Input!M38)","v":20},{"$f":"IF($B$20>0,IF(K117>0,IF(K70>0,IF(K92>0,K92-($B$63/1000)-K167-K192,0),IF(K92>0,K92-($B$56/1000)-K167-K192,0)),IF(K92>0,K92-K167-K192,0)),Input!N38)","v":20},{"$f":"IF($B$20>0,IF(L117>0,IF(L70>0,IF(L92>0,L92-($B$63/1000)-L167-L192,0),IF(L92>0,L92-($B$56/1000)-L167-L192,0)),IF(L92>0,L92-L167-L192,0)),Input!O38)","v":20},{"$f":"IF($B$20>0,IF(M117>0,IF(M70>0,IF(M92>0,M92-($B$63/1000)-M167-M192,0),IF(M92>0,M92-($B$56/1000)-M167-M192,0)),IF(M92>0,M92-M167-M192,0)),Input!P38)","v":20},{"$f":"IF($B$20>0,IF(N117>0,IF(N70>0,IF(N92>0,N92-($B$63/1000)-N167-N192,0),IF(N92>0,N92-($B$56/1000)-N167-N192,0)),IF(N92>0,N92-N167-N192,0)),Input!Q38)","v":20},{"$f":"IF($B$20>0,IF(O117>0,IF(O70>0,IF(O92>0,O92-($B$63/1000)-O167-O192,0),IF(O92>0,O92-($B$56/1000)-O167-O192,0)),IF(O92>0,O92-O167-O192,0)),Input!R38)","v":20},{"$f":"IF($B$20>0,IF(P117>0,IF(P70>0,IF(P92>0,P92-($B$63/1000)-P167-P192,0),IF(P92>0,P92-($B$56/1000)-P167-P192,0)),IF(P92>0,P92-P167-P192,0)),Input!S38)","v":20},{"$f":"IF($B$20>0,IF(Q117>0,IF(Q70>0,IF(Q92>0,Q92-($B$63/1000)-Q167-Q192,0),IF(Q92>0,Q92-($B$56/1000)-Q167-Q192,0)),IF(Q92>0,Q92-Q167-Q192,0)),Input!T38)","v":20},{"$f":"IF($B$20>0,IF(R117>0,IF(R70>0,IF(R92>0,R92-($B$63/1000)-R167-R192,0),IF(R92>0,R92-($B$56/1000)-R167-R192,0)),IF(R92>0,R92-R167-R192,0)),Input!U38)","v":20},{"$f":"IF($B$20>0,IF(S117>0,IF(S70>0,IF(S92>0,S92-($B$63/1000)-S167-S192,0),IF(S92>0,S92-($B$56/1000)-S167-S192,0)),IF(S92>0,S92-S167-S192,0)),Input!V38)","v":20},{"$f":"IF($B$20>0,IF(T117>0,IF(T70>0,IF(T92>0,T92-($B$63/1000)-T167-T192,0),IF(T92>0,T92-($B$56/1000)-T167-T192,0)),IF(T92>0,T92-T167-T192,0)),Input!W38)","v":20},{"$f":"IF($B$20>0,IF(U117>0,IF(U70>0,IF(U92>0,U92-($B$63/1000)-U167-U192,0),IF(U92>0,U92-($B$56/1000)-U167-U192,0)),IF(U92>0,U92-U167-U192,0)),Input!X38)","v":20},{"$f":"IF($B$20>0,IF(V117>0,IF(V70>0,IF(V92>0,V92-($B$63/1000)-V167-V192,0),IF(V92>0,V92-($B$56/1000)-V167-V192,0)),IF(V92>0,V92-V167-V192,0)),Input!Y38)","v":20},{"$f":"IF($B$20>0,IF(W117>0,IF(W70>0,IF(W92>0,W92-($B$63/1000)-W167-W192,0),IF(W92>0,W92-($B$56/1000)-W167-W192,0)),IF(W92>0,W92-W167-W192,0)),Input!Z38)","v":20},{"$f":"IF($B$20>0,IF(X117>0,IF(X70>0,IF(X92>0,X92-($B$63/1000)-X167-X192,0),IF(X92>0,X92-($B$56/1000)-X167-X192,0)),IF(X92>0,X92-X167-X192,0)),Input!AA38)","v":20},{"$f":"IF($B$20>0,IF(Y117>0,IF(Y70>0,IF(Y92>0,Y92-($B$63/1000)-Y167-Y192,0),IF(Y92>0,Y92-($B$56/1000)-Y167-Y192,0)),IF(Y92>0,Y92-Y167-Y192,0)),Input!AB38)","v":20},{"$f":"IF($B$20>0,IF(Z117>0,IF(Z70>0,IF(Z92>0,Z92-($B$63/1000)-Z167-Z192,0),IF(Z92>0,Z92-($B$56/1000)-Z167-Z192,0)),IF(Z92>0,Z92-Z167-Z192,0)),Input!AC38)","v":20},{"$f":"IF($B$20>0,IF(AA117>0,IF(AA70>0,IF(AA92>0,AA92-($B$63/1000)-AA167-AA192,0),IF(AA92>0,AA92-($B$56/1000)-AA167-AA192,0)),IF(AA92>0,AA92-AA167-AA192,0)),Input!AD38)","v":20},{"$f":"IF($B$20>0,IF(AB117>0,IF(AB70>0,IF(AB92>0,AB92-($B$63/1000)-AB167-AB192,0),IF(AB92>0,AB92-($B$56/1000)-AB167-AB192,0)),IF(AB92>0,AB92-AB167-AB192,0)),Input!AE38)","v":20},{"$f":"IF($B$20>0,IF(AC117>0,IF(AC70>0,IF(AC92>0,AC92-($B$63/1000)-AC167-AC192,0),IF(AC92>0,AC92-($B$56/1000)-AC167-AC192,0)),IF(AC92>0,AC92-AC167-AC192,0)),Input!AF38)","v":20},{"$f":"IF($B$20>0,IF(AD117>0,IF(AD70>0,IF(AD92>0,AD92-($B$63/1000)-AD167-AD192,0),IF(AD92>0,AD92-($B$56/1000)-AD167-AD192,0)),IF(AD92>0,AD92-AD167-AD192,0)),Input!AG38)","v":20},{"$f":"IF($B$20>0,IF(AE117>0,IF(AE70>0,IF(AE92>0,AE92-($B$63/1000)-AE167-AE192,0),IF(AE92>0,AE92-($B$56/1000)-AE167-AE192,0)),IF(AE92>0,AE92-AE167-AE192,0)),Input!AH38)","v":20},{"$f":"IF($B$20>0,IF(AF117>0,IF(AF70>0,IF(AF92>0,AF92-($B$63/1000)-AF167-AF192,0),IF(AF92>0,AF92-($B$56/1000)-AF167-AF192,0)),IF(AF92>0,AF92-AF167-AF192,0)),Input!AI38)","v":20},{"$f":"IF($B$20>0,IF(AG117>0,IF(AG70>0,IF(AG92>0,AG92-($B$63/1000)-AG167-AG192,0),IF(AG92>0,AG92-($B$56/1000)-AG167-AG192,0)),IF(AG92>0,AG92-AG167-AG192,0)),Input!AJ38)","v":20},{"$f":"IF($B$20>0,IF(AH117>0,IF(AH70>0,IF(AH92>0,AH92-($B$63/1000)-AH167-AH192,0),IF(AH92>0,AH92-($B$56/1000)-AH167-AH192,0)),IF(AH92>0,AH92-AH167-AH192,0)),Input!AK38)","v":20},{"$f":"IF($B$20>0,IF(AI117>0,IF(AI70>0,IF(AI92>0,AI92-($B$63/1000)-AI167-AI192,0),IF(AI92>0,AI92-($B$56/1000)-AI167-AI192,0)),IF(AI92>0,AI92-AI167-AI192,0)),Input!AL38)","v":20},{"$f":"IF($B$20>0,IF(AJ117>0,IF(AJ70>0,IF(AJ92>0,AJ92-($B$63/1000)-AJ167-AJ192,0),IF(AJ92>0,AJ92-($B$56/1000)-AJ167-AJ192,0)),IF(AJ92>0,AJ92-AJ167-AJ192,0)),Input!AM38)","v":20},{"$f":"IF($B$20>0,IF(AK117>0,IF(AK70>0,IF(AK92>0,AK92-($B$63/1000)-AK167-AK192,0),IF(AK92>0,AK92-($B$56/1000)-AK167-AK192,0)),IF(AK92>0,AK92-AK167-AK192,0)),Input!AN38)","v":20},{"$f":"IF($B$20>0,IF(AL117>0,IF(AL70>0,IF(AL92>0,AL92-($B$63/1000)-AL167-AL192,0),IF(AL92>0,AL92-($B$56/1000)-AL167-AL192,0)),IF(AL92>0,AL92-AL167-AL192,0)),Input!AO38)","v":20},{"$f":"IF($B$20>0,IF(AM117>0,IF(AM70>0,IF(AM92>0,AM92-($B$63/1000)-AM167-AM192,0),IF(AM92>0,AM92-($B$56/1000)-AM167-AM192,0)),IF(AM92>0,AM92-AM167-AM192,0)),Input!AP38)","v":20},{"$f":"IF($B$20>0,IF(AN117>0,IF(AN70>0,IF(AN92>0,AN92-($B$63/1000)-AN167-AN192,0),IF(AN92>0,AN92-($B$56/1000)-AN167-AN192,0)),IF(AN92>0,AN92-AN167-AN192,0)),Input!AQ38)","v":20},{"$f":"IF($B$20>0,IF(AO117>0,IF(AO70>0,IF(AO92>0,AO92-($B$63/1000)-AO167-AO192,0),IF(AO92>0,AO92-($B$56/1000)-AO167-AO192,0)),IF(AO92>0,AO92-AO167-AO192,0)),Input!AR38)","v":20},{"$f":"IF($B$20>0,IF(AP117>0,IF(AP70>0,IF(AP92>0,AP92-($B$63/1000)-AP167-AP192,0),IF(AP92>0,AP92-($B$56/1000)-AP167-AP192,0)),IF(AP92>0,AP92-AP167-AP192,0)),Input!AS38)","v":20}]
[null,null,{"$f":"IF($B$20>0,IF(C118>0,IF(C71>0,IF(C93>0,C93-($B$63/1000)-C168-C193,0),IF(C93>0,C93-($B$56/1000)-C168-C193,0)),IF(C93>0,C93-C168-C193,0)),Input!F39)","v":20},{"$f":"IF($B$20>0,IF(D118>0,IF(D71>0,IF(D93>0,D93-($B$63/1000)-D168-D193,0),IF(D93>0,D93-($B$56/1000)-D168-D193,0)),IF(D93>0,D93-D168-D193,0)),Input!G39)","v":20},{"$f":"IF($B$20>0,IF(E118>0,IF(E71>0,IF(E93>0,E93-($B$63/1000)-E168-E193,0),IF(E93>0,E93-($B$56/1000)-E168-E193,0)),IF(E93>0,E93-E168-E193,0)),Input!H39)","v":20},{"$f":"IF($B$20>0,IF(F118>0,IF(F71>0,IF(F93>0,F93-($B$63/1000)-F168-F193,0),IF(F93>0,F93-($B$56/1000)-F168-F193,0)),IF(F93>0,F93-F168-F193,0)),Input!I39)","v":20},{"$f":"IF($B$20>0,IF(G118>0,IF(G71>0,IF(G93>0,G93-($B$63/1000)-G168-G193,0),IF(G93>0,G93-($B$56/1000)-G168-G193,0)),IF(G93>0,G93-G168-G193,0)),Input!J39)","v":20},{"$f":"IF($B$20>0,IF(H118>0,IF(H71>0,IF(H93>0,H93-($B$63/1000)-H168-H193,0),IF(H93>0,H93-($B$56/1000)-H168-H193,0)),IF(H93>0,H93-H168-H193,0)),Input!K39)","v":20},{"$f":"IF($B$20>0,IF(I118>0,IF(I71>0,IF(I93>0,I93-($B$63/1000)-I168-I193,0),IF(I93>0,I93-($B$56/1000)-I168-I193,0)),IF(I93>0,I93-I168-I193,0)),Input!L39)","v":20},{"$f":"IF($B$20>0,IF(J118>0,IF(J71>0,IF(J93>0,J93-($B$63/1000)-J168-J193,0),IF(J93>0,J93-($B$56/1000)-J168-J193,0)),IF(J93>0,J93-J168-J193,0)),Input!M39)","v":20},{"$f":"IF($B$20>0,IF(K118>0,IF(K71>0,IF(K93>0,K93-($B$63/1000)-K168-K193,0),IF(K93>0,K93-($B$56/1000)-K168-K193,0)),IF(K93>0,K93-K168-K193,0)),Input!N39)","v":20},{"$f":"IF($B$20>0,IF(L118>0,IF(L71>0,IF(L93>0,L93-($B$63/1000)-L168-L193,0),IF(L93>0,L93-($B$56/1000)-L168-L193,0)),IF(L93>0,L93-L168-L193,0)),Input!O39)","v":20},{"$f":"IF($B$20>0,IF(M118>0,IF(M71>0,IF(M93>0,M93-($B$63/1000)-M168-M193,0),IF(M93>0,M93-($B$56/1000)-M168-M193,0)),IF(M93>0,M93-M168-M193,0)),Input!P39)","v":20},{"$f":"IF($B$20>0,IF(N118>0,IF(N71>0,IF(N93>0,N93-($B$63/1000)-N168-N193,0),IF(N93>0,N93-($B$56/1000)-N168-N193,0)),IF(N93>0,N93-N168-N193,0)),Input!Q39)","v":20},{"$f":"IF($B$20>0,IF(O118>0,IF(O71>0,IF(O93>0,O93-($B$63/1000)-O168-O193,0),IF(O93>0,O93-($B$56/1000)-O168-O193,0)),IF(O93>0,O93-O168-O193,0)),Input!R39)","v":20},{"$f":"IF($B$20>0,IF(P118>0,IF(P71>0,IF(P93>0,P93-($B$63/1000)-P168-P193,0),IF(P93>0,P93-($B$56/1000)-P168-P193,0)),IF(P93>0,P93-P168-P193,0)),Input!S39)","v":20},{"$f":"IF($B$20>0,IF(Q118>0,IF(Q71>0,IF(Q93>0,Q93-($B$63/1000)-Q168-Q193,0),IF(Q93>0,Q93-($B$56/1000)-Q168-Q193,0)),IF(Q93>0,Q93-Q168-Q193,0)),Input!T39)","v":20},{"$f":"IF($B$20>0,IF(R118>0,IF(R71>0,IF(R93>0,R93-($B$63/1000)-R168-R193,0),IF(R93>0,R93-($B$56/1000)-R168-R193,0)),IF(R93>0,R93-R168-R193,0)),Input!U39)","v":20},{"$f":"IF($B$20>0,IF(S118>0,IF(S71>0,IF(S93>0,S93-($B$63/1000)-S168-S193,0),IF(S93>0,S93-($B$56/1000)-S168-S193,0)),IF(S93>0,S93-S168-S193,0)),Input!V39)","v":20},{"$f":"IF($B$20>0,IF(T118>0,IF(T71>0,IF(T93>0,T93-($B$63/1000)-T168-T193,0),IF(T93>0,T93-($B$56/1000)-T168-T193,0)),IF(T93>0,T93-T168-T193,0)),Input!W39)","v":20},{"$f":"IF($B$20>0,IF(U118>0,IF(U71>0,IF(U93>0,U93-($B$63/1000)-U168-U193,0),IF(U93>0,U93-($B$56/1000)-U168-U193,0)),IF(U93>0,U93-U168-U193,0)),Input!X39)","v":20},{"$f":"IF($B$20>0,IF(V118>0,IF(V71>0,IF(V93>0,V93-($B$63/1000)-V168-V193,0),IF(V93>0,V93-($B$56/1000)-V168-V193,0)),IF(V93>0,V93-V168-V193,0)),Input!Y39)","v":20},{"$f":"IF($B$20>0,IF(W118>0,IF(W71>0,IF(W93>0,W93-($B$63/1000)-W168-W193,0),IF(W93>0,W93-($B$56/1000)-W168-W193,0)),IF(W93>0,W93-W168-W193,0)),Input!Z39)","v":20},{"$f":"IF($B$20>0,IF(X118>0,IF(X71>0,IF(X93>0,X93-($B$63/1000)-X168-X193,0),IF(X93>0,X93-($B$56/1000)-X168-X193,0)),IF(X93>0,X93-X168-X193,0)),Input!AA39)","v":20},{"$f":"IF($B$20>0,IF(Y118>0,IF(Y71>0,IF(Y93>0,Y93-($B$63/1000)-Y168-Y193,0),IF(Y93>0,Y93-($B$56/1000)-Y168-Y193,0)),IF(Y93>0,Y93-Y168-Y193,0)),Input!AB39)","v":20},{"$f":"IF($B$20>0,IF(Z118>0,IF(Z71>0,IF(Z93>0,Z93-($B$63/1000)-Z168-Z193,0),IF(Z93>0,Z93-($B$56/1000)-Z168-Z193,0)),IF(Z93>0,Z93-Z168-Z193,0)),Input!AC39)","v":20},{"$f":"IF($B$20>0,IF(AA118>0,IF(AA71>0,IF(AA93>0,AA93-($B$63/1000)-AA168-AA193,0),IF(AA93>0,AA93-($B$56/1000)-AA168-AA193,0)),IF(AA93>0,AA93-AA168-AA193,0)),Input!AD39)","v":20},{"$f":"IF($B$20>0,IF(AB118>0,IF(AB71>0,IF(AB93>0,AB93-($B$63/1000)-AB168-AB193,0),IF(AB93>0,AB93-($B$56/1000)-AB168-AB193,0)),IF(AB93>0,AB93-AB168-AB193,0)),Input!AE39)","v":20},{"$f":"IF($B$20>0,IF(AC118>0,IF(AC71>0,IF(AC93>0,AC93-($B$63/1000)-AC168-AC193,0),IF(AC93>0,AC93-($B$56/1000)-AC168-AC193,0)),IF(AC93>0,AC93-AC168-AC193,0)),Input!AF39)","v":20},{"$f":"IF($B$20>0,IF(AD118>0,IF(AD71>0,IF(AD93>0,AD93-($B$63/1000)-AD168-AD193,0),IF(AD93>0,AD93-($B$56/1000)-AD168-AD193,0)),IF(AD93>0,AD93-AD168-AD193,0)),Input!AG39)","v":20},{"$f":"IF($B$20>0,IF(AE118>0,IF(AE71>0,IF(AE93>0,AE93-($B$63/1000)-AE168-AE193,0),IF(AE93>0,AE93-($B$56/1000)-AE168-AE193,0)),IF(AE93>0,AE93-AE168-AE193,0)),Input!AH39)","v":20},{"$f":"IF($B$20>0,IF(AF118>0,IF(AF71>0,IF(AF93>0,AF93-($B$63/1000)-AF168-AF193,0),IF(AF93>0,AF93-($B$56/1000)-AF168-AF193,0)),IF(AF93>0,AF93-AF168-AF193,0)),Input!AI39)","v":20},{"$f":"IF($B$20>0,IF(AG118>0,IF(AG71>0,IF(AG93>0,AG93-($B$63/1000)-AG168-AG193,0),IF(AG93>0,AG93-($B$56/1000)-AG168-AG193,0)),IF(AG93>0,AG93-AG168-AG193,0)),Input!AJ39)","v":20},{"$f":"IF($B$20>0,IF(AH118>0,IF(AH71>0,IF(AH93>0,AH93-($B$63/1000)-AH168-AH193,0),IF(AH93>0,AH93-($B$56/1000)-AH168-AH193,0)),IF(AH93>0,AH93-AH168-AH193,0)),Input!AK39)","v":20},{"$f":"IF($B$20>0,IF(AI118>0,IF(AI71>0,IF(AI93>0,AI93-($B$63/1000)-AI168-AI193,0),IF(AI93>0,AI93-($B$56/1000)-AI168-AI193,0)),IF(AI93>0,AI93-AI168-AI193,0)),Input!AL39)","v":20},{"$f":"IF($B$20>0,IF(AJ118>0,IF(AJ71>0,IF(AJ93>0,AJ93-($B$63/1000)-AJ168-AJ193,0),IF(AJ93>0,AJ93-($B$56/1000)-AJ168-AJ193,0)),IF(AJ93>0,AJ93-AJ168-AJ193,0)),Input!AM39)","v":20},{"$f":"IF($B$20>0,IF(AK118>0,IF(AK71>0,IF(AK93>0,AK93-($B$63/1000)-AK168-AK193,0),IF(AK93>0,AK93-($B$56/1000)-AK168-AK193,0)),IF(AK93>0,AK93-AK168-AK193,0)),Input!AN39)","v":20},{"$f":"IF($B$20>0,IF(AL118>0,IF(AL71>0,IF(AL93>0,AL93-($B$63/1000)-AL168-AL193,0),IF(AL93>0,AL93-($B$56/1000)-AL168-AL193,0)),IF(AL93>0,AL93-AL168-AL193,0)),Input!AO39)","v":20},{"$f":"IF($B$20>0,IF(AM118>0,IF(AM71>0,IF(AM93>0,AM93-($B$63/1000)-AM168-AM193,0),IF(AM93>0,AM93-($B$56/1000)-AM168-AM193,0)),IF(AM93>0,AM93-AM168-AM193,0)),Input!AP39)","v":20},{"$f":"IF($B$20>0,IF(AN118>0,IF(AN71>0,IF(AN93>0,AN93-($B$63/1000)-AN168-AN193,0),IF(AN93>0,AN93-($B$56/1000)-AN168-AN193,0)),IF(AN93>0,AN93-AN168-AN193,0)),Input!AQ39)","v":20},{"$f":"IF($B$20>0,IF(AO118>0,IF(AO71>0,IF(AO93>0,AO93-($B$63/1000)-AO168-AO193,0),IF(AO93>0,AO93-($B$56/1000)-AO168-AO193,0)),IF(AO93>0,AO93-AO168-AO193,0)),Input!AR39)","v":20},{"$f":"IF($B$20>0,IF(AP118>0,IF(AP71>0,IF(AP93>0,AP93-($B$63/1000)-AP168-AP193,0),IF(AP93>0,AP93-($B$56/1000)-AP168-AP193,0)),IF(AP93>0,AP93-AP168-AP193,0)),Input!AS39)","v":20}]
[null,null,{"$f":"IF($B$20>0,IF(C119>0,IF(C72>0,IF(C94>0,C94-($B$63/1000)-C169-C194,0),IF(C94>0,C94-($B$56/1000)-C169-C194,0)),IF(C94>0,C94-C169-C194,0)),Input!F40)","v":20},{"$f":"IF($B$20>0,IF(D119>0,IF(D72>0,IF(D94>0,D94-($B$63/1000)-D169-D194,0),IF(D94>0,D94-($B$56/1000)-D169-D194,0)),IF(D94>0,D94-D169-D194,0)),Input!G40)","v":20},{"$f":"IF($B$20>0,IF(E119>0,IF(E72>0,IF(E94>0,E94-($B$63/1000)-E169-E194,0),IF(E94>0,E94-($B$56/1000)-E169-E194,0)),IF(E94>0,E94-E169-E194,0)),Input!H40)","v":20},{"$f":"IF($B$20>0,IF(F119>0,IF(F72>0,IF(F94>0,F94-($B$63/1000)-F169-F194,0),IF(F94>0,F94-($B$56/1000)-F169-F194,0)),IF(F94>0,F94-F169-F194,0)),Input!I40)","v":20},{"$f":"IF($B$20>0,IF(G119>0,IF(G72>0,IF(G94>0,G94-($B$63/1000)-G169-G194,0),IF(G94>0,G94-($B$56/1000)-G169-G194,0)),IF(G94>0,G94-G169-G194,0)),Input!J40)","v":20},{"$f":"IF($B$20>0,IF(H119>0,IF(H72>0,IF(H94>0,H94-($B$63/1000)-H169-H194,0),IF(H94>0,H94-($B$56/1000)-H169-H194,0)),IF(H94>0,H94-H169-H194,0)),Input!K40)","v":20},{"$f":"IF($B$20>0,IF(I119>0,IF(I72>0,IF(I94>0,I94-($B$63/1000)-I169-I194,0),IF(I94>0,I94-($B$56/1000)-I169-I194,0)),IF(I94>0,I94-I169-I194,0)),Input!L40)","v":20},{"$f":"IF($B$20>0,IF(J119>0,IF(J72>0,IF(J94>0,J94-($B$63/1000)-J169-J194,0),IF(J94>0,J94-($B$56/1000)-J169-J194,0)),IF(J94>0,J94-J169-J194,0)),Input!M40)","v":20},{"$f":"IF($B$20>0,IF(K119>0,IF(K72>0,IF(K94>0,K94-($B$63/1000)-K169-K194,0),IF(K94>0,K94-($B$56/1000)-K169-K194,0)),IF(K94>0,K94-K169-K194,0)),Input!N40)","v":20},{"$f":"IF($B$20>0,IF(L119>0,IF(L72>0,IF(L94>0,L94-($B$63/1000)-L169-L194,0),IF(L94>0,L94-($B$56/1000)-L169-L194,0)),IF(L94>0,L94-L169-L194,0)),Input!O40)","v":20},{"$f":"IF($B$20>0,IF(M119>0,IF(M72>0,IF(M94>0,M94-($B$63/1000)-M169-M194,0),IF(M94>0,M94-($B$56/1000)-M169-M194,0)),IF(M94>0,M94-M169-M194,0)),Input!P40)","v":20},{"$f":"IF($B$20>0,IF(N119>0,IF(N72>0,IF(N94>0,N94-($B$63/1000)-N169-N194,0),IF(N94>0,N94-($B$56/1000)-N169-N194,0)),IF(N94>0,N94-N169-N194,0)),Input!Q40)","v":20},{"$f":"IF($B$20>0,IF(O119>0,IF(O72>0,IF(O94>0,O94-($B$63/1000)-O169-O194,0),IF(O94>0,O94-($B$56/1000)-O169-O194,0)),IF(O94>0,O94-O169-O194,0)),Input!R40)","v":20},{"$f":"IF($B$20>0,IF(P119>0,IF(P72>0,IF(P94>0,P94-($B$63/1000)-P169-P194,0),IF(P94>0,P94-($B$56/1000)-P169-P194,0)),IF(P94>0,P94-P169-P194,0)),Input!S40)","v":20},{"$f":"IF($B$20>0,IF(Q119>0,IF(Q72>0,IF(Q94>0,Q94-($B$63/1000)-Q169-Q194,0),IF(Q94>0,Q94-($B$56/1000)-Q169-Q194,0)),IF(Q94>0,Q94-Q169-Q194,0)),Input!T40)","v":20},{"$f":"IF($B$20>0,IF(R119>0,IF(R72>0,IF(R94>0,R94-($B$63/1000)-R169-R194,0),IF(R94>0,R94-($B$56/1000)-R169-R194,0)),IF(R94>0,R94-R169-R194,0)),Input!U40)","v":20},{"$f":"IF($B$20>0,IF(S119>0,IF(S72>0,IF(S94>0,S94-($B$63/1000)-S169-S194,0),IF(S94>0,S94-($B$56/1000)-S169-S194,0)),IF(S94>0,S94-S169-S194,0)),Input!V40)","v":20},{"$f":"IF($B$20>0,IF(T119>0,IF(T72>0,IF(T94>0,T94-($B$63/1000)-T169-T194,0),IF(T94>0,T94-($B$56/1000)-T169-T194,0)),IF(T94>0,T94-T169-T194,0)),Input!W40)","v":20},{"$f":"IF($B$20>0,IF(U119>0,IF(U72>0,IF(U94>0,U94-($B$63/1000)-U169-U194,0),IF(U94>0,U94-($B$56/1000)-U169-U194,0)),IF(U94>0,U94-U169-U194,0)),Input!X40)","v":20},{"$f":"IF($B$20>0,IF(V119>0,IF(V72>0,IF(V94>0,V94-($B$63/1000)-V169-V194,0),IF(V94>0,V94-($B$56/1000)-V169-V194,0)),IF(V94>0,V94-V169-V194,0)),Input!Y40)","v":20},{"$f":"IF($B$20>0,IF(W119>0,IF(W72>0,IF(W94>0,W94-($B$63/1000)-W169-W194,0),IF(W94>0,W94-($B$56/1000)-W169-W194,0)),IF(W94>0,W94-W169-W194,0)),Input!Z40)","v":20},{"$f":"IF($B$20>0,IF(X119>0,IF(X72>0,IF(X94>0,X94-($B$63/1000)-X169-X194,0),IF(X94>0,X94-($B$56/1000)-X169-X194,0)),IF(X94>0,X94-X169-X194,0)),Input!AA40)","v":20},{"$f":"IF($B$20>0,IF(Y119>0,IF(Y72>0,IF(Y94>0,Y94-($B$63/1000)-Y169-Y194,0),IF(Y94>0,Y94-($B$56/1000)-Y169-Y194,0)),IF(Y94>0,Y94-Y169-Y194,0)),Input!AB40)","v":20},{"$f":"IF($B$20>0,IF(Z119>0,IF(Z72>0,IF(Z94>0,Z94-($B$63/1000)-Z169-Z194,0),IF(Z94>0,Z94-($B$56/1000)-Z169-Z194,0)),IF(Z94>0,Z94-Z169-Z194,0)),Input!AC40)","v":20},{"$f":"IF($B$20>0,IF(AA119>0,IF(AA72>0,IF(AA94>0,AA94-($B$63/1000)-AA169-AA194,0),IF(AA94>0,AA94-($B$56/1000)-AA169-AA194,0)),IF(AA94>0,AA94-AA169-AA194,0)),Input!AD40)","v":20},{"$f":"IF($B$20>0,IF(AB119>0,IF(AB72>0,IF(AB94>0,AB94-($B$63/1000)-AB169-AB194,0),IF(AB94>0,AB94-($B$56/1000)-AB169-AB194,0)),IF(AB94>0,AB94-AB169-AB194,0)),Input!AE40)","v":20},{"$f":"IF($B$20>0,IF(AC119>0,IF(AC72>0,IF(AC94>0,AC94-($B$63/1000)-AC169-AC194,0),IF(AC94>0,AC94-($B$56/1000)-AC169-AC194,0)),IF(AC94>0,AC94-AC169-AC194,0)),Input!AF40)","v":20},{"$f":"IF($B$20>0,IF(AD119>0,IF(AD72>0,IF(AD94>0,AD94-($B$63/1000)-AD169-AD194,0),IF(AD94>0,AD94-($B$56/1000)-AD169-AD194,0)),IF(AD94>0,AD94-AD169-AD194,0)),Input!AG40)","v":20},{"$f":"IF($B$20>0,IF(AE119>0,IF(AE72>0,IF(AE94>0,AE94-($B$63/1000)-AE169-AE194,0),IF(AE94>0,AE94-($B$56/1000)-AE169-AE194,0)),IF(AE94>0,AE94-AE169-AE194,0)),Input!AH40)","v":20},{"$f":"IF($B$20>0,IF(AF119>0,IF(AF72>0,IF(AF94>0,AF94-($B$63/1000)-AF169-AF194,0),IF(AF94>0,AF94-($B$56/1000)-AF169-AF194,0)),IF(AF94>0,AF94-AF169-AF194,0)),Input!AI40)","v":20},{"$f":"IF($B$20>0,IF(AG119>0,IF(AG72>0,IF(AG94>0,AG94-($B$63/1000)-AG169-AG194,0),IF(AG94>0,AG94-($B$56/1000)-AG169-AG194,0)),IF(AG94>0,AG94-AG169-AG194,0)),Input!AJ40)","v":20},{"$f":"IF($B$20>0,IF(AH119>0,IF(AH72>0,IF(AH94>0,AH94-($B$63/1000)-AH169-AH194,0),IF(AH94>0,AH94-($B$56/1000)-AH169-AH194,0)),IF(AH94>0,AH94-AH169-AH194,0)),Input!AK40)","v":20},{"$f":"IF($B$20>0,IF(AI119>0,IF(AI72>0,IF(AI94>0,AI94-($B$63/1000)-AI169-AI194,0),IF(AI94>0,AI94-($B$56/1000)-AI169-AI194,0)),IF(AI94>0,AI94-AI169-AI194,0)),Input!AL40)","v":20},{"$f":"IF($B$20>0,IF(AJ119>0,IF(AJ72>0,IF(AJ94>0,AJ94-($B$63/1000)-AJ169-AJ194,0),IF(AJ94>0,AJ94-($B$56/1000)-AJ169-AJ194,0)),IF(AJ94>0,AJ94-AJ169-AJ194,0)),Input!AM40)","v":20},{"$f":"IF($B$20>0,IF(AK119>0,IF(AK72>0,IF(AK94>0,AK94-($B$63/1000)-AK169-AK194,0),IF(AK94>0,AK94-($B$56/1000)-AK169-AK194,0)),IF(AK94>0,AK94-AK169-AK194,0)),Input!AN40)","v":20},{"$f":"IF($B$20>0,IF(AL119>0,IF(AL72>0,IF(AL94>0,AL94-($B$63/1000)-AL169-AL194,0),IF(AL94>0,AL94-($B$56/1000)-AL169-AL194,0)),IF(AL94>0,AL94-AL169-AL194,0)),Input!AO40)","v":20},{"$f":"IF($B$20>0,IF(AM119>0,IF(AM72>0,IF(AM94>0,AM94-($B$63/1000)-AM169-AM194,0),IF(AM94>0,AM94-($B$56/1000)-AM169-AM194,0)),IF(AM94>0,AM94-AM169-AM194,0)),Input!AP40)","v":20},{"$f":"IF($B$20>0,IF(AN119>0,IF(AN72>0,IF(AN94>0,AN94-($B$63/1000)-AN169-AN194,0),IF(AN94>0,AN94-($B$56/1000)-AN169-AN194,0)),IF(AN94>0,AN94-AN169-AN194,0)),Input!AQ40)","v":20},{"$f":"IF($B$20>0,IF(AO119>0,IF(AO72>0,IF(AO94>0,AO94-($B$63/1000)-AO169-AO194,0),IF(AO94>0,AO94-($B$56/1000)-AO169-AO194,0)),IF(AO94>0,AO94-AO169-AO194,0)),Input!AR40)","v":20},{"$f":"IF($B$20>0,IF(AP119>0,IF(AP72>0,IF(AP94>0,AP94-($B$63/1000)-AP169-AP194,0),IF(AP94>0,AP94-($B$56/1000)-AP169-AP194,0)),IF(AP94>0,AP94-AP169-AP194,0)),Input!AS40)","v":20}]
[null,null,{"$f":"IF($B$20>0,IF(C120>0,IF(C73>0,IF(C95>0,C95-($B$63/1000)-C170-C195,0),IF(C95>0,C95-($B$56/1000)-C170-C195,0)),IF(C95>0,C95-C170-C195,0)),Input!F41)","v":20},{"$f":"IF($B$20>0,IF(D120>0,IF(D73>0,IF(D95>0,D95-($B$63/1000)-D170-D195,0),IF(D95>0,D95-($B$56/1000)-D170-D195,0)),IF(D95>0,D95-D170-D195,0)),Input!G41)","v":20},{"$f":"IF($B$20>0,IF(E120>0,IF(E73>0,IF(E95>0,E95-($B$63/1000)-E170-E195,0),IF(E95>0,E95-($B$56/1000)-E170-E195,0)),IF(E95>0,E95-E170-E195,0)),Input!H41)","v":20},{"$f":"IF($B$20>0,IF(F120>0,IF(F73>0,IF(F95>0,F95-($B$63/1000)-F170-F195,0),IF(F95>0,F95-($B$56/1000)-F170-F195,0)),IF(F95>0,F95-F170-F195,0)),Input!I41)","v":20},{"$f":"IF($B$20>0,IF(G120>0,IF(G73>0,IF(G95>0,G95-($B$63/1000)-G170-G195,0),IF(G95>0,G95-($B$56/1000)-G170-G195,0)),IF(G95>0,G95-G170-G195,0)),Input!J41)","v":20},{"$f":"IF($B$20>0,IF(H120>0,IF(H73>0,IF(H95>0,H95-($B$63/1000)-H170-H195,0),IF(H95>0,H95-($B$56/1000)-H170-H195,0)),IF(H95>0,H95-H170-H195,0)),Input!K41)","v":20},{"$f":"IF($B$20>0,IF(I120>0,IF(I73>0,IF(I95>0,I95-($B$63/1000)-I170-I195,0),IF(I95>0,I95-($B$56/1000)-I170-I195,0)),IF(I95>0,I95-I170-I195,0)),Input!L41)","v":20},{"$f":"IF($B$20>0,IF(J120>0,IF(J73>0,IF(J95>0,J95-($B$63/1000)-J170-J195,0),IF(J95>0,J95-($B$56/1000)-J170-J195,0)),IF(J95>0,J95-J170-J195,0)),Input!M41)","v":20},{"$f":"IF($B$20>0,IF(K120>0,IF(K73>0,IF(K95>0,K95-($B$63/1000)-K170-K195,0),IF(K95>0,K95-($B$56/1000)-K170-K195,0)),IF(K95>0,K95-K170-K195,0)),Input!N41)","v":20},{"$f":"IF($B$20>0,IF(L120>0,IF(L73>0,IF(L95>0,L95-($B$63/1000)-L170-L195,0),IF(L95>0,L95-($B$56/1000)-L170-L195,0)),IF(L95>0,L95-L170-L195,0)),Input!O41)","v":20},{"$f":"IF($B$20>0,IF(M120>0,IF(M73>0,IF(M95>0,M95-($B$63/1000)-M170-M195,0),IF(M95>0,M95-($B$56/1000)-M170-M195,0)),IF(M95>0,M95-M170-M195,0)),Input!P41)","v":20},{"$f":"IF($B$20>0,IF(N120>0,IF(N73>0,IF(N95>0,N95-($B$63/1000)-N170-N195,0),IF(N95>0,N95-($B$56/1000)-N170-N195,0)),IF(N95>0,N95-N170-N195,0)),Input!Q41)","v":20},{"$f":"IF($B$20>0,IF(O120>0,IF(O73>0,IF(O95>0,O95-($B$63/1000)-O170-O195,0),IF(O95>0,O95-($B$56/1000)-O170-O195,0)),IF(O95>0,O95-O170-O195,0)),Input!R41)","v":20},{"$f":"IF($B$20>0,IF(P120>0,IF(P73>0,IF(P95>0,P95-($B$63/1000)-P170-P195,0),IF(P95>0,P95-($B$56/1000)-P170-P195,0)),IF(P95>0,P95-P170-P195,0)),Input!S41)","v":20},{"$f":"IF($B$20>0,IF(Q120>0,IF(Q73>0,IF(Q95>0,Q95-($B$63/1000)-Q170-Q195,0),IF(Q95>0,Q95-($B$56/1000)-Q170-Q195,0)),IF(Q95>0,Q95-Q170-Q195,0)),Input!T41)","v":20},{"$f":"IF($B$20>0,IF(R120>0,IF(R73>0,IF(R95>0,R95-($B$63/1000)-R170-R195,0),IF(R95>0,R95-($B$56/1000)-R170-R195,0)),IF(R95>0,R95-R170-R195,0)),Input!U41)","v":20},{"$f":"IF($B$20>0,IF(S120>0,IF(S73>0,IF(S95>0,S95-($B$63/1000)-S170-S195,0),IF(S95>0,S95-($B$56/1000)-S170-S195,0)),IF(S95>0,S95-S170-S195,0)),Input!V41)","v":20},{"$f":"IF($B$20>0,IF(T120>0,IF(T73>0,IF(T95>0,T95-($B$63/1000)-T170-T195,0),IF(T95>0,T95-($B$56/1000)-T170-T195,0)),IF(T95>0,T95-T170-T195,0)),Input!W41)","v":20},{"$f":"IF($B$20>0,IF(U120>0,IF(U73>0,IF(U95>0,U95-($B$63/1000)-U170-U195,0),IF(U95>0,U95-($B$56/1000)-U170-U195,0)),IF(U95>0,U95-U170-U195,0)),Input!X41)","v":20},{"$f":"IF($B$20>0,IF(V120>0,IF(V73>0,IF(V95>0,V95-($B$63/1000)-V170-V195,0),IF(V95>0,V95-($B$56/1000)-V170-V195,0)),IF(V95>0,V95-V170-V195,0)),Input!Y41)","v":20},{"$f":"IF($B$20>0,IF(W120>0,IF(W73>0,IF(W95>0,W95-($B$63/1000)-W170-W195,0),IF(W95>0,W95-($B$56/1000)-W170-W195,0)),IF(W95>0,W95-W170-W195,0)),Input!Z41)","v":20},{"$f":"IF($B$20>0,IF(X120>0,IF(X73>0,IF(X95>0,X95-($B$63/1000)-X170-X195,0),IF(X95>0,X95-($B$56/1000)-X170-X195,0)),IF(X95>0,X95-X170-X195,0)),Input!AA41)","v":20},{"$f":"IF($B$20>0,IF(Y120>0,IF(Y73>0,IF(Y95>0,Y95-($B$63/1000)-Y170-Y195,0),IF(Y95>0,Y95-($B$56/1000)-Y170-Y195,0)),IF(Y95>0,Y95-Y170-Y195,0)),Input!AB41)","v":20},{"$f":"IF($B$20>0,IF(Z120>0,IF(Z73>0,IF(Z95>0,Z95-($B$63/1000)-Z170-Z195,0),IF(Z95>0,Z95-($B$56/1000)-Z170-Z195,0)),IF(Z95>0,Z95-Z170-Z195,0)),Input!AC41)","v":20},{"$f":"IF($B$20>0,IF(AA120>0,IF(AA73>0,IF(AA95>0,AA95-($B$63/1000)-AA170-AA195,0),IF(AA95>0,AA95-($B$56/1000)-AA170-AA195,0)),IF(AA95>0,AA95-AA170-AA195,0)),Input!AD41)","v":20},{"$f":"IF($B$20>0,IF(AB120>0,IF(AB73>0,IF(AB95>0,AB95-($B$63/1000)-AB170-AB195,0),IF(AB95>0,AB95-($B$56/1000)-AB170-AB195,0)),IF(AB95>0,AB95-AB170-AB195,0)),Input!AE41)","v":20},{"$f":"IF($B$20>0,IF(AC120>0,IF(AC73>0,IF(AC95>0,AC95-($B$63/1000)-AC170-AC195,0),IF(AC95>0,AC95-($B$56/1000)-AC170-AC195,0)),IF(AC95>0,AC95-AC170-AC195,0)),Input!AF41)","v":20},{"$f":"IF($B$20>0,IF(AD120>0,IF(AD73>0,IF(AD95>0,AD95-($B$63/1000)-AD170-AD195,0),IF(AD95>0,AD95-($B$56/1000)-AD170-AD195,0)),IF(AD95>0,AD95-AD170-AD195,0)),Input!AG41)","v":20},{"$f":"IF($B$20>0,IF(AE120>0,IF(AE73>0,IF(AE95>0,AE95-($B$63/1000)-AE170-AE195,0),IF(AE95>0,AE95-($B$56/1000)-AE170-AE195,0)),IF(AE95>0,AE95-AE170-AE195,0)),Input!AH41)","v":20},{"$f":"IF($B$20>0,IF(AF120>0,IF(AF73>0,IF(AF95>0,AF95-($B$63/1000)-AF170-AF195,0),IF(AF95>0,AF95-($B$56/1000)-AF170-AF195,0)),IF(AF95>0,AF95-AF170-AF195,0)),Input!AI41)","v":20},{"$f":"IF($B$20>0,IF(AG120>0,IF(AG73>0,IF(AG95>0,AG95-($B$63/1000)-AG170-AG195,0),IF(AG95>0,AG95-($B$56/1000)-AG170-AG195,0)),IF(AG95>0,AG95-AG170-AG195,0)),Input!AJ41)","v":20},{"$f":"IF($B$20>0,IF(AH120>0,IF(AH73>0,IF(AH95>0,AH95-($B$63/1000)-AH170-AH195,0),IF(AH95>0,AH95-($B$56/1000)-AH170-AH195,0)),IF(AH95>0,AH95-AH170-AH195,0)),Input!AK41)","v":20},{"$f":"IF($B$20>0,IF(AI120>0,IF(AI73>0,IF(AI95>0,AI95-($B$63/1000)-AI170-AI195,0),IF(AI95>0,AI95-($B$56/1000)-AI170-AI195,0)),IF(AI95>0,AI95-AI170-AI195,0)),Input!AL41)","v":20},{"$f":"IF($B$20>0,IF(AJ120>0,IF(AJ73>0,IF(AJ95>0,AJ95-($B$63/1000)-AJ170-AJ195,0),IF(AJ95>0,AJ95-($B$56/1000)-AJ170-AJ195,0)),IF(AJ95>0,AJ95-AJ170-AJ195,0)),Input!AM41)","v":20},{"$f":"IF($B$20>0,IF(AK120>0,IF(AK73>0,IF(AK95>0,AK95-($B$63/1000)-AK170-AK195,0),IF(AK95>0,AK95-($B$56/1000)-AK170-AK195,0)),IF(AK95>0,AK95-AK170-AK195,0)),Input!AN41)","v":20},{"$f":"IF($B$20>0,IF(AL120>0,IF(AL73>0,IF(AL95>0,AL95-($B$63/1000)-AL170-AL195,0),IF(AL95>0,AL95-($B$56/1000)-AL170-AL195,0)),IF(AL95>0,AL95-AL170-AL195,0)),Input!AO41)","v":20},{"$f":"IF($B$20>0,IF(AM120>0,IF(AM73>0,IF(AM95>0,AM95-($B$63/1000)-AM170-AM195,0),IF(AM95>0,AM95-($B$56/1000)-AM170-AM195,0)),IF(AM95>0,AM95-AM170-AM195,0)),Input!AP41)","v":20},{"$f":"IF($B$20>0,IF(AN120>0,IF(AN73>0,IF(AN95>0,AN95-($B$63/1000)-AN170-AN195,0),IF(AN95>0,AN95-($B$56/1000)-AN170-AN195,0)),IF(AN95>0,AN95-AN170-AN195,0)),Input!AQ41)","v":20},{"$f":"IF($B$20>0,IF(AO120>0,IF(AO73>0,IF(AO95>0,AO95-($B$63/1000)-AO170-AO195,0),IF(AO95>0,AO95-($B$56/1000)-AO170-AO195,0)),IF(AO95>0,AO95-AO170-AO195,0)),Input!AR41)","v":20},{"$f":"IF($B$20>0,IF(AP120>0,IF(AP73>0,IF(AP95>0,AP95-($B$63/1000)-AP170-AP195,0),IF(AP95>0,AP95-($B$56/1000)-AP170-AP195,0)),IF(AP95>0,AP95-AP170-AP195,0)),Input!AS41)","v":20}]
[null,null,{"$f":"IF($B$20>0,IF(C121>0,IF(C74>0,IF(C96>0,C96-($B$63/1000)-C171-C196,0),IF(C96>0,C96-($B$56/1000)-C171-C196,0)),IF(C96>0,C96-C171-C196,0)),Input!F42)","v":20},{"$f":"IF($B$20>0,IF(D121>0,IF(D74>0,IF(D96>0,D96-($B$63/1000)-D171-D196,0),IF(D96>0,D96-($B$56/1000)-D171-D196,0)),IF(D96>0,D96-D171-D196,0)),Input!G42)","v":20},{"$f":"IF($B$20>0,IF(E121>0,IF(E74>0,IF(E96>0,E96-($B$63/1000)-E171-E196,0),IF(E96>0,E96-($B$56/1000)-E171-E196,0)),IF(E96>0,E96-E171-E196,0)),Input!H42)","v":20},{"$f":"IF($B$20>0,IF(F121>0,IF(F74>0,IF(F96>0,F96-($B$63/1000)-F171-F196,0),IF(F96>0,F96-($B$56/1000)-F171-F196,0)),IF(F96>0,F96-F171-F196,0)),Input!I42)","v":20},{"$f":"IF($B$20>0,IF(G121>0,IF(G74>0,IF(G96>0,G96-($B$63/1000)-G171-G196,0),IF(G96>0,G96-($B$56/1000)-G171-G196,0)),IF(G96>0,G96-G171-G196,0)),Input!J42)","v":20},{"$f":"IF($B$20>0,IF(H121>0,IF(H74>0,IF(H96>0,H96-($B$63/1000)-H171-H196,0),IF(H96>0,H96-($B$56/1000)-H171-H196,0)),IF(H96>0,H96-H171-H196,0)),Input!K42)","v":20},{"$f":"IF($B$20>0,IF(I121>0,IF(I74>0,IF(I96>0,I96-($B$63/1000)-I171-I196,0),IF(I96>0,I96-($B$56/1000)-I171-I196,0)),IF(I96>0,I96-I171-I196,0)),Input!L42)","v":20},{"$f":"IF($B$20>0,IF(J121>0,IF(J74>0,IF(J96>0,J96-($B$63/1000)-J171-J196,0),IF(J96>0,J96-($B$56/1000)-J171-J196,0)),IF(J96>0,J96-J171-J196,0)),Input!M42)","v":20},{"$f":"IF($B$20>0,IF(K121>0,IF(K74>0,IF(K96>0,K96-($B$63/1000)-K171-K196,0),IF(K96>0,K96-($B$56/1000)-K171-K196,0)),IF(K96>0,K96-K171-K196,0)),Input!N42)","v":20},{"$f":"IF($B$20>0,IF(L121>0,IF(L74>0,IF(L96>0,L96-($B$63/1000)-L171-L196,0),IF(L96>0,L96-($B$56/1000)-L171-L196,0)),IF(L96>0,L96-L171-L196,0)),Input!O42)","v":20},{"$f":"IF($B$20>0,IF(M121>0,IF(M74>0,IF(M96>0,M96-($B$63/1000)-M171-M196,0),IF(M96>0,M96-($B$56/1000)-M171-M196,0)),IF(M96>0,M96-M171-M196,0)),Input!P42)","v":20},{"$f":"IF($B$20>0,IF(N121>0,IF(N74>0,IF(N96>0,N96-($B$63/1000)-N171-N196,0),IF(N96>0,N96-($B$56/1000)-N171-N196,0)),IF(N96>0,N96-N171-N196,0)),Input!Q42)","v":20},{"$f":"IF($B$20>0,IF(O121>0,IF(O74>0,IF(O96>0,O96-($B$63/1000)-O171-O196,0),IF(O96>0,O96-($B$56/1000)-O171-O196,0)),IF(O96>0,O96-O171-O196,0)),Input!R42)","v":20},{"$f":"IF($B$20>0,IF(P121>0,IF(P74>0,IF(P96>0,P96-($B$63/1000)-P171-P196,0),IF(P96>0,P96-($B$56/1000)-P171-P196,0)),IF(P96>0,P96-P171-P196,0)),Input!S42)","v":20},{"$f":"IF($B$20>0,IF(Q121>0,IF(Q74>0,IF(Q96>0,Q96-($B$63/1000)-Q171-Q196,0),IF(Q96>0,Q96-($B$56/1000)-Q171-Q196,0)),IF(Q96>0,Q96-Q171-Q196,0)),Input!T42)","v":20},{"$f":"IF($B$20>0,IF(R121>0,IF(R74>0,IF(R96>0,R96-($B$63/1000)-R171-R196,0),IF(R96>0,R96-($B$56/1000)-R171-R196,0)),IF(R96>0,R96-R171-R196,0)),Input!U42)","v":20},{"$f":"IF($B$20>0,IF(S121>0,IF(S74>0,IF(S96>0,S96-($B$63/1000)-S171-S196,0),IF(S96>0,S96-($B$56/1000)-S171-S196,0)),IF(S96>0,S96-S171-S196,0)),Input!V42)","v":20},{"$f":"IF($B$20>0,IF(T121>0,IF(T74>0,IF(T96>0,T96-($B$63/1000)-T171-T196,0),IF(T96>0,T96-($B$56/1000)-T171-T196,0)),IF(T96>0,T96-T171-T196,0)),Input!W42)","v":20},{"$f":"IF($B$20>0,IF(U121>0,IF(U74>0,IF(U96>0,U96-($B$63/1000)-U171-U196,0),IF(U96>0,U96-($B$56/1000)-U171-U196,0)),IF(U96>0,U96-U171-U196,0)),Input!X42)","v":20},{"$f":"IF($B$20>0,IF(V121>0,IF(V74>0,IF(V96>0,V96-($B$63/1000)-V171-V196,0),IF(V96>0,V96-($B$56/1000)-V171-V196,0)),IF(V96>0,V96-V171-V196,0)),Input!Y42)","v":20},{"$f":"IF($B$20>0,IF(W121>0,IF(W74>0,IF(W96>0,W96-($B$63/1000)-W171-W196,0),IF(W96>0,W96-($B$56/1000)-W171-W196,0)),IF(W96>0,W96-W171-W196,0)),Input!Z42)","v":20},{"$f":"IF($B$20>0,IF(X121>0,IF(X74>0,IF(X96>0,X96-($B$63/1000)-X171-X196,0),IF(X96>0,X96-($B$56/1000)-X171-X196,0)),IF(X96>0,X96-X171-X196,0)),Input!AA42)","v":20},{"$f":"IF($B$20>0,IF(Y121>0,IF(Y74>0,IF(Y96>0,Y96-($B$63/1000)-Y171-Y196,0),IF(Y96>0,Y96-($B$56/1000)-Y171-Y196,0)),IF(Y96>0,Y96-Y171-Y196,0)),Input!AB42)","v":20},{"$f":"IF($B$20>0,IF(Z121>0,IF(Z74>0,IF(Z96>0,Z96-($B$63/1000)-Z171-Z196,0),IF(Z96>0,Z96-($B$56/1000)-Z171-Z196,0)),IF(Z96>0,Z96-Z171-Z196,0)),Input!AC42)","v":20},{"$f":"IF($B$20>0,IF(AA121>0,IF(AA74>0,IF(AA96>0,AA96-($B$63/1000)-AA171-AA196,0),IF(AA96>0,AA96-($B$56/1000)-AA171-AA196,0)),IF(AA96>0,AA96-AA171-AA196,0)),Input!AD42)","v":20},{"$f":"IF($B$20>0,IF(AB121>0,IF(AB74>0,IF(AB96>0,AB96-($B$63/1000)-AB171-AB196,0),IF(AB96>0,AB96-($B$56/1000)-AB171-AB196,0)),IF(AB96>0,AB96-AB171-AB196,0)),Input!AE42)","v":20},{"$f":"IF($B$20>0,IF(AC121>0,IF(AC74>0,IF(AC96>0,AC96-($B$63/1000)-AC171-AC196,0),IF(AC96>0,AC96-($B$56/1000)-AC171-AC196,0)),IF(AC96>0,AC96-AC171-AC196,0)),Input!AF42)","v":20},{"$f":"IF($B$20>0,IF(AD121>0,IF(AD74>0,IF(AD96>0,AD96-($B$63/1000)-AD171-AD196,0),IF(AD96>0,AD96-($B$56/1000)-AD171-AD196,0)),IF(AD96>0,AD96-AD171-AD196,0)),Input!AG42)","v":20},{"$f":"IF($B$20>0,IF(AE121>0,IF(AE74>0,IF(AE96>0,AE96-($B$63/1000)-AE171-AE196,0),IF(AE96>0,AE96-($B$56/1000)-AE171-AE196,0)),IF(AE96>0,AE96-AE171-AE196,0)),Input!AH42)","v":20},{"$f":"IF($B$20>0,IF(AF121>0,IF(AF74>0,IF(AF96>0,AF96-($B$63/1000)-AF171-AF196,0),IF(AF96>0,AF96-($B$56/1000)-AF171-AF196,0)),IF(AF96>0,AF96-AF171-AF196,0)),Input!AI42)","v":20},{"$f":"IF($B$20>0,IF(AG121>0,IF(AG74>0,IF(AG96>0,AG96-($B$63/1000)-AG171-AG196,0),IF(AG96>0,AG96-($B$56/1000)-AG171-AG196,0)),IF(AG96>0,AG96-AG171-AG196,0)),Input!AJ42)","v":20},{"$f":"IF($B$20>0,IF(AH121>0,IF(AH74>0,IF(AH96>0,AH96-($B$63/1000)-AH171-AH196,0),IF(AH96>0,AH96-($B$56/1000)-AH171-AH196,0)),IF(AH96>0,AH96-AH171-AH196,0)),Input!AK42)","v":20},{"$f":"IF($B$20>0,IF(AI121>0,IF(AI74>0,IF(AI96>0,AI96-($B$63/1000)-AI171-AI196,0),IF(AI96>0,AI96-($B$56/1000)-AI171-AI196,0)),IF(AI96>0,AI96-AI171-AI196,0)),Input!AL42)","v":20},{"$f":"IF($B$20>0,IF(AJ121>0,IF(AJ74>0,IF(AJ96>0,AJ96-($B$63/1000)-AJ171-AJ196,0),IF(AJ96>0,AJ96-($B$56/1000)-AJ171-AJ196,0)),IF(AJ96>0,AJ96-AJ171-AJ196,0)),Input!AM42)","v":20},{"$f":"IF($B$20>0,IF(AK121>0,IF(AK74>0,IF(AK96>0,AK96-($B$63/1000)-AK171-AK196,0),IF(AK96>0,AK96-($B$56/1000)-AK171-AK196,0)),IF(AK96>0,AK96-AK171-AK196,0)),Input!AN42)","v":20},{"$f":"IF($B$20>0,IF(AL121>0,IF(AL74>0,IF(AL96>0,AL96-($B$63/1000)-AL171-AL196,0),IF(AL96>0,AL96-($B$56/1000)-AL171-AL196,0)),IF(AL96>0,AL96-AL171-AL196,0)),Input!AO42)","v":20},{"$f":"IF($B$20>0,IF(AM121>0,IF(AM74>0,IF(AM96>0,AM96-($B$63/1000)-AM171-AM196,0),IF(AM96>0,AM96-($B$56/1000)-AM171-AM196,0)),IF(AM96>0,AM96-AM171-AM196,0)),Input!AP42)","v":20},{"$f":"IF($B$20>0,IF(AN121>0,IF(AN74>0,IF(AN96>0,AN96-($B$63/1000)-AN171-AN196,0),IF(AN96>0,AN96-($B$56/1000)-AN171-AN196,0)),IF(AN96>0,AN96-AN171-AN196,0)),Input!AQ42)","v":20},{"$f":"IF($B$20>0,IF(AO121>0,IF(AO74>0,IF(AO96>0,AO96-($B$63/1000)-AO171-AO196,0),IF(AO96>0,AO96-($B$56/1000)-AO171-AO196,0)),IF(AO96>0,AO96-AO171-AO196,0)),Input!AR42)","v":20},{"$f":"IF($B$20>0,IF(AP121>0,IF(AP74>0,IF(AP96>0,AP96-($B$63/1000)-AP171-AP196,0),IF(AP96>0,AP96-($B$56/1000)-AP171-AP196,0)),IF(AP96>0,AP96-AP171-AP196,0)),Input!AS42)","v":20}]
[null,null,{"$f":"IF($B$20>0,IF(C122>0,IF(C75>0,IF(C97>0,C97-($B$63/1000)-C172-C197,0),IF(C97>0,C97-($B$56/1000)-C172-C197,0)),IF(C97>0,C97-C172-C197,0)),Input!F43)","v":20},{"$f":"IF($B$20>0,IF(D122>0,IF(D75>0,IF(D97>0,D97-($B$63/1000)-D172-D197,0),IF(D97>0,D97-($B$56/1000)-D172-D197,0)),IF(D97>0,D97-D172-D197,0)),Input!G43)","v":20},{"$f":"IF($B$20>0,IF(E122>0,IF(E75>0,IF(E97>0,E97-($B$63/1000)-E172-E197,0),IF(E97>0,E97-($B$56/1000)-E172-E197,0)),IF(E97>0,E97-E172-E197,0)),Input!H43)","v":20},{"$f":"IF($B$20>0,IF(F122>0,IF(F75>0,IF(F97>0,F97-($B$63/1000)-F172-F197,0),IF(F97>0,F97-($B$56/1000)-F172-F197,0)),IF(F97>0,F97-F172-F197,0)),Input!I43)","v":20},{"$f":"IF($B$20>0,IF(G122>0,IF(G75>0,IF(G97>0,G97-($B$63/1000)-G172-G197,0),IF(G97>0,G97-($B$56/1000)-G172-G197,0)),IF(G97>0,G97-G172-G197,0)),Input!J43)","v":20},{"$f":"IF($B$20>0,IF(H122>0,IF(H75>0,IF(H97>0,H97-($B$63/1000)-H172-H197,0),IF(H97>0,H97-($B$56/1000)-H172-H197,0)),IF(H97>0,H97-H172-H197,0)),Input!K43)","v":20},{"$f":"IF($B$20>0,IF(I122>0,IF(I75>0,IF(I97>0,I97-($B$63/1000)-I172-I197,0),IF(I97>0,I97-($B$56/1000)-I172-I197,0)),IF(I97>0,I97-I172-I197,0)),Input!L43)","v":20},{"$f":"IF($B$20>0,IF(J122>0,IF(J75>0,IF(J97>0,J97-($B$63/1000)-J172-J197,0),IF(J97>0,J97-($B$56/1000)-J172-J197,0)),IF(J97>0,J97-J172-J197,0)),Input!M43)","v":20},{"$f":"IF($B$20>0,IF(K122>0,IF(K75>0,IF(K97>0,K97-($B$63/1000)-K172-K197,0),IF(K97>0,K97-($B$56/1000)-K172-K197,0)),IF(K97>0,K97-K172-K197,0)),Input!N43)","v":20},{"$f":"IF($B$20>0,IF(L122>0,IF(L75>0,IF(L97>0,L97-($B$63/1000)-L172-L197,0),IF(L97>0,L97-($B$56/1000)-L172-L197,0)),IF(L97>0,L97-L172-L197,0)),Input!O43)","v":20},{"$f":"IF($B$20>0,IF(M122>0,IF(M75>0,IF(M97>0,M97-($B$63/1000)-M172-M197,0),IF(M97>0,M97-($B$56/1000)-M172-M197,0)),IF(M97>0,M97-M172-M197,0)),Input!P43)","v":20},{"$f":"IF($B$20>0,IF(N122>0,IF(N75>0,IF(N97>0,N97-($B$63/1000)-N172-N197,0),IF(N97>0,N97-($B$56/1000)-N172-N197,0)),IF(N97>0,N97-N172-N197,0)),Input!Q43)","v":20},{"$f":"IF($B$20>0,IF(O122>0,IF(O75>0,IF(O97>0,O97-($B$63/1000)-O172-O197,0),IF(O97>0,O97-($B$56/1000)-O172-O197,0)),IF(O97>0,O97-O172-O197,0)),Input!R43)","v":20},{"$f":"IF($B$20>0,IF(P122>0,IF(P75>0,IF(P97>0,P97-($B$63/1000)-P172-P197,0),IF(P97>0,P97-($B$56/1000)-P172-P197,0)),IF(P97>0,P97-P172-P197,0)),Input!S43)","v":20},{"$f":"IF($B$20>0,IF(Q122>0,IF(Q75>0,IF(Q97>0,Q97-($B$63/1000)-Q172-Q197,0),IF(Q97>0,Q97-($B$56/1000)-Q172-Q197,0)),IF(Q97>0,Q97-Q172-Q197,0)),Input!T43)","v":20},{"$f":"IF($B$20>0,IF(R122>0,IF(R75>0,IF(R97>0,R97-($B$63/1000)-R172-R197,0),IF(R97>0,R97-($B$56/1000)-R172-R197,0)),IF(R97>0,R97-R172-R197,0)),Input!U43)","v":20},{"$f":"IF($B$20>0,IF(S122>0,IF(S75>0,IF(S97>0,S97-($B$63/1000)-S172-S197,0),IF(S97>0,S97-($B$56/1000)-S172-S197,0)),IF(S97>0,S97-S172-S197,0)),Input!V43)","v":20},{"$f":"IF($B$20>0,IF(T122>0,IF(T75>0,IF(T97>0,T97-($B$63/1000)-T172-T197,0),IF(T97>0,T97-($B$56/1000)-T172-T197,0)),IF(T97>0,T97-T172-T197,0)),Input!W43)","v":20},{"$f":"IF($B$20>0,IF(U122>0,IF(U75>0,IF(U97>0,U97-($B$63/1000)-U172-U197,0),IF(U97>0,U97-($B$56/1000)-U172-U197,0)),IF(U97>0,U97-U172-U197,0)),Input!X43)","v":20},{"$f":"IF($B$20>0,IF(V122>0,IF(V75>0,IF(V97>0,V97-($B$63/1000)-V172-V197,0),IF(V97>0,V97-($B$56/1000)-V172-V197,0)),IF(V97>0,V97-V172-V197,0)),Input!Y43)","v":20},{"$f":"IF($B$20>0,IF(W122>0,IF(W75>0,IF(W97>0,W97-($B$63/1000)-W172-W197,0),IF(W97>0,W97-($B$56/1000)-W172-W197,0)),IF(W97>0,W97-W172-W197,0)),Input!Z43)","v":20},{"$f":"IF($B$20>0,IF(X122>0,IF(X75>0,IF(X97>0,X97-($B$63/1000)-X172-X197,0),IF(X97>0,X97-($B$56/1000)-X172-X197,0)),IF(X97>0,X97-X172-X197,0)),Input!AA43)","v":20},{"$f":"IF($B$20>0,IF(Y122>0,IF(Y75>0,IF(Y97>0,Y97-($B$63/1000)-Y172-Y197,0),IF(Y97>0,Y97-($B$56/1000)-Y172-Y197,0)),IF(Y97>0,Y97-Y172-Y197,0)),Input!AB43)","v":20},{"$f":"IF($B$20>0,IF(Z122>0,IF(Z75>0,IF(Z97>0,Z97-($B$63/1000)-Z172-Z197,0),IF(Z97>0,Z97-($B$56/1000)-Z172-Z197,0)),IF(Z97>0,Z97-Z172-Z197,0)),Input!AC43)","v":20},{"$f":"IF($B$20>0,IF(AA122>0,IF(AA75>0,IF(AA97>0,AA97-($B$63/1000)-AA172-AA197,0),IF(AA97>0,AA97-($B$56/1000)-AA172-AA197,0)),IF(AA97>0,AA97-AA172-AA197,0)),Input!AD43)","v":20},{"$f":"IF($B$20>0,IF(AB122>0,IF(AB75>0,IF(AB97>0,AB97-($B$63/1000)-AB172-AB197,0),IF(AB97>0,AB97-($B$56/1000)-AB172-AB197,0)),IF(AB97>0,AB97-AB172-AB197,0)),Input!AE43)","v":20},{"$f":"IF($B$20>0,IF(AC122>0,IF(AC75>0,IF(AC97>0,AC97-($B$63/1000)-AC172-AC197,0),IF(AC97>0,AC97-($B$56/1000)-AC172-AC197,0)),IF(AC97>0,AC97-AC172-AC197,0)),Input!AF43)","v":20},{"$f":"IF($B$20>0,IF(AD122>0,IF(AD75>0,IF(AD97>0,AD97-($B$63/1000)-AD172-AD197,0),IF(AD97>0,AD97-($B$56/1000)-AD172-AD197,0)),IF(AD97>0,AD97-AD172-AD197,0)),Input!AG43)","v":20},{"$f":"IF($B$20>0,IF(AE122>0,IF(AE75>0,IF(AE97>0,AE97-($B$63/1000)-AE172-AE197,0),IF(AE97>0,AE97-($B$56/1000)-AE172-AE197,0)),IF(AE97>0,AE97-AE172-AE197,0)),Input!AH43)","v":20},{"$f":"IF($B$20>0,IF(AF122>0,IF(AF75>0,IF(AF97>0,AF97-($B$63/1000)-AF172-AF197,0),IF(AF97>0,AF97-($B$56/1000)-AF172-AF197,0)),IF(AF97>0,AF97-AF172-AF197,0)),Input!AI43)","v":20},{"$f":"IF($B$20>0,IF(AG122>0,IF(AG75>0,IF(AG97>0,AG97-($B$63/1000)-AG172-AG197,0),IF(AG97>0,AG97-($B$56/1000)-AG172-AG197,0)),IF(AG97>0,AG97-AG172-AG197,0)),Input!AJ43)","v":20},{"$f":"IF($B$20>0,IF(AH122>0,IF(AH75>0,IF(AH97>0,AH97-($B$63/1000)-AH172-AH197,0),IF(AH97>0,AH97-($B$56/1000)-AH172-AH197,0)),IF(AH97>0,AH97-AH172-AH197,0)),Input!AK43)","v":20},{"$f":"IF($B$20>0,IF(AI122>0,IF(AI75>0,IF(AI97>0,AI97-($B$63/1000)-AI172-AI197,0),IF(AI97>0,AI97-($B$56/1000)-AI172-AI197,0)),IF(AI97>0,AI97-AI172-AI197,0)),Input!AL43)","v":20},{"$f":"IF($B$20>0,IF(AJ122>0,IF(AJ75>0,IF(AJ97>0,AJ97-($B$63/1000)-AJ172-AJ197,0),IF(AJ97>0,AJ97-($B$56/1000)-AJ172-AJ197,0)),IF(AJ97>0,AJ97-AJ172-AJ197,0)),Input!AM43)","v":20},{"$f":"IF($B$20>0,IF(AK122>0,IF(AK75>0,IF(AK97>0,AK97-($B$63/1000)-AK172-AK197,0),IF(AK97>0,AK97-($B$56/1000)-AK172-AK197,0)),IF(AK97>0,AK97-AK172-AK197,0)),Input!AN43)","v":20},{"$f":"IF($B$20>0,IF(AL122>0,IF(AL75>0,IF(AL97>0,AL97-($B$63/1000)-AL172-AL197,0),IF(AL97>0,AL97-($B$56/1000)-AL172-AL197,0)),IF(AL97>0,AL97-AL172-AL197,0)),Input!AO43)","v":20},{"$f":"IF($B$20>0,IF(AM122>0,IF(AM75>0,IF(AM97>0,AM97-($B$63/1000)-AM172-AM197,0),IF(AM97>0,AM97-($B$56/1000)-AM172-AM197,0)),IF(AM97>0,AM97-AM172-AM197,0)),Input!AP43)","v":20},{"$f":"IF($B$20>0,IF(AN122>0,IF(AN75>0,IF(AN97>0,AN97-($B$63/1000)-AN172-AN197,0),IF(AN97>0,AN97-($B$56/1000)-AN172-AN197,0)),IF(AN97>0,AN97-AN172-AN197,0)),Input!AQ43)","v":20},{"$f":"IF($B$20>0,IF(AO122>0,IF(AO75>0,IF(AO97>0,AO97-($B$63/1000)-AO172-AO197,0),IF(AO97>0,AO97-($B$56/1000)-AO172-AO197,0)),IF(AO97>0,AO97-AO172-AO197,0)),Input!AR43)","v":20},{"$f":"IF($B$20>0,IF(AP122>0,IF(AP75>0,IF(AP97>0,AP97-($B$63/1000)-AP172-AP197,0),IF(AP97>0,AP97-($B$56/1000)-AP172-AP197,0)),IF(AP97>0,AP97-AP172-AP197,0)),Input!AS43)","v":20}]
[null,null,{"$f":"IF($B$20>0,IF(C123>0,IF(C76>0,IF(C98>0,C98-($B$63/1000)-C173-C198,0),IF(C98>0,C98-($B$56/1000)-C173-C198,0)),IF(C98>0,C98-C173-C198,0)),Input!F44)","v":20},{"$f":"IF($B$20>0,IF(D123>0,IF(D76>0,IF(D98>0,D98-($B$63/1000)-D173-D198,0),IF(D98>0,D98-($B$56/1000)-D173-D198,0)),IF(D98>0,D98-D173-D198,0)),Input!G44)","v":20},{"$f":"IF($B$20>0,IF(E123>0,IF(E76>0,IF(E98>0,E98-($B$63/1000)-E173-E198,0),IF(E98>0,E98-($B$56/1000)-E173-E198,0)),IF(E98>0,E98-E173-E198,0)),Input!H44)","v":20},{"$f":"IF($B$20>0,IF(F123>0,IF(F76>0,IF(F98>0,F98-($B$63/1000)-F173-F198,0),IF(F98>0,F98-($B$56/1000)-F173-F198,0)),IF(F98>0,F98-F173-F198,0)),Input!I44)","v":20},{"$f":"IF($B$20>0,IF(G123>0,IF(G76>0,IF(G98>0,G98-($B$63/1000)-G173-G198,0),IF(G98>0,G98-($B$56/1000)-G173-G198,0)),IF(G98>0,G98-G173-G198,0)),Input!J44)","v":20},{"$f":"IF($B$20>0,IF(H123>0,IF(H76>0,IF(H98>0,H98-($B$63/1000)-H173-H198,0),IF(H98>0,H98-($B$56/1000)-H173-H198,0)),IF(H98>0,H98-H173-H198,0)),Input!K44)","v":20},{"$f":"IF($B$20>0,IF(I123>0,IF(I76>0,IF(I98>0,I98-($B$63/1000)-I173-I198,0),IF(I98>0,I98-($B$56/1000)-I173-I198,0)),IF(I98>0,I98-I173-I198,0)),Input!L44)","v":20},{"$f":"IF($B$20>0,IF(J123>0,IF(J76>0,IF(J98>0,J98-($B$63/1000)-J173-J198,0),IF(J98>0,J98-($B$56/1000)-J173-J198,0)),IF(J98>0,J98-J173-J198,0)),Input!M44)","v":20},{"$f":"IF($B$20>0,IF(K123>0,IF(K76>0,IF(K98>0,K98-($B$63/1000)-K173-K198,0),IF(K98>0,K98-($B$56/1000)-K173-K198,0)),IF(K98>0,K98-K173-K198,0)),Input!N44)","v":20},{"$f":"IF($B$20>0,IF(L123>0,IF(L76>0,IF(L98>0,L98-($B$63/1000)-L173-L198,0),IF(L98>0,L98-($B$56/1000)-L173-L198,0)),IF(L98>0,L98-L173-L198,0)),Input!O44)","v":20},{"$f":"IF($B$20>0,IF(M123>0,IF(M76>0,IF(M98>0,M98-($B$63/1000)-M173-M198,0),IF(M98>0,M98-($B$56/1000)-M173-M198,0)),IF(M98>0,M98-M173-M198,0)),Input!P44)","v":20},{"$f":"IF($B$20>0,IF(N123>0,IF(N76>0,IF(N98>0,N98-($B$63/1000)-N173-N198,0),IF(N98>0,N98-($B$56/1000)-N173-N198,0)),IF(N98>0,N98-N173-N198,0)),Input!Q44)","v":20},{"$f":"IF($B$20>0,IF(O123>0,IF(O76>0,IF(O98>0,O98-($B$63/1000)-O173-O198,0),IF(O98>0,O98-($B$56/1000)-O173-O198,0)),IF(O98>0,O98-O173-O198,0)),Input!R44)","v":20},{"$f":"IF($B$20>0,IF(P123>0,IF(P76>0,IF(P98>0,P98-($B$63/1000)-P173-P198,0),IF(P98>0,P98-($B$56/1000)-P173-P198,0)),IF(P98>0,P98-P173-P198,0)),Input!S44)","v":20},{"$f":"IF($B$20>0,IF(Q123>0,IF(Q76>0,IF(Q98>0,Q98-($B$63/1000)-Q173-Q198,0),IF(Q98>0,Q98-($B$56/1000)-Q173-Q198,0)),IF(Q98>0,Q98-Q173-Q198,0)),Input!T44)","v":20},{"$f":"IF($B$20>0,IF(R123>0,IF(R76>0,IF(R98>0,R98-($B$63/1000)-R173-R198,0),IF(R98>0,R98-($B$56/1000)-R173-R198,0)),IF(R98>0,R98-R173-R198,0)),Input!U44)","v":20},{"$f":"IF($B$20>0,IF(S123>0,IF(S76>0,IF(S98>0,S98-($B$63/1000)-S173-S198,0),IF(S98>0,S98-($B$56/1000)-S173-S198,0)),IF(S98>0,S98-S173-S198,0)),Input!V44)","v":20},{"$f":"IF($B$20>0,IF(T123>0,IF(T76>0,IF(T98>0,T98-($B$63/1000)-T173-T198,0),IF(T98>0,T98-($B$56/1000)-T173-T198,0)),IF(T98>0,T98-T173-T198,0)),Input!W44)","v":20},{"$f":"IF($B$20>0,IF(U123>0,IF(U76>0,IF(U98>0,U98-($B$63/1000)-U173-U198,0),IF(U98>0,U98-($B$56/1000)-U173-U198,0)),IF(U98>0,U98-U173-U198,0)),Input!X44)","v":20},{"$f":"IF($B$20>0,IF(V123>0,IF(V76>0,IF(V98>0,V98-($B$63/1000)-V173-V198,0),IF(V98>0,V98-($B$56/1000)-V173-V198,0)),IF(V98>0,V98-V173-V198,0)),Input!Y44)","v":20},{"$f":"IF($B$20>0,IF(W123>0,IF(W76>0,IF(W98>0,W98-($B$63/1000)-W173-W198,0),IF(W98>0,W98-($B$56/1000)-W173-W198,0)),IF(W98>0,W98-W173-W198,0)),Input!Z44)","v":20},{"$f":"IF($B$20>0,IF(X123>0,IF(X76>0,IF(X98>0,X98-($B$63/1000)-X173-X198,0),IF(X98>0,X98-($B$56/1000)-X173-X198,0)),IF(X98>0,X98-X173-X198,0)),Input!AA44)","v":20},{"$f":"IF($B$20>0,IF(Y123>0,IF(Y76>0,IF(Y98>0,Y98-($B$63/1000)-Y173-Y198,0),IF(Y98>0,Y98-($B$56/1000)-Y173-Y198,0)),IF(Y98>0,Y98-Y173-Y198,0)),Input!AB44)","v":20},{"$f":"IF($B$20>0,IF(Z123>0,IF(Z76>0,IF(Z98>0,Z98-($B$63/1000)-Z173-Z198,0),IF(Z98>0,Z98-($B$56/1000)-Z173-Z198,0)),IF(Z98>0,Z98-Z173-Z198,0)),Input!AC44)","v":20},{"$f":"IF($B$20>0,IF(AA123>0,IF(AA76>0,IF(AA98>0,AA98-($B$63/1000)-AA173-AA198,0),IF(AA98>0,AA98-($B$56/1000)-AA173-AA198,0)),IF(AA98>0,AA98-AA173-AA198,0)),Input!AD44)","v":20},{"$f":"IF($B$20>0,IF(AB123>0,IF(AB76>0,IF(AB98>0,AB98-($B$63/1000)-AB173-AB198,0),IF(AB98>0,AB98-($B$56/1000)-AB173-AB198,0)),IF(AB98>0,AB98-AB173-AB198,0)),Input!AE44)","v":20},{"$f":"IF($B$20>0,IF(AC123>0,IF(AC76>0,IF(AC98>0,AC98-($B$63/1000)-AC173-AC198,0),IF(AC98>0,AC98-($B$56/1000)-AC173-AC198,0)),IF(AC98>0,AC98-AC173-AC198,0)),Input!AF44)","v":20},{"$f":"IF($B$20>0,IF(AD123>0,IF(AD76>0,IF(AD98>0,AD98-($B$63/1000)-AD173-AD198,0),IF(AD98>0,AD98-($B$56/1000)-AD173-AD198,0)),IF(AD98>0,AD98-AD173-AD198,0)),Input!AG44)","v":20},{"$f":"IF($B$20>0,IF(AE123>0,IF(AE76>0,IF(AE98>0,AE98-($B$63/1000)-AE173-AE198,0),IF(AE98>0,AE98-($B$56/1000)-AE173-AE198,0)),IF(AE98>0,AE98-AE173-AE198,0)),Input!AH44)","v":20},{"$f":"IF($B$20>0,IF(AF123>0,IF(AF76>0,IF(AF98>0,AF98-($B$63/1000)-AF173-AF198,0),IF(AF98>0,AF98-($B$56/1000)-AF173-AF198,0)),IF(AF98>0,AF98-AF173-AF198,0)),Input!AI44)","v":20},{"$f":"IF($B$20>0,IF(AG123>0,IF(AG76>0,IF(AG98>0,AG98-($B$63/1000)-AG173-AG198,0),IF(AG98>0,AG98-($B$56/1000)-AG173-AG198,0)),IF(AG98>0,AG98-AG173-AG198,0)),Input!AJ44)","v":20},{"$f":"IF($B$20>0,IF(AH123>0,IF(AH76>0,IF(AH98>0,AH98-($B$63/1000)-AH173-AH198,0),IF(AH98>0,AH98-($B$56/1000)-AH173-AH198,0)),IF(AH98>0,AH98-AH173-AH198,0)),Input!AK44)","v":20},{"$f":"IF($B$20>0,IF(AI123>0,IF(AI76>0,IF(AI98>0,AI98-($B$63/1000)-AI173-AI198,0),IF(AI98>0,AI98-($B$56/1000)-AI173-AI198,0)),IF(AI98>0,AI98-AI173-AI198,0)),Input!AL44)","v":20},{"$f":"IF($B$20>0,IF(AJ123>0,IF(AJ76>0,IF(AJ98>0,AJ98-($B$63/1000)-AJ173-AJ198,0),IF(AJ98>0,AJ98-($B$56/1000)-AJ173-AJ198,0)),IF(AJ98>0,AJ98-AJ173-AJ198,0)),Input!AM44)","v":20},{"$f":"IF($B$20>0,IF(AK123>0,IF(AK76>0,IF(AK98>0,AK98-($B$63/1000)-AK173-AK198,0),IF(AK98>0,AK98-($B$56/1000)-AK173-AK198,0)),IF(AK98>0,AK98-AK173-AK198,0)),Input!AN44)","v":20},{"$f":"IF($B$20>0,IF(AL123>0,IF(AL76>0,IF(AL98>0,AL98-($B$63/1000)-AL173-AL198,0),IF(AL98>0,AL98-($B$56/1000)-AL173-AL198,0)),IF(AL98>0,AL98-AL173-AL198,0)),Input!AO44)","v":20},{"$f":"IF($B$20>0,IF(AM123>0,IF(AM76>0,IF(AM98>0,AM98-($B$63/1000)-AM173-AM198,0),IF(AM98>0,AM98-($B$56/1000)-AM173-AM198,0)),IF(AM98>0,AM98-AM173-AM198,0)),Input!AP44)","v":20},{"$f":"IF($B$20>0,IF(AN123>0,IF(AN76>0,IF(AN98>0,AN98-($B$63/1000)-AN173-AN198,0),IF(AN98>0,AN98-($B$56/1000)-AN173-AN198,0)),IF(AN98>0,AN98-AN173-AN198,0)),Input!AQ44)","v":20},{"$f":"IF($B$20>0,IF(AO123>0,IF(AO76>0,IF(AO98>0,AO98-($B$63/1000)-AO173-AO198,0),IF(AO98>0,AO98-($B$56/1000)-AO173-AO198,0)),IF(AO98>0,AO98-AO173-AO198,0)),Input!AR44)","v":20},{"$f":"IF($B$20>0,IF(AP123>0,IF(AP76>0,IF(AP98>0,AP98-($B$63/1000)-AP173-AP198,0),IF(AP98>0,AP98-($B$56/1000)-AP173-AP198,0)),IF(AP98>0,AP98-AP173-AP198,0)),Input!AS44)","v":20}]
[null,null,{"$f":"IF($B$20>0,IF(C124>0,IF(C77>0,IF(C99>0,C99-($B$63/1000)-C174-C199,0),IF(C99>0,C99-($B$56/1000)-C174-C199,0)),IF(C99>0,C99-C174-C199,0)),Input!F45)","v":20},{"$f":"IF($B$20>0,IF(D124>0,IF(D77>0,IF(D99>0,D99-($B$63/1000)-D174-D199,0),IF(D99>0,D99-($B$56/1000)-D174-D199,0)),IF(D99>0,D99-D174-D199,0)),Input!G45)","v":20},{"$f":"IF($B$20>0,IF(E124>0,IF(E77>0,IF(E99>0,E99-($B$63/1000)-E174-E199,0),IF(E99>0,E99-($B$56/1000)-E174-E199,0)),IF(E99>0,E99-E174-E199,0)),Input!H45)","v":20},{"$f":"IF($B$20>0,IF(F124>0,IF(F77>0,IF(F99>0,F99-($B$63/1000)-F174-F199,0),IF(F99>0,F99-($B$56/1000)-F174-F199,0)),IF(F99>0,F99-F174-F199,0)),Input!I45)","v":20},{"$f":"IF($B$20>0,IF(G124>0,IF(G77>0,IF(G99>0,G99-($B$63/1000)-G174-G199,0),IF(G99>0,G99-($B$56/1000)-G174-G199,0)),IF(G99>0,G99-G174-G199,0)),Input!J45)","v":20},{"$f":"IF($B$20>0,IF(H124>0,IF(H77>0,IF(H99>0,H99-($B$63/1000)-H174-H199,0),IF(H99>0,H99-($B$56/1000)-H174-H199,0)),IF(H99>0,H99-H174-H199,0)),Input!K45)","v":20},{"$f":"IF($B$20>0,IF(I124>0,IF(I77>0,IF(I99>0,I99-($B$63/1000)-I174-I199,0),IF(I99>0,I99-($B$56/1000)-I174-I199,0)),IF(I99>0,I99-I174-I199,0)),Input!L45)","v":20},{"$f":"IF($B$20>0,IF(J124>0,IF(J77>0,IF(J99>0,J99-($B$63/1000)-J174-J199,0),IF(J99>0,J99-($B$56/1000)-J174-J199,0)),IF(J99>0,J99-J174-J199,0)),Input!M45)","v":20},{"$f":"IF($B$20>0,IF(K124>0,IF(K77>0,IF(K99>0,K99-($B$63/1000)-K174-K199,0),IF(K99>0,K99-($B$56/1000)-K174-K199,0)),IF(K99>0,K99-K174-K199,0)),Input!N45)","v":20},{"$f":"IF($B$20>0,IF(L124>0,IF(L77>0,IF(L99>0,L99-($B$63/1000)-L174-L199,0),IF(L99>0,L99-($B$56/1000)-L174-L199,0)),IF(L99>0,L99-L174-L199,0)),Input!O45)","v":20},{"$f":"IF($B$20>0,IF(M124>0,IF(M77>0,IF(M99>0,M99-($B$63/1000)-M174-M199,0),IF(M99>0,M99-($B$56/1000)-M174-M199,0)),IF(M99>0,M99-M174-M199,0)),Input!P45)","v":20},{"$f":"IF($B$20>0,IF(N124>0,IF(N77>0,IF(N99>0,N99-($B$63/1000)-N174-N199,0),IF(N99>0,N99-($B$56/1000)-N174-N199,0)),IF(N99>0,N99-N174-N199,0)),Input!Q45)","v":20},{"$f":"IF($B$20>0,IF(O124>0,IF(O77>0,IF(O99>0,O99-($B$63/1000)-O174-O199,0),IF(O99>0,O99-($B$56/1000)-O174-O199,0)),IF(O99>0,O99-O174-O199,0)),Input!R45)","v":20},{"$f":"IF($B$20>0,IF(P124>0,IF(P77>0,IF(P99>0,P99-($B$63/1000)-P174-P199,0),IF(P99>0,P99-($B$56/1000)-P174-P199,0)),IF(P99>0,P99-P174-P199,0)),Input!S45)","v":20},{"$f":"IF($B$20>0,IF(Q124>0,IF(Q77>0,IF(Q99>0,Q99-($B$63/1000)-Q174-Q199,0),IF(Q99>0,Q99-($B$56/1000)-Q174-Q199,0)),IF(Q99>0,Q99-Q174-Q199,0)),Input!T45)","v":20},{"$f":"IF($B$20>0,IF(R124>0,IF(R77>0,IF(R99>0,R99-($B$63/1000)-R174-R199,0),IF(R99>0,R99-($B$56/1000)-R174-R199,0)),IF(R99>0,R99-R174-R199,0)),Input!U45)","v":20},{"$f":"IF($B$20>0,IF(S124>0,IF(S77>0,IF(S99>0,S99-($B$63/1000)-S174-S199,0),IF(S99>0,S99-($B$56/1000)-S174-S199,0)),IF(S99>0,S99-S174-S199,0)),Input!V45)","v":20},{"$f":"IF($B$20>0,IF(T124>0,IF(T77>0,IF(T99>0,T99-($B$63/1000)-T174-T199,0),IF(T99>0,T99-($B$56/1000)-T174-T199,0)),IF(T99>0,T99-T174-T199,0)),Input!W45)","v":20},{"$f":"IF($B$20>0,IF(U124>0,IF(U77>0,IF(U99>0,U99-($B$63/1000)-U174-U199,0),IF(U99>0,U99-($B$56/1000)-U174-U199,0)),IF(U99>0,U99-U174-U199,0)),Input!X45)","v":20},{"$f":"IF($B$20>0,IF(V124>0,IF(V77>0,IF(V99>0,V99-($B$63/1000)-V174-V199,0),IF(V99>0,V99-($B$56/1000)-V174-V199,0)),IF(V99>0,V99-V174-V199,0)),Input!Y45)","v":20},{"$f":"IF($B$20>0,IF(W124>0,IF(W77>0,IF(W99>0,W99-($B$63/1000)-W174-W199,0),IF(W99>0,W99-($B$56/1000)-W174-W199,0)),IF(W99>0,W99-W174-W199,0)),Input!Z45)","v":20},{"$f":"IF($B$20>0,IF(X124>0,IF(X77>0,IF(X99>0,X99-($B$63/1000)-X174-X199,0),IF(X99>0,X99-($B$56/1000)-X174-X199,0)),IF(X99>0,X99-X174-X199,0)),Input!AA45)","v":20},{"$f":"IF($B$20>0,IF(Y124>0,IF(Y77>0,IF(Y99>0,Y99-($B$63/1000)-Y174-Y199,0),IF(Y99>0,Y99-($B$56/1000)-Y174-Y199,0)),IF(Y99>0,Y99-Y174-Y199,0)),Input!AB45)","v":20},{"$f":"IF($B$20>0,IF(Z124>0,IF(Z77>0,IF(Z99>0,Z99-($B$63/1000)-Z174-Z199,0),IF(Z99>0,Z99-($B$56/1000)-Z174-Z199,0)),IF(Z99>0,Z99-Z174-Z199,0)),Input!AC45)","v":20},{"$f":"IF($B$20>0,IF(AA124>0,IF(AA77>0,IF(AA99>0,AA99-($B$63/1000)-AA174-AA199,0),IF(AA99>0,AA99-($B$56/1000)-AA174-AA199,0)),IF(AA99>0,AA99-AA174-AA199,0)),Input!AD45)","v":20},{"$f":"IF($B$20>0,IF(AB124>0,IF(AB77>0,IF(AB99>0,AB99-($B$63/1000)-AB174-AB199,0),IF(AB99>0,AB99-($B$56/1000)-AB174-AB199,0)),IF(AB99>0,AB99-AB174-AB199,0)),Input!AE45)","v":20},{"$f":"IF($B$20>0,IF(AC124>0,IF(AC77>0,IF(AC99>0,AC99-($B$63/1000)-AC174-AC199,0),IF(AC99>0,AC99-($B$56/1000)-AC174-AC199,0)),IF(AC99>0,AC99-AC174-AC199,0)),Input!AF45)","v":20},{"$f":"IF($B$20>0,IF(AD124>0,IF(AD77>0,IF(AD99>0,AD99-($B$63/1000)-AD174-AD199,0),IF(AD99>0,AD99-($B$56/1000)-AD174-AD199,0)),IF(AD99>0,AD99-AD174-AD199,0)),Input!AG45)","v":20},{"$f":"IF($B$20>0,IF(AE124>0,IF(AE77>0,IF(AE99>0,AE99-($B$63/1000)-AE174-AE199,0),IF(AE99>0,AE99-($B$56/1000)-AE174-AE199,0)),IF(AE99>0,AE99-AE174-AE199,0)),Input!AH45)","v":20},{"$f":"IF($B$20>0,IF(AF124>0,IF(AF77>0,IF(AF99>0,AF99-($B$63/1000)-AF174-AF199,0),IF(AF99>0,AF99-($B$56/1000)-AF174-AF199,0)),IF(AF99>0,AF99-AF174-AF199,0)),Input!AI45)","v":20},{"$f":"IF($B$20>0,IF(AG124>0,IF(AG77>0,IF(AG99>0,AG99-($B$63/1000)-AG174-AG199,0),IF(AG99>0,AG99-($B$56/1000)-AG174-AG199,0)),IF(AG99>0,AG99-AG174-AG199,0)),Input!AJ45)","v":20},{"$f":"IF($B$20>0,IF(AH124>0,IF(AH77>0,IF(AH99>0,AH99-($B$63/1000)-AH174-AH199,0),IF(AH99>0,AH99-($B$56/1000)-AH174-AH199,0)),IF(AH99>0,AH99-AH174-AH199,0)),Input!AK45)","v":20},{"$f":"IF($B$20>0,IF(AI124>0,IF(AI77>0,IF(AI99>0,AI99-($B$63/1000)-AI174-AI199,0),IF(AI99>0,AI99-($B$56/1000)-AI174-AI199,0)),IF(AI99>0,AI99-AI174-AI199,0)),Input!AL45)","v":20},{"$f":"IF($B$20>0,IF(AJ124>0,IF(AJ77>0,IF(AJ99>0,AJ99-($B$63/1000)-AJ174-AJ199,0),IF(AJ99>0,AJ99-($B$56/1000)-AJ174-AJ199,0)),IF(AJ99>0,AJ99-AJ174-AJ199,0)),Input!AM45)","v":20},{"$f":"IF($B$20>0,IF(AK124>0,IF(AK77>0,IF(AK99>0,AK99-($B$63/1000)-AK174-AK199,0),IF(AK99>0,AK99-($B$56/1000)-AK174-AK199,0)),IF(AK99>0,AK99-AK174-AK199,0)),Input!AN45)","v":20},{"$f":"IF($B$20>0,IF(AL124>0,IF(AL77>0,IF(AL99>0,AL99-($B$63/1000)-AL174-AL199,0),IF(AL99>0,AL99-($B$56/1000)-AL174-AL199,0)),IF(AL99>0,AL99-AL174-AL199,0)),Input!AO45)","v":20},{"$f":"IF($B$20>0,IF(AM124>0,IF(AM77>0,IF(AM99>0,AM99-($B$63/1000)-AM174-AM199,0),IF(AM99>0,AM99-($B$56/1000)-AM174-AM199,0)),IF(AM99>0,AM99-AM174-AM199,0)),Input!AP45)","v":20},{"$f":"IF($B$20>0,IF(AN124>0,IF(AN77>0,IF(AN99>0,AN99-($B$63/1000)-AN174-AN199,0),IF(AN99>0,AN99-($B$56/1000)-AN174-AN199,0)),IF(AN99>0,AN99-AN174-AN199,0)),Input!AQ45)","v":20},{"$f":"IF($B$20>0,IF(AO124>0,IF(AO77>0,IF(AO99>0,AO99-($B$63/1000)-AO174-AO199,0),IF(AO99>0,AO99-($B$56/1000)-AO174-AO199,0)),IF(AO99>0,AO99-AO174-AO199,0)),Input!AR45)","v":20},{"$f":"IF($B$20>0,IF(AP124>0,IF(AP77>0,IF(AP99>0,AP99-($B$63/1000)-AP174-AP199,0),IF(AP99>0,AP99-($B$56/1000)-AP174-AP199,0)),IF(AP99>0,AP99-AP174-AP199,0)),Input!AS45)","v":20}]
[null,null,{"$f":"IF($B$20>0,IF(C125>0,IF(C78>0,IF(C100>0,C100-($B$63/1000)-C175-C200,0),IF(C100>0,C100-($B$56/1000)-C175-C200,0)),IF(C100>0,C100-C175-C200,0)),Input!F46)","v":20},{"$f":"IF($B$20>0,IF(D125>0,IF(D78>0,IF(D100>0,D100-($B$63/1000)-D175-D200,0),IF(D100>0,D100-($B$56/1000)-D175-D200,0)),IF(D100>0,D100-D175-D200,0)),Input!G46)","v":20},{"$f":"IF($B$20>0,IF(E125>0,IF(E78>0,IF(E100>0,E100-($B$63/1000)-E175-E200,0),IF(E100>0,E100-($B$56/1000)-E175-E200,0)),IF(E100>0,E100-E175-E200,0)),Input!H46)","v":20},{"$f":"IF($B$20>0,IF(F125>0,IF(F78>0,IF(F100>0,F100-($B$63/1000)-F175-F200,0),IF(F100>0,F100-($B$56/1000)-F175-F200,0)),IF(F100>0,F100-F175-F200,0)),Input!I46)","v":20},{"$f":"IF($B$20>0,IF(G125>0,IF(G78>0,IF(G100>0,G100-($B$63/1000)-G175-G200,0),IF(G100>0,G100-($B$56/1000)-G175-G200,0)),IF(G100>0,G100-G175-G200,0)),Input!J46)","v":20},{"$f":"IF($B$20>0,IF(H125>0,IF(H78>0,IF(H100>0,H100-($B$63/1000)-H175-H200,0),IF(H100>0,H100-($B$56/1000)-H175-H200,0)),IF(H100>0,H100-H175-H200,0)),Input!K46)","v":20},{"$f":"IF($B$20>0,IF(I125>0,IF(I78>0,IF(I100>0,I100-($B$63/1000)-I175-I200,0),IF(I100>0,I100-($B$56/1000)-I175-I200,0)),IF(I100>0,I100-I175-I200,0)),Input!L46)","v":20},{"$f":"IF($B$20>0,IF(J125>0,IF(J78>0,IF(J100>0,J100-($B$63/1000)-J175-J200,0),IF(J100>0,J100-($B$56/1000)-J175-J200,0)),IF(J100>0,J100-J175-J200,0)),Input!M46)","v":20},{"$f":"IF($B$20>0,IF(K125>0,IF(K78>0,IF(K100>0,K100-($B$63/1000)-K175-K200,0),IF(K100>0,K100-($B$56/1000)-K175-K200,0)),IF(K100>0,K100-K175-K200,0)),Input!N46)","v":20},{"$f":"IF($B$20>0,IF(L125>0,IF(L78>0,IF(L100>0,L100-($B$63/1000)-L175-L200,0),IF(L100>0,L100-($B$56/1000)-L175-L200,0)),IF(L100>0,L100-L175-L200,0)),Input!O46)","v":20},{"$f":"IF($B$20>0,IF(M125>0,IF(M78>0,IF(M100>0,M100-($B$63/1000)-M175-M200,0),IF(M100>0,M100-($B$56/1000)-M175-M200,0)),IF(M100>0,M100-M175-M200,0)),Input!P46)","v":20},{"$f":"IF($B$20>0,IF(N125>0,IF(N78>0,IF(N100>0,N100-($B$63/1000)-N175-N200,0),IF(N100>0,N100-($B$56/1000)-N175-N200,0)),IF(N100>0,N100-N175-N200,0)),Input!Q46)","v":20},{"$f":"IF($B$20>0,IF(O125>0,IF(O78>0,IF(O100>0,O100-($B$63/1000)-O175-O200,0),IF(O100>0,O100-($B$56/1000)-O175-O200,0)),IF(O100>0,O100-O175-O200,0)),Input!R46)","v":20},{"$f":"IF($B$20>0,IF(P125>0,IF(P78>0,IF(P100>0,P100-($B$63/1000)-P175-P200,0),IF(P100>0,P100-($B$56/1000)-P175-P200,0)),IF(P100>0,P100-P175-P200,0)),Input!S46)","v":20},{"$f":"IF($B$20>0,IF(Q125>0,IF(Q78>0,IF(Q100>0,Q100-($B$63/1000)-Q175-Q200,0),IF(Q100>0,Q100-($B$56/1000)-Q175-Q200,0)),IF(Q100>0,Q100-Q175-Q200,0)),Input!T46)","v":20},{"$f":"IF($B$20>0,IF(R125>0,IF(R78>0,IF(R100>0,R100-($B$63/1000)-R175-R200,0),IF(R100>0,R100-($B$56/1000)-R175-R200,0)),IF(R100>0,R100-R175-R200,0)),Input!U46)","v":20},{"$f":"IF($B$20>0,IF(S125>0,IF(S78>0,IF(S100>0,S100-($B$63/1000)-S175-S200,0),IF(S100>0,S100-($B$56/1000)-S175-S200,0)),IF(S100>0,S100-S175-S200,0)),Input!V46)","v":20},{"$f":"IF($B$20>0,IF(T125>0,IF(T78>0,IF(T100>0,T100-($B$63/1000)-T175-T200,0),IF(T100>0,T100-($B$56/1000)-T175-T200,0)),IF(T100>0,T100-T175-T200,0)),Input!W46)","v":20},{"$f":"IF($B$20>0,IF(U125>0,IF(U78>0,IF(U100>0,U100-($B$63/1000)-U175-U200,0),IF(U100>0,U100-($B$56/1000)-U175-U200,0)),IF(U100>0,U100-U175-U200,0)),Input!X46)","v":20},{"$f":"IF($B$20>0,IF(V125>0,IF(V78>0,IF(V100>0,V100-($B$63/1000)-V175-V200,0),IF(V100>0,V100-($B$56/1000)-V175-V200,0)),IF(V100>0,V100-V175-V200,0)),Input!Y46)","v":20},{"$f":"IF($B$20>0,IF(W125>0,IF(W78>0,IF(W100>0,W100-($B$63/1000)-W175-W200,0),IF(W100>0,W100-($B$56/1000)-W175-W200,0)),IF(W100>0,W100-W175-W200,0)),Input!Z46)","v":20},{"$f":"IF($B$20>0,IF(X125>0,IF(X78>0,IF(X100>0,X100-($B$63/1000)-X175-X200,0),IF(X100>0,X100-($B$56/1000)-X175-X200,0)),IF(X100>0,X100-X175-X200,0)),Input!AA46)","v":20},{"$f":"IF($B$20>0,IF(Y125>0,IF(Y78>0,IF(Y100>0,Y100-($B$63/1000)-Y175-Y200,0),IF(Y100>0,Y100-($B$56/1000)-Y175-Y200,0)),IF(Y100>0,Y100-Y175-Y200,0)),Input!AB46)","v":20},{"$f":"IF($B$20>0,IF(Z125>0,IF(Z78>0,IF(Z100>0,Z100-($B$63/1000)-Z175-Z200,0),IF(Z100>0,Z100-($B$56/1000)-Z175-Z200,0)),IF(Z100>0,Z100-Z175-Z200,0)),Input!AC46)","v":20},{"$f":"IF($B$20>0,IF(AA125>0,IF(AA78>0,IF(AA100>0,AA100-($B$63/1000)-AA175-AA200,0),IF(AA100>0,AA100-($B$56/1000)-AA175-AA200,0)),IF(AA100>0,AA100-AA175-AA200,0)),Input!AD46)","v":20},{"$f":"IF($B$20>0,IF(AB125>0,IF(AB78>0,IF(AB100>0,AB100-($B$63/1000)-AB175-AB200,0),IF(AB100>0,AB100-($B$56/1000)-AB175-AB200,0)),IF(AB100>0,AB100-AB175-AB200,0)),Input!AE46)","v":20},{"$f":"IF($B$20>0,IF(AC125>0,IF(AC78>0,IF(AC100>0,AC100-($B$63/1000)-AC175-AC200,0),IF(AC100>0,AC100-($B$56/1000)-AC175-AC200,0)),IF(AC100>0,AC100-AC175-AC200,0)),Input!AF46)","v":20},{"$f":"IF($B$20>0,IF(AD125>0,IF(AD78>0,IF(AD100>0,AD100-($B$63/1000)-AD175-AD200,0),IF(AD100>0,AD100-($B$56/1000)-AD175-AD200,0)),IF(AD100>0,AD100-AD175-AD200,0)),Input!AG46)","v":20},{"$f":"IF($B$20>0,IF(AE125>0,IF(AE78>0,IF(AE100>0,AE100-($B$63/1000)-AE175-AE200,0),IF(AE100>0,AE100-($B$56/1000)-AE175-AE200,0)),IF(AE100>0,AE100-AE175-AE200,0)),Input!AH46)","v":20},{"$f":"IF($B$20>0,IF(AF125>0,IF(AF78>0,IF(AF100>0,AF100-($B$63/1000)-AF175-AF200,0),IF(AF100>0,AF100-($B$56/1000)-AF175-AF200,0)),IF(AF100>0,AF100-AF175-AF200,0)),Input!AI46)","v":20},{"$f":"IF($B$20>0,IF(AG125>0,IF(AG78>0,IF(AG100>0,AG100-($B$63/1000)-AG175-AG200,0),IF(AG100>0,AG100-($B$56/1000)-AG175-AG200,0)),IF(AG100>0,AG100-AG175-AG200,0)),Input!AJ46)","v":20},{"$f":"IF($B$20>0,IF(AH125>0,IF(AH78>0,IF(AH100>0,AH100-($B$63/1000)-AH175-AH200,0),IF(AH100>0,AH100-($B$56/1000)-AH175-AH200,0)),IF(AH100>0,AH100-AH175-AH200,0)),Input!AK46)","v":20},{"$f":"IF($B$20>0,IF(AI125>0,IF(AI78>0,IF(AI100>0,AI100-($B$63/1000)-AI175-AI200,0),IF(AI100>0,AI100-($B$56/1000)-AI175-AI200,0)),IF(AI100>0,AI100-AI175-AI200,0)),Input!AL46)","v":20},{"$f":"IF($B$20>0,IF(AJ125>0,IF(AJ78>0,IF(AJ100>0,AJ100-($B$63/1000)-AJ175-AJ200,0),IF(AJ100>0,AJ100-($B$56/1000)-AJ175-AJ200,0)),IF(AJ100>0,AJ100-AJ175-AJ200,0)),Input!AM46)","v":20},{"$f":"IF($B$20>0,IF(AK125>0,IF(AK78>0,IF(AK100>0,AK100-($B$63/1000)-AK175-AK200,0),IF(AK100>0,AK100-($B$56/1000)-AK175-AK200,0)),IF(AK100>0,AK100-AK175-AK200,0)),Input!AN46)","v":20},{"$f":"IF($B$20>0,IF(AL125>0,IF(AL78>0,IF(AL100>0,AL100-($B$63/1000)-AL175-AL200,0),IF(AL100>0,AL100-($B$56/1000)-AL175-AL200,0)),IF(AL100>0,AL100-AL175-AL200,0)),Input!AO46)","v":20},{"$f":"IF($B$20>0,IF(AM125>0,IF(AM78>0,IF(AM100>0,AM100-($B$63/1000)-AM175-AM200,0),IF(AM100>0,AM100-($B$56/1000)-AM175-AM200,0)),IF(AM100>0,AM100-AM175-AM200,0)),Input!AP46)","v":20},{"$f":"IF($B$20>0,IF(AN125>0,IF(AN78>0,IF(AN100>0,AN100-($B$63/1000)-AN175-AN200,0),IF(AN100>0,AN100-($B$56/1000)-AN175-AN200,0)),IF(AN100>0,AN100-AN175-AN200,0)),Input!AQ46)","v":20},{"$f":"IF($B$20>0,IF(AO125>0,IF(AO78>0,IF(AO100>0,AO100-($B$63/1000)-AO175-AO200,0),IF(AO100>0,AO100-($B$56/1000)-AO175-AO200,0)),IF(AO100>0,AO100-AO175-AO200,0)),Input!AR46)","v":20},{"$f":"IF($B$20>0,IF(AP125>0,IF(AP78>0,IF(AP100>0,AP100-($B$63/1000)-AP175-AP200,0),IF(AP100>0,AP100-($B$56/1000)-AP175-AP200,0)),IF(AP100>0,AP100-AP175-AP200,0)),Input!AS46)","v":20}]
[null,null,{"$f":"IF($B$20>0,IF(C126>0,IF(C79>0,IF(C101>0,C101-($B$63/1000)-C176-C201,0),IF(C101>0,C101-($B$56/1000)-C176-C201,0)),IF(C101>0,C101-C176-C201,0)),Input!F47)","v":20},{"$f":"IF($B$20>0,IF(D126>0,IF(D79>0,IF(D101>0,D101-($B$63/1000)-D176-D201,0),IF(D101>0,D101-($B$56/1000)-D176-D201,0)),IF(D101>0,D101-D176-D201,0)),Input!G47)","v":20},{"$f":"IF($B$20>0,IF(E126>0,IF(E79>0,IF(E101>0,E101-($B$63/1000)-E176-E201,0),IF(E101>0,E101-($B$56/1000)-E176-E201,0)),IF(E101>0,E101-E176-E201,0)),Input!H47)","v":20},{"$f":"IF($B$20>0,IF(F126>0,IF(F79>0,IF(F101>0,F101-($B$63/1000)-F176-F201,0),IF(F101>0,F101-($B$56/1000)-F176-F201,0)),IF(F101>0,F101-F176-F201,0)),Input!I47)","v":20},{"$f":"IF($B$20>0,IF(G126>0,IF(G79>0,IF(G101>0,G101-($B$63/1000)-G176-G201,0),IF(G101>0,G101-($B$56/1000)-G176-G201,0)),IF(G101>0,G101-G176-G201,0)),Input!J47)","v":20},{"$f":"IF($B$20>0,IF(H126>0,IF(H79>0,IF(H101>0,H101-($B$63/1000)-H176-H201,0),IF(H101>0,H101-($B$56/1000)-H176-H201,0)),IF(H101>0,H101-H176-H201,0)),Input!K47)","v":20},{"$f":"IF($B$20>0,IF(I126>0,IF(I79>0,IF(I101>0,I101-($B$63/1000)-I176-I201,0),IF(I101>0,I101-($B$56/1000)-I176-I201,0)),IF(I101>0,I101-I176-I201,0)),Input!L47)","v":20},{"$f":"IF($B$20>0,IF(J126>0,IF(J79>0,IF(J101>0,J101-($B$63/1000)-J176-J201,0),IF(J101>0,J101-($B$56/1000)-J176-J201,0)),IF(J101>0,J101-J176-J201,0)),Input!M47)","v":20},{"$f":"IF($B$20>0,IF(K126>0,IF(K79>0,IF(K101>0,K101-($B$63/1000)-K176-K201,0),IF(K101>0,K101-($B$56/1000)-K176-K201,0)),IF(K101>0,K101-K176-K201,0)),Input!N47)","v":20},{"$f":"IF($B$20>0,IF(L126>0,IF(L79>0,IF(L101>0,L101-($B$63/1000)-L176-L201,0),IF(L101>0,L101-($B$56/1000)-L176-L201,0)),IF(L101>0,L101-L176-L201,0)),Input!O47)","v":20},{"$f":"IF($B$20>0,IF(M126>0,IF(M79>0,IF(M101>0,M101-($B$63/1000)-M176-M201,0),IF(M101>0,M101-($B$56/1000)-M176-M201,0)),IF(M101>0,M101-M176-M201,0)),Input!P47)","v":20},{"$f":"IF($B$20>0,IF(N126>0,IF(N79>0,IF(N101>0,N101-($B$63/1000)-N176-N201,0),IF(N101>0,N101-($B$56/1000)-N176-N201,0)),IF(N101>0,N101-N176-N201,0)),Input!Q47)","v":20},{"$f":"IF($B$20>0,IF(O126>0,IF(O79>0,IF(O101>0,O101-($B$63/1000)-O176-O201,0),IF(O101>0,O101-($B$56/1000)-O176-O201,0)),IF(O101>0,O101-O176-O201,0)),Input!R47)","v":20},{"$f":"IF($B$20>0,IF(P126>0,IF(P79>0,IF(P101>0,P101-($B$63/1000)-P176-P201,0),IF(P101>0,P101-($B$56/1000)-P176-P201,0)),IF(P101>0,P101-P176-P201,0)),Input!S47)","v":20},{"$f":"IF($B$20>0,IF(Q126>0,IF(Q79>0,IF(Q101>0,Q101-($B$63/1000)-Q176-Q201,0),IF(Q101>0,Q101-($B$56/1000)-Q176-Q201,0)),IF(Q101>0,Q101-Q176-Q201,0)),Input!T47)","v":20},{"$f":"IF($B$20>0,IF(R126>0,IF(R79>0,IF(R101>0,R101-($B$63/1000)-R176-R201,0),IF(R101>0,R101-($B$56/1000)-R176-R201,0)),IF(R101>0,R101-R176-R201,0)),Input!U47)","v":20},{"$f":"IF($B$20>0,IF(S126>0,IF(S79>0,IF(S101>0,S101-($B$63/1000)-S176-S201,0),IF(S101>0,S101-($B$56/1000)-S176-S201,0)),IF(S101>0,S101-S176-S201,0)),Input!V47)","v":20},{"$f":"IF($B$20>0,IF(T126>0,IF(T79>0,IF(T101>0,T101-($B$63/1000)-T176-T201,0),IF(T101>0,T101-($B$56/1000)-T176-T201,0)),IF(T101>0,T101-T176-T201,0)),Input!W47)","v":20},{"$f":"IF($B$20>0,IF(U126>0,IF(U79>0,IF(U101>0,U101-($B$63/1000)-U176-U201,0),IF(U101>0,U101-($B$56/1000)-U176-U201,0)),IF(U101>0,U101-U176-U201,0)),Input!X47)","v":20},{"$f":"IF($B$20>0,IF(V126>0,IF(V79>0,IF(V101>0,V101-($B$63/1000)-V176-V201,0),IF(V101>0,V101-($B$56/1000)-V176-V201,0)),IF(V101>0,V101-V176-V201,0)),Input!Y47)","v":20},{"$f":"IF($B$20>0,IF(W126>0,IF(W79>0,IF(W101>0,W101-($B$63/1000)-W176-W201,0),IF(W101>0,W101-($B$56/1000)-W176-W201,0)),IF(W101>0,W101-W176-W201,0)),Input!Z47)","v":20},{"$f":"IF($B$20>0,IF(X126>0,IF(X79>0,IF(X101>0,X101-($B$63/1000)-X176-X201,0),IF(X101>0,X101-($B$56/1000)-X176-X201,0)),IF(X101>0,X101-X176-X201,0)),Input!AA47)","v":20},{"$f":"IF($B$20>0,IF(Y126>0,IF(Y79>0,IF(Y101>0,Y101-($B$63/1000)-Y176-Y201,0),IF(Y101>0,Y101-($B$56/1000)-Y176-Y201,0)),IF(Y101>0,Y101-Y176-Y201,0)),Input!AB47)","v":20},{"$f":"IF($B$20>0,IF(Z126>0,IF(Z79>0,IF(Z101>0,Z101-($B$63/1000)-Z176-Z201,0),IF(Z101>0,Z101-($B$56/1000)-Z176-Z201,0)),IF(Z101>0,Z101-Z176-Z201,0)),Input!AC47)","v":20},{"$f":"IF($B$20>0,IF(AA126>0,IF(AA79>0,IF(AA101>0,AA101-($B$63/1000)-AA176-AA201,0),IF(AA101>0,AA101-($B$56/1000)-AA176-AA201,0)),IF(AA101>0,AA101-AA176-AA201,0)),Input!AD47)","v":20},{"$f":"IF($B$20>0,IF(AB126>0,IF(AB79>0,IF(AB101>0,AB101-($B$63/1000)-AB176-AB201,0),IF(AB101>0,AB101-($B$56/1000)-AB176-AB201,0)),IF(AB101>0,AB101-AB176-AB201,0)),Input!AE47)","v":20},{"$f":"IF($B$20>0,IF(AC126>0,IF(AC79>0,IF(AC101>0,AC101-($B$63/1000)-AC176-AC201,0),IF(AC101>0,AC101-($B$56/1000)-AC176-AC201,0)),IF(AC101>0,AC101-AC176-AC201,0)),Input!AF47)","v":20},{"$f":"IF($B$20>0,IF(AD126>0,IF(AD79>0,IF(AD101>0,AD101-($B$63/1000)-AD176-AD201,0),IF(AD101>0,AD101-($B$56/1000)-AD176-AD201,0)),IF(AD101>0,AD101-AD176-AD201,0)),Input!AG47)","v":20},{"$f":"IF($B$20>0,IF(AE126>0,IF(AE79>0,IF(AE101>0,AE101-($B$63/1000)-AE176-AE201,0),IF(AE101>0,AE101-($B$56/1000)-AE176-AE201,0)),IF(AE101>0,AE101-AE176-AE201,0)),Input!AH47)","v":20},{"$f":"IF($B$20>0,IF(AF126>0,IF(AF79>0,IF(AF101>0,AF101-($B$63/1000)-AF176-AF201,0),IF(AF101>0,AF101-($B$56/1000)-AF176-AF201,0)),IF(AF101>0,AF101-AF176-AF201,0)),Input!AI47)","v":20},{"$f":"IF($B$20>0,IF(AG126>0,IF(AG79>0,IF(AG101>0,AG101-($B$63/1000)-AG176-AG201,0),IF(AG101>0,AG101-($B$56/1000)-AG176-AG201,0)),IF(AG101>0,AG101-AG176-AG201,0)),Input!AJ47)","v":20},{"$f":"IF($B$20>0,IF(AH126>0,IF(AH79>0,IF(AH101>0,AH101-($B$63/1000)-AH176-AH201,0),IF(AH101>0,AH101-($B$56/1000)-AH176-AH201,0)),IF(AH101>0,AH101-AH176-AH201,0)),Input!AK47)","v":20},{"$f":"IF($B$20>0,IF(AI126>0,IF(AI79>0,IF(AI101>0,AI101-($B$63/1000)-AI176-AI201,0),IF(AI101>0,AI101-($B$56/1000)-AI176-AI201,0)),IF(AI101>0,AI101-AI176-AI201,0)),Input!AL47)","v":20},{"$f":"IF($B$20>0,IF(AJ126>0,IF(AJ79>0,IF(AJ101>0,AJ101-($B$63/1000)-AJ176-AJ201,0),IF(AJ101>0,AJ101-($B$56/1000)-AJ176-AJ201,0)),IF(AJ101>0,AJ101-AJ176-AJ201,0)),Input!AM47)","v":20},{"$f":"IF($B$20>0,IF(AK126>0,IF(AK79>0,IF(AK101>0,AK101-($B$63/1000)-AK176-AK201,0),IF(AK101>0,AK101-($B$56/1000)-AK176-AK201,0)),IF(AK101>0,AK101-AK176-AK201,0)),Input!AN47)","v":20},{"$f":"IF($B$20>0,IF(AL126>0,IF(AL79>0,IF(AL101>0,AL101-($B$63/1000)-AL176-AL201,0),IF(AL101>0,AL101-($B$56/1000)-AL176-AL201,0)),IF(AL101>0,AL101-AL176-AL201,0)),Input!AO47)","v":20},{"$f":"IF($B$20>0,IF(AM126>0,IF(AM79>0,IF(AM101>0,AM101-($B$63/1000)-AM176-AM201,0),IF(AM101>0,AM101-($B$56/1000)-AM176-AM201,0)),IF(AM101>0,AM101-AM176-AM201,0)),Input!AP47)","v":20},{"$f":"IF($B$20>0,IF(AN126>0,IF(AN79>0,IF(AN101>0,AN101-($B$63/1000)-AN176-AN201,0),IF(AN101>0,AN101-($B$56/1000)-AN176-AN201,0)),IF(AN101>0,AN101-AN176-AN201,0)),Input!AQ47)","v":20},{"$f":"IF($B$20>0,IF(AO126>0,IF(AO79>0,IF(AO101>0,AO101-($B$63/1000)-AO176-AO201,0),IF(AO101>0,AO101-($B$56/1000)-AO176-AO201,0)),IF(AO101>0,AO101-AO176-AO201,0)),Input!AR47)","v":20},{"$f":"IF($B$20>0,IF(AP126>0,IF(AP79>0,IF(AP101>0,AP101-($B$63/1000)-AP176-AP201,0),IF(AP101>0,AP101-($B$56/1000)-AP176-AP201,0)),IF(AP101>0,AP101-AP176-AP201,0)),Input!AS47)","v":20}]
[null,null,{"$f":"IF($B$20>0,IF(C127>0,IF(C80>0,IF(C102>0,C102-($B$63/1000)-C177-C202,0),IF(C102>0,C102-($B$56/1000)-C177-C202,0)),IF(C102>0,C102-C177-C202,0)),Input!F48)","v":20},{"$f":"IF($B$20>0,IF(D127>0,IF(D80>0,IF(D102>0,D102-($B$63/1000)-D177-D202,0),IF(D102>0,D102-($B$56/1000)-D177-D202,0)),IF(D102>0,D102-D177-D202,0)),Input!G48)","v":20},{"$f":"IF($B$20>0,IF(E127>0,IF(E80>0,IF(E102>0,E102-($B$63/1000)-E177-E202,0),IF(E102>0,E102-($B$56/1000)-E177-E202,0)),IF(E102>0,E102-E177-E202,0)),Input!H48)","v":20},{"$f":"IF($B$20>0,IF(F127>0,IF(F80>0,IF(F102>0,F102-($B$63/1000)-F177-F202,0),IF(F102>0,F102-($B$56/1000)-F177-F202,0)),IF(F102>0,F102-F177-F202,0)),Input!I48)","v":20},{"$f":"IF($B$20>0,IF(G127>0,IF(G80>0,IF(G102>0,G102-($B$63/1000)-G177-G202,0),IF(G102>0,G102-($B$56/1000)-G177-G202,0)),IF(G102>0,G102-G177-G202,0)),Input!J48)","v":20},{"$f":"IF($B$20>0,IF(H127>0,IF(H80>0,IF(H102>0,H102-($B$63/1000)-H177-H202,0),IF(H102>0,H102-($B$56/1000)-H177-H202,0)),IF(H102>0,H102-H177-H202,0)),Input!K48)","v":20},{"$f":"IF($B$20>0,IF(I127>0,IF(I80>0,IF(I102>0,I102-($B$63/1000)-I177-I202,0),IF(I102>0,I102-($B$56/1000)-I177-I202,0)),IF(I102>0,I102-I177-I202,0)),Input!L48)","v":20},{"$f":"IF($B$20>0,IF(J127>0,IF(J80>0,IF(J102>0,J102-($B$63/1000)-J177-J202,0),IF(J102>0,J102-($B$56/1000)-J177-J202,0)),IF(J102>0,J102-J177-J202,0)),Input!M48)","v":20},{"$f":"IF($B$20>0,IF(K127>0,IF(K80>0,IF(K102>0,K102-($B$63/1000)-K177-K202,0),IF(K102>0,K102-($B$56/1000)-K177-K202,0)),IF(K102>0,K102-K177-K202,0)),Input!N48)","v":20},{"$f":"IF($B$20>0,IF(L127>0,IF(L80>0,IF(L102>0,L102-($B$63/1000)-L177-L202,0),IF(L102>0,L102-($B$56/1000)-L177-L202,0)),IF(L102>0,L102-L177-L202,0)),Input!O48)","v":20},{"$f":"IF($B$20>0,IF(M127>0,IF(M80>0,IF(M102>0,M102-($B$63/1000)-M177-M202,0),IF(M102>0,M102-($B$56/1000)-M177-M202,0)),IF(M102>0,M102-M177-M202,0)),Input!P48)","v":20},{"$f":"IF($B$20>0,IF(N127>0,IF(N80>0,IF(N102>0,N102-($B$63/1000)-N177-N202,0),IF(N102>0,N102-($B$56/1000)-N177-N202,0)),IF(N102>0,N102-N177-N202,0)),Input!Q48)","v":20},{"$f":"IF($B$20>0,IF(O127>0,IF(O80>0,IF(O102>0,O102-($B$63/1000)-O177-O202,0),IF(O102>0,O102-($B$56/1000)-O177-O202,0)),IF(O102>0,O102-O177-O202,0)),Input!R48)","v":20},{"$f":"IF($B$20>0,IF(P127>0,IF(P80>0,IF(P102>0,P102-($B$63/1000)-P177-P202,0),IF(P102>0,P102-($B$56/1000)-P177-P202,0)),IF(P102>0,P102-P177-P202,0)),Input!S48)","v":20},{"$f":"IF($B$20>0,IF(Q127>0,IF(Q80>0,IF(Q102>0,Q102-($B$63/1000)-Q177-Q202,0),IF(Q102>0,Q102-($B$56/1000)-Q177-Q202,0)),IF(Q102>0,Q102-Q177-Q202,0)),Input!T48)","v":20},{"$f":"IF($B$20>0,IF(R127>0,IF(R80>0,IF(R102>0,R102-($B$63/1000)-R177-R202,0),IF(R102>0,R102-($B$56/1000)-R177-R202,0)),IF(R102>0,R102-R177-R202,0)),Input!U48)","v":20},{"$f":"IF($B$20>0,IF(S127>0,IF(S80>0,IF(S102>0,S102-($B$63/1000)-S177-S202,0),IF(S102>0,S102-($B$56/1000)-S177-S202,0)),IF(S102>0,S102-S177-S202,0)),Input!V48)","v":20},{"$f":"IF($B$20>0,IF(T127>0,IF(T80>0,IF(T102>0,T102-($B$63/1000)-T177-T202,0),IF(T102>0,T102-($B$56/1000)-T177-T202,0)),IF(T102>0,T102-T177-T202,0)),Input!W48)","v":20},{"$f":"IF($B$20>0,IF(U127>0,IF(U80>0,IF(U102>0,U102-($B$63/1000)-U177-U202,0),IF(U102>0,U102-($B$56/1000)-U177-U202,0)),IF(U102>0,U102-U177-U202,0)),Input!X48)","v":20},{"$f":"IF($B$20>0,IF(V127>0,IF(V80>0,IF(V102>0,V102-($B$63/1000)-V177-V202,0),IF(V102>0,V102-($B$56/1000)-V177-V202,0)),IF(V102>0,V102-V177-V202,0)),Input!Y48)","v":20},{"$f":"IF($B$20>0,IF(W127>0,IF(W80>0,IF(W102>0,W102-($B$63/1000)-W177-W202,0),IF(W102>0,W102-($B$56/1000)-W177-W202,0)),IF(W102>0,W102-W177-W202,0)),Input!Z48)","v":20},{"$f":"IF($B$20>0,IF(X127>0,IF(X80>0,IF(X102>0,X102-($B$63/1000)-X177-X202,0),IF(X102>0,X102-($B$56/1000)-X177-X202,0)),IF(X102>0,X102-X177-X202,0)),Input!AA48)","v":20},{"$f":"IF($B$20>0,IF(Y127>0,IF(Y80>0,IF(Y102>0,Y102-($B$63/1000)-Y177-Y202,0),IF(Y102>0,Y102-($B$56/1000)-Y177-Y202,0)),IF(Y102>0,Y102-Y177-Y202,0)),Input!AB48)","v":20},{"$f":"IF($B$20>0,IF(Z127>0,IF(Z80>0,IF(Z102>0,Z102-($B$63/1000)-Z177-Z202,0),IF(Z102>0,Z102-($B$56/1000)-Z177-Z202,0)),IF(Z102>0,Z102-Z177-Z202,0)),Input!AC48)","v":20},{"$f":"IF($B$20>0,IF(AA127>0,IF(AA80>0,IF(AA102>0,AA102-($B$63/1000)-AA177-AA202,0),IF(AA102>0,AA102-($B$56/1000)-AA177-AA202,0)),IF(AA102>0,AA102-AA177-AA202,0)),Input!AD48)","v":20},{"$f":"IF($B$20>0,IF(AB127>0,IF(AB80>0,IF(AB102>0,AB102-($B$63/1000)-AB177-AB202,0),IF(AB102>0,AB102-($B$56/1000)-AB177-AB202,0)),IF(AB102>0,AB102-AB177-AB202,0)),Input!AE48)","v":20},{"$f":"IF($B$20>0,IF(AC127>0,IF(AC80>0,IF(AC102>0,AC102-($B$63/1000)-AC177-AC202,0),IF(AC102>0,AC102-($B$56/1000)-AC177-AC202,0)),IF(AC102>0,AC102-AC177-AC202,0)),Input!AF48)","v":20},{"$f":"IF($B$20>0,IF(AD127>0,IF(AD80>0,IF(AD102>0,AD102-($B$63/1000)-AD177-AD202,0),IF(AD102>0,AD102-($B$56/1000)-AD177-AD202,0)),IF(AD102>0,AD102-AD177-AD202,0)),Input!AG48)","v":20},{"$f":"IF($B$20>0,IF(AE127>0,IF(AE80>0,IF(AE102>0,AE102-($B$63/1000)-AE177-AE202,0),IF(AE102>0,AE102-($B$56/1000)-AE177-AE202,0)),IF(AE102>0,AE102-AE177-AE202,0)),Input!AH48)","v":20},{"$f":"IF($B$20>0,IF(AF127>0,IF(AF80>0,IF(AF102>0,AF102-($B$63/1000)-AF177-AF202,0),IF(AF102>0,AF102-($B$56/1000)-AF177-AF202,0)),IF(AF102>0,AF102-AF177-AF202,0)),Input!AI48)","v":20},{"$f":"IF($B$20>0,IF(AG127>0,IF(AG80>0,IF(AG102>0,AG102-($B$63/1000)-AG177-AG202,0),IF(AG102>0,AG102-($B$56/1000)-AG177-AG202,0)),IF(AG102>0,AG102-AG177-AG202,0)),Input!AJ48)","v":20},{"$f":"IF($B$20>0,IF(AH127>0,IF(AH80>0,IF(AH102>0,AH102-($B$63/1000)-AH177-AH202,0),IF(AH102>0,AH102-($B$56/1000)-AH177-AH202,0)),IF(AH102>0,AH102-AH177-AH202,0)),Input!AK48)","v":20},{"$f":"IF($B$20>0,IF(AI127>0,IF(AI80>0,IF(AI102>0,AI102-($B$63/1000)-AI177-AI202,0),IF(AI102>0,AI102-($B$56/1000)-AI177-AI202,0)),IF(AI102>0,AI102-AI177-AI202,0)),Input!AL48)","v":20},{"$f":"IF($B$20>0,IF(AJ127>0,IF(AJ80>0,IF(AJ102>0,AJ102-($B$63/1000)-AJ177-AJ202,0),IF(AJ102>0,AJ102-($B$56/1000)-AJ177-AJ202,0)),IF(AJ102>0,AJ102-AJ177-AJ202,0)),Input!AM48)","v":20},{"$f":"IF($B$20>0,IF(AK127>0,IF(AK80>0,IF(AK102>0,AK102-($B$63/1000)-AK177-AK202,0),IF(AK102>0,AK102-($B$56/1000)-AK177-AK202,0)),IF(AK102>0,AK102-AK177-AK202,0)),Input!AN48)","v":20},{"$f":"IF($B$20>0,IF(AL127>0,IF(AL80>0,IF(AL102>0,AL102-($B$63/1000)-AL177-AL202,0),IF(AL102>0,AL102-($B$56/1000)-AL177-AL202,0)),IF(AL102>0,AL102-AL177-AL202,0)),Input!AO48)","v":20},{"$f":"IF($B$20>0,IF(AM127>0,IF(AM80>0,IF(AM102>0,AM102-($B$63/1000)-AM177-AM202,0),IF(AM102>0,AM102-($B$56/1000)-AM177-AM202,0)),IF(AM102>0,AM102-AM177-AM202,0)),Input!AP48)","v":20},{"$f":"IF($B$20>0,IF(AN127>0,IF(AN80>0,IF(AN102>0,AN102-($B$63/1000)-AN177-AN202,0),IF(AN102>0,AN102-($B$56/1000)-AN177-AN202,0)),IF(AN102>0,AN102-AN177-AN202,0)),Input!AQ48)","v":20},{"$f":"IF($B$20>0,IF(AO127>0,IF(AO80>0,IF(AO102>0,AO102-($B$63/1000)-AO177-AO202,0),IF(AO102>0,AO102-($B$56/1000)-AO177-AO202,0)),IF(AO102>0,AO102-AO177-AO202,0)),Input!AR48)","v":20},{"$f":"IF($B$20>0,IF(AP127>0,IF(AP80>0,IF(AP102>0,AP102-($B$63/1000)-AP177-AP202,0),IF(AP102>0,AP102-($B$56/1000)-AP177-AP202,0)),IF(AP102>0,AP102-AP177-AP202,0)),Input!AS48)","v":20}]
[null,null,{"$f":"IF($B$20>0,IF(C128>0,IF(C81>0,IF(C103>0,C103-($B$63/1000)-C178-C203,0),IF(C103>0,C103-($B$56/1000)-C178-C203,0)),IF(C103>0,C103-C178-C203,0)),Input!F49)","v":20},{"$f":"IF($B$20>0,IF(D128>0,IF(D81>0,IF(D103>0,D103-($B$63/1000)-D178-D203,0),IF(D103>0,D103-($B$56/1000)-D178-D203,0)),IF(D103>0,D103-D178-D203,0)),Input!G49)","v":20},{"$f":"IF($B$20>0,IF(E128>0,IF(E81>0,IF(E103>0,E103-($B$63/1000)-E178-E203,0),IF(E103>0,E103-($B$56/1000)-E178-E203,0)),IF(E103>0,E103-E178-E203,0)),Input!H49)","v":20},{"$f":"IF($B$20>0,IF(F128>0,IF(F81>0,IF(F103>0,F103-($B$63/1000)-F178-F203,0),IF(F103>0,F103-($B$56/1000)-F178-F203,0)),IF(F103>0,F103-F178-F203,0)),Input!I49)","v":20},{"$f":"IF($B$20>0,IF(G128>0,IF(G81>0,IF(G103>0,G103-($B$63/1000)-G178-G203,0),IF(G103>0,G103-($B$56/1000)-G178-G203,0)),IF(G103>0,G103-G178-G203,0)),Input!J49)","v":20},{"$f":"IF($B$20>0,IF(H128>0,IF(H81>0,IF(H103>0,H103-($B$63/1000)-H178-H203,0),IF(H103>0,H103-($B$56/1000)-H178-H203,0)),IF(H103>0,H103-H178-H203,0)),Input!K49)","v":20},{"$f":"IF($B$20>0,IF(I128>0,IF(I81>0,IF(I103>0,I103-($B$63/1000)-I178-I203,0),IF(I103>0,I103-($B$56/1000)-I178-I203,0)),IF(I103>0,I103-I178-I203,0)),Input!L49)","v":20},{"$f":"IF($B$20>0,IF(J128>0,IF(J81>0,IF(J103>0,J103-($B$63/1000)-J178-J203,0),IF(J103>0,J103-($B$56/1000)-J178-J203,0)),IF(J103>0,J103-J178-J203,0)),Input!M49)","v":20},{"$f":"IF($B$20>0,IF(K128>0,IF(K81>0,IF(K103>0,K103-($B$63/1000)-K178-K203,0),IF(K103>0,K103-($B$56/1000)-K178-K203,0)),IF(K103>0,K103-K178-K203,0)),Input!N49)","v":20},{"$f":"IF($B$20>0,IF(L128>0,IF(L81>0,IF(L103>0,L103-($B$63/1000)-L178-L203,0),IF(L103>0,L103-($B$56/1000)-L178-L203,0)),IF(L103>0,L103-L178-L203,0)),Input!O49)","v":20},{"$f":"IF($B$20>0,IF(M128>0,IF(M81>0,IF(M103>0,M103-($B$63/1000)-M178-M203,0),IF(M103>0,M103-($B$56/1000)-M178-M203,0)),IF(M103>0,M103-M178-M203,0)),Input!P49)","v":20},{"$f":"IF($B$20>0,IF(N128>0,IF(N81>0,IF(N103>0,N103-($B$63/1000)-N178-N203,0),IF(N103>0,N103-($B$56/1000)-N178-N203,0)),IF(N103>0,N103-N178-N203,0)),Input!Q49)","v":20},{"$f":"IF($B$20>0,IF(O128>0,IF(O81>0,IF(O103>0,O103-($B$63/1000)-O178-O203,0),IF(O103>0,O103-($B$56/1000)-O178-O203,0)),IF(O103>0,O103-O178-O203,0)),Input!R49)","v":20},{"$f":"IF($B$20>0,IF(P128>0,IF(P81>0,IF(P103>0,P103-($B$63/1000)-P178-P203,0),IF(P103>0,P103-($B$56/1000)-P178-P203,0)),IF(P103>0,P103-P178-P203,0)),Input!S49)","v":20},{"$f":"IF($B$20>0,IF(Q128>0,IF(Q81>0,IF(Q103>0,Q103-($B$63/1000)-Q178-Q203,0),IF(Q103>0,Q103-($B$56/1000)-Q178-Q203,0)),IF(Q103>0,Q103-Q178-Q203,0)),Input!T49)","v":20},{"$f":"IF($B$20>0,IF(R128>0,IF(R81>0,IF(R103>0,R103-($B$63/1000)-R178-R203,0),IF(R103>0,R103-($B$56/1000)-R178-R203,0)),IF(R103>0,R103-R178-R203,0)),Input!U49)","v":20},{"$f":"IF($B$20>0,IF(S128>0,IF(S81>0,IF(S103>0,S103-($B$63/1000)-S178-S203,0),IF(S103>0,S103-($B$56/1000)-S178-S203,0)),IF(S103>0,S103-S178-S203,0)),Input!V49)","v":20},{"$f":"IF($B$20>0,IF(T128>0,IF(T81>0,IF(T103>0,T103-($B$63/1000)-T178-T203,0),IF(T103>0,T103-($B$56/1000)-T178-T203,0)),IF(T103>0,T103-T178-T203,0)),Input!W49)","v":20},{"$f":"IF($B$20>0,IF(U128>0,IF(U81>0,IF(U103>0,U103-($B$63/1000)-U178-U203,0),IF(U103>0,U103-($B$56/1000)-U178-U203,0)),IF(U103>0,U103-U178-U203,0)),Input!X49)","v":20},{"$f":"IF($B$20>0,IF(V128>0,IF(V81>0,IF(V103>0,V103-($B$63/1000)-V178-V203,0),IF(V103>0,V103-($B$56/1000)-V178-V203,0)),IF(V103>0,V103-V178-V203,0)),Input!Y49)","v":20},{"$f":"IF($B$20>0,IF(W128>0,IF(W81>0,IF(W103>0,W103-($B$63/1000)-W178-W203,0),IF(W103>0,W103-($B$56/1000)-W178-W203,0)),IF(W103>0,W103-W178-W203,0)),Input!Z49)","v":20},{"$f":"IF($B$20>0,IF(X128>0,IF(X81>0,IF(X103>0,X103-($B$63/1000)-X178-X203,0),IF(X103>0,X103-($B$56/1000)-X178-X203,0)),IF(X103>0,X103-X178-X203,0)),Input!AA49)","v":20},{"$f":"IF($B$20>0,IF(Y128>0,IF(Y81>0,IF(Y103>0,Y103-($B$63/1000)-Y178-Y203,0),IF(Y103>0,Y103-($B$56/1000)-Y178-Y203,0)),IF(Y103>0,Y103-Y178-Y203,0)),Input!AB49)","v":20},{"$f":"IF($B$20>0,IF(Z128>0,IF(Z81>0,IF(Z103>0,Z103-($B$63/1000)-Z178-Z203,0),IF(Z103>0,Z103-($B$56/1000)-Z178-Z203,0)),IF(Z103>0,Z103-Z178-Z203,0)),Input!AC49)","v":20},{"$f":"IF($B$20>0,IF(AA128>0,IF(AA81>0,IF(AA103>0,AA103-($B$63/1000)-AA178-AA203,0),IF(AA103>0,AA103-($B$56/1000)-AA178-AA203,0)),IF(AA103>0,AA103-AA178-AA203,0)),Input!AD49)","v":20},{"$f":"IF($B$20>0,IF(AB128>0,IF(AB81>0,IF(AB103>0,AB103-($B$63/1000)-AB178-AB203,0),IF(AB103>0,AB103-($B$56/1000)-AB178-AB203,0)),IF(AB103>0,AB103-AB178-AB203,0)),Input!AE49)","v":20},{"$f":"IF($B$20>0,IF(AC128>0,IF(AC81>0,IF(AC103>0,AC103-($B$63/1000)-AC178-AC203,0),IF(AC103>0,AC103-($B$56/1000)-AC178-AC203,0)),IF(AC103>0,AC103-AC178-AC203,0)),Input!AF49)","v":20},{"$f":"IF($B$20>0,IF(AD128>0,IF(AD81>0,IF(AD103>0,AD103-($B$63/1000)-AD178-AD203,0),IF(AD103>0,AD103-($B$56/1000)-AD178-AD203,0)),IF(AD103>0,AD103-AD178-AD203,0)),Input!AG49)","v":20},{"$f":"IF($B$20>0,IF(AE128>0,IF(AE81>0,IF(AE103>0,AE103-($B$63/1000)-AE178-AE203,0),IF(AE103>0,AE103-($B$56/1000)-AE178-AE203,0)),IF(AE103>0,AE103-AE178-AE203,0)),Input!AH49)","v":20},{"$f":"IF($B$20>0,IF(AF128>0,IF(AF81>0,IF(AF103>0,AF103-($B$63/1000)-AF178-AF203,0),IF(AF103>0,AF103-($B$56/1000)-AF178-AF203,0)),IF(AF103>0,AF103-AF178-AF203,0)),Input!AI49)","v":20},{"$f":"IF($B$20>0,IF(AG128>0,IF(AG81>0,IF(AG103>0,AG103-($B$63/1000)-AG178-AG203,0),IF(AG103>0,AG103-($B$56/1000)-AG178-AG203,0)),IF(AG103>0,AG103-AG178-AG203,0)),Input!AJ49)","v":20},{"$f":"IF($B$20>0,IF(AH128>0,IF(AH81>0,IF(AH103>0,AH103-($B$63/1000)-AH178-AH203,0),IF(AH103>0,AH103-($B$56/1000)-AH178-AH203,0)),IF(AH103>0,AH103-AH178-AH203,0)),Input!AK49)","v":20},{"$f":"IF($B$20>0,IF(AI128>0,IF(AI81>0,IF(AI103>0,AI103-($B$63/1000)-AI178-AI203,0),IF(AI103>0,AI103-($B$56/1000)-AI178-AI203,0)),IF(AI103>0,AI103-AI178-AI203,0)),Input!AL49)","v":20},{"$f":"IF($B$20>0,IF(AJ128>0,IF(AJ81>0,IF(AJ103>0,AJ103-($B$63/1000)-AJ178-AJ203,0),IF(AJ103>0,AJ103-($B$56/1000)-AJ178-AJ203,0)),IF(AJ103>0,AJ103-AJ178-AJ203,0)),Input!AM49)","v":20},{"$f":"IF($B$20>0,IF(AK128>0,IF(AK81>0,IF(AK103>0,AK103-($B$63/1000)-AK178-AK203,0),IF(AK103>0,AK103-($B$56/1000)-AK178-AK203,0)),IF(AK103>0,AK103-AK178-AK203,0)),Input!AN49)","v":20},{"$f":"IF($B$20>0,IF(AL128>0,IF(AL81>0,IF(AL103>0,AL103-($B$63/1000)-AL178-AL203,0),IF(AL103>0,AL103-($B$56/1000)-AL178-AL203,0)),IF(AL103>0,AL103-AL178-AL203,0)),Input!AO49)","v":20},{"$f":"IF($B$20>0,IF(AM128>0,IF(AM81>0,IF(AM103>0,AM103-($B$63/1000)-AM178-AM203,0),IF(AM103>0,AM103-($B$56/1000)-AM178-AM203,0)),IF(AM103>0,AM103-AM178-AM203,0)),Input!AP49)","v":20},{"$f":"IF($B$20>0,IF(AN128>0,IF(AN81>0,IF(AN103>0,AN103-($B$63/1000)-AN178-AN203,0),IF(AN103>0,AN103-($B$56/1000)-AN178-AN203,0)),IF(AN103>0,AN103-AN178-AN203,0)),Input!AQ49)","v":20},{"$f":"IF($B$20>0,IF(AO128>0,IF(AO81>0,IF(AO103>0,AO103-($B$63/1000)-AO178-AO203,0),IF(AO103>0,AO103-($B$56/1000)-AO178-AO203,0)),IF(AO103>0,AO103-AO178-AO203,0)),Input!AR49)","v":20},{"$f":"IF($B$20>0,IF(AP128>0,IF(AP81>0,IF(AP103>0,AP103-($B$63/1000)-AP178-AP203,0),IF(AP103>0,AP103-($B$56/1000)-AP178-AP203,0)),IF(AP103>0,AP103-AP178-AP203,0)),Input!AS49)","v":20}]
[null,null,{"$f":"IF($B$20>0,IF(C129>0,IF(C82>0,IF(C104>0,C104-($B$63/1000)-C179-C204,0),IF(C104>0,C104-($B$56/1000)-C179-C204,0)),IF(C104>0,C104-C179-C204,0)),Input!F50)","v":20},{"$f":"IF($B$20>0,IF(D129>0,IF(D82>0,IF(D104>0,D104-($B$63/1000)-D179-D204,0),IF(D104>0,D104-($B$56/1000)-D179-D204,0)),IF(D104>0,D104-D179-D204,0)),Input!G50)","v":20},{"$f":"IF($B$20>0,IF(E129>0,IF(E82>0,IF(E104>0,E104-($B$63/1000)-E179-E204,0),IF(E104>0,E104-($B$56/1000)-E179-E204,0)),IF(E104>0,E104-E179-E204,0)),Input!H50)","v":20},{"$f":"IF($B$20>0,IF(F129>0,IF(F82>0,IF(F104>0,F104-($B$63/1000)-F179-F204,0),IF(F104>0,F104-($B$56/1000)-F179-F204,0)),IF(F104>0,F104-F179-F204,0)),Input!I50)","v":20},{"$f":"IF($B$20>0,IF(G129>0,IF(G82>0,IF(G104>0,G104-($B$63/1000)-G179-G204,0),IF(G104>0,G104-($B$56/1000)-G179-G204,0)),IF(G104>0,G104-G179-G204,0)),Input!J50)","v":20},{"$f":"IF($B$20>0,IF(H129>0,IF(H82>0,IF(H104>0,H104-($B$63/1000)-H179-H204,0),IF(H104>0,H104-($B$56/1000)-H179-H204,0)),IF(H104>0,H104-H179-H204,0)),Input!K50)","v":20},{"$f":"IF($B$20>0,IF(I129>0,IF(I82>0,IF(I104>0,I104-($B$63/1000)-I179-I204,0),IF(I104>0,I104-($B$56/1000)-I179-I204,0)),IF(I104>0,I104-I179-I204,0)),Input!L50)","v":20},{"$f":"IF($B$20>0,IF(J129>0,IF(J82>0,IF(J104>0,J104-($B$63/1000)-J179-J204,0),IF(J104>0,J104-($B$56/1000)-J179-J204,0)),IF(J104>0,J104-J179-J204,0)),Input!M50)","v":20},{"$f":"IF($B$20>0,IF(K129>0,IF(K82>0,IF(K104>0,K104-($B$63/1000)-K179-K204,0),IF(K104>0,K104-($B$56/1000)-K179-K204,0)),IF(K104>0,K104-K179-K204,0)),Input!N50)","v":20},{"$f":"IF($B$20>0,IF(L129>0,IF(L82>0,IF(L104>0,L104-($B$63/1000)-L179-L204,0),IF(L104>0,L104-($B$56/1000)-L179-L204,0)),IF(L104>0,L104-L179-L204,0)),Input!O50)","v":20},{"$f":"IF($B$20>0,IF(M129>0,IF(M82>0,IF(M104>0,M104-($B$63/1000)-M179-M204,0),IF(M104>0,M104-($B$56/1000)-M179-M204,0)),IF(M104>0,M104-M179-M204,0)),Input!P50)","v":20},{"$f":"IF($B$20>0,IF(N129>0,IF(N82>0,IF(N104>0,N104-($B$63/1000)-N179-N204,0),IF(N104>0,N104-($B$56/1000)-N179-N204,0)),IF(N104>0,N104-N179-N204,0)),Input!Q50)","v":20},{"$f":"IF($B$20>0,IF(O129>0,IF(O82>0,IF(O104>0,O104-($B$63/1000)-O179-O204,0),IF(O104>0,O104-($B$56/1000)-O179-O204,0)),IF(O104>0,O104-O179-O204,0)),Input!R50)","v":20},{"$f":"IF($B$20>0,IF(P129>0,IF(P82>0,IF(P104>0,P104-($B$63/1000)-P179-P204,0),IF(P104>0,P104-($B$56/1000)-P179-P204,0)),IF(P104>0,P104-P179-P204,0)),Input!S50)","v":20},{"$f":"IF($B$20>0,IF(Q129>0,IF(Q82>0,IF(Q104>0,Q104-($B$63/1000)-Q179-Q204,0),IF(Q104>0,Q104-($B$56/1000)-Q179-Q204,0)),IF(Q104>0,Q104-Q179-Q204,0)),Input!T50)","v":20},{"$f":"IF($B$20>0,IF(R129>0,IF(R82>0,IF(R104>0,R104-($B$63/1000)-R179-R204,0),IF(R104>0,R104-($B$56/1000)-R179-R204,0)),IF(R104>0,R104-R179-R204,0)),Input!U50)","v":20},{"$f":"IF($B$20>0,IF(S129>0,IF(S82>0,IF(S104>0,S104-($B$63/1000)-S179-S204,0),IF(S104>0,S104-($B$56/1000)-S179-S204,0)),IF(S104>0,S104-S179-S204,0)),Input!V50)","v":20},{"$f":"IF($B$20>0,IF(T129>0,IF(T82>0,IF(T104>0,T104-($B$63/1000)-T179-T204,0),IF(T104>0,T104-($B$56/1000)-T179-T204,0)),IF(T104>0,T104-T179-T204,0)),Input!W50)","v":20},{"$f":"IF($B$20>0,IF(U129>0,IF(U82>0,IF(U104>0,U104-($B$63/1000)-U179-U204,0),IF(U104>0,U104-($B$56/1000)-U179-U204,0)),IF(U104>0,U104-U179-U204,0)),Input!X50)","v":20},{"$f":"IF($B$20>0,IF(V129>0,IF(V82>0,IF(V104>0,V104-($B$63/1000)-V179-V204,0),IF(V104>0,V104-($B$56/1000)-V179-V204,0)),IF(V104>0,V104-V179-V204,0)),Input!Y50)","v":20},{"$f":"IF($B$20>0,IF(W129>0,IF(W82>0,IF(W104>0,W104-($B$63/1000)-W179-W204,0),IF(W104>0,W104-($B$56/1000)-W179-W204,0)),IF(W104>0,W104-W179-W204,0)),Input!Z50)","v":20},{"$f":"IF($B$20>0,IF(X129>0,IF(X82>0,IF(X104>0,X104-($B$63/1000)-X179-X204,0),IF(X104>0,X104-($B$56/1000)-X179-X204,0)),IF(X104>0,X104-X179-X204,0)),Input!AA50)","v":20},{"$f":"IF($B$20>0,IF(Y129>0,IF(Y82>0,IF(Y104>0,Y104-($B$63/1000)-Y179-Y204,0),IF(Y104>0,Y104-($B$56/1000)-Y179-Y204,0)),IF(Y104>0,Y104-Y179-Y204,0)),Input!AB50)","v":20},{"$f":"IF($B$20>0,IF(Z129>0,IF(Z82>0,IF(Z104>0,Z104-($B$63/1000)-Z179-Z204,0),IF(Z104>0,Z104-($B$56/1000)-Z179-Z204,0)),IF(Z104>0,Z104-Z179-Z204,0)),Input!AC50)","v":20},{"$f":"IF($B$20>0,IF(AA129>0,IF(AA82>0,IF(AA104>0,AA104-($B$63/1000)-AA179-AA204,0),IF(AA104>0,AA104-($B$56/1000)-AA179-AA204,0)),IF(AA104>0,AA104-AA179-AA204,0)),Input!AD50)","v":20},{"$f":"IF($B$20>0,IF(AB129>0,IF(AB82>0,IF(AB104>0,AB104-($B$63/1000)-AB179-AB204,0),IF(AB104>0,AB104-($B$56/1000)-AB179-AB204,0)),IF(AB104>0,AB104-AB179-AB204,0)),Input!AE50)","v":20},{"$f":"IF($B$20>0,IF(AC129>0,IF(AC82>0,IF(AC104>0,AC104-($B$63/1000)-AC179-AC204,0),IF(AC104>0,AC104-($B$56/1000)-AC179-AC204,0)),IF(AC104>0,AC104-AC179-AC204,0)),Input!AF50)","v":20},{"$f":"IF($B$20>0,IF(AD129>0,IF(AD82>0,IF(AD104>0,AD104-($B$63/1000)-AD179-AD204,0),IF(AD104>0,AD104-($B$56/1000)-AD179-AD204,0)),IF(AD104>0,AD104-AD179-AD204,0)),Input!AG50)","v":20},{"$f":"IF($B$20>0,IF(AE129>0,IF(AE82>0,IF(AE104>0,AE104-($B$63/1000)-AE179-AE204,0),IF(AE104>0,AE104-($B$56/1000)-AE179-AE204,0)),IF(AE104>0,AE104-AE179-AE204,0)),Input!AH50)","v":20},{"$f":"IF($B$20>0,IF(AF129>0,IF(AF82>0,IF(AF104>0,AF104-($B$63/1000)-AF179-AF204,0),IF(AF104>0,AF104-($B$56/1000)-AF179-AF204,0)),IF(AF104>0,AF104-AF179-AF204,0)),Input!AI50)","v":20},{"$f":"IF($B$20>0,IF(AG129>0,IF(AG82>0,IF(AG104>0,AG104-($B$63/1000)-AG179-AG204,0),IF(AG104>0,AG104-($B$56/1000)-AG179-AG204,0)),IF(AG104>0,AG104-AG179-AG204,0)),Input!AJ50)","v":20},{"$f":"IF($B$20>0,IF(AH129>0,IF(AH82>0,IF(AH104>0,AH104-($B$63/1000)-AH179-AH204,0),IF(AH104>0,AH104-($B$56/1000)-AH179-AH204,0)),IF(AH104>0,AH104-AH179-AH204,0)),Input!AK50)","v":20},{"$f":"IF($B$20>0,IF(AI129>0,IF(AI82>0,IF(AI104>0,AI104-($B$63/1000)-AI179-AI204,0),IF(AI104>0,AI104-($B$56/1000)-AI179-AI204,0)),IF(AI104>0,AI104-AI179-AI204,0)),Input!AL50)","v":20},{"$f":"IF($B$20>0,IF(AJ129>0,IF(AJ82>0,IF(AJ104>0,AJ104-($B$63/1000)-AJ179-AJ204,0),IF(AJ104>0,AJ104-($B$56/1000)-AJ179-AJ204,0)),IF(AJ104>0,AJ104-AJ179-AJ204,0)),Input!AM50)","v":20},{"$f":"IF($B$20>0,IF(AK129>0,IF(AK82>0,IF(AK104>0,AK104-($B$63/1000)-AK179-AK204,0),IF(AK104>0,AK104-($B$56/1000)-AK179-AK204,0)),IF(AK104>0,AK104-AK179-AK204,0)),Input!AN50)","v":20},{"$f":"IF($B$20>0,IF(AL129>0,IF(AL82>0,IF(AL104>0,AL104-($B$63/1000)-AL179-AL204,0),IF(AL104>0,AL104-($B$56/1000)-AL179-AL204,0)),IF(AL104>0,AL104-AL179-AL204,0)),Input!AO50)","v":20},{"$f":"IF($B$20>0,IF(AM129>0,IF(AM82>0,IF(AM104>0,AM104-($B$63/1000)-AM179-AM204,0),IF(AM104>0,AM104-($B$56/1000)-AM179-AM204,0)),IF(AM104>0,AM104-AM179-AM204,0)),Input!AP50)","v":20},{"$f":"IF($B$20>0,IF(AN129>0,IF(AN82>0,IF(AN104>0,AN104-($B$63/1000)-AN179-AN204,0),IF(AN104>0,AN104-($B$56/1000)-AN179-AN204,0)),IF(AN104>0,AN104-AN179-AN204,0)),Input!AQ50)","v":20},{"$f":"IF($B$20>0,IF(AO129>0,IF(AO82>0,IF(AO104>0,AO104-($B$63/1000)-AO179-AO204,0),IF(AO104>0,AO104-($B$56/1000)-AO179-AO204,0)),IF(AO104>0,AO104-AO179-AO204,0)),Input!AR50)","v":20},{"$f":"IF($B$20>0,IF(AP129>0,IF(AP82>0,IF(AP104>0,AP104-($B$63/1000)-AP179-AP204,0),IF(AP104>0,AP104-($B$56/1000)-AP179-AP204,0)),IF(AP104>0,AP104-AP179-AP204,0)),Input!AS50)","v":20}]
[null,null,{"$f":"IF($B$20>0,IF(C130>0,IF(C83>0,IF(C105>0,C105-($B$63/1000)-C180-C205,0),IF(C105>0,C105-($B$56/1000)-C180-C205,0)),IF(C105>0,C105-C180-C205,0)),Input!F51)","v":20},{"$f":"IF($B$20>0,IF(D130>0,IF(D83>0,IF(D105>0,D105-($B$63/1000)-D180-D205,0),IF(D105>0,D105-($B$56/1000)-D180-D205,0)),IF(D105>0,D105-D180-D205,0)),Input!G51)","v":20},{"$f":"IF($B$20>0,IF(E130>0,IF(E83>0,IF(E105>0,E105-($B$63/1000)-E180-E205,0),IF(E105>0,E105-($B$56/1000)-E180-E205,0)),IF(E105>0,E105-E180-E205,0)),Input!H51)","v":20},{"$f":"IF($B$20>0,IF(F130>0,IF(F83>0,IF(F105>0,F105-($B$63/1000)-F180-F205,0),IF(F105>0,F105-($B$56/1000)-F180-F205,0)),IF(F105>0,F105-F180-F205,0)),Input!I51)","v":20},{"$f":"IF($B$20>0,IF(G130>0,IF(G83>0,IF(G105>0,G105-($B$63/1000)-G180-G205,0),IF(G105>0,G105-($B$56/1000)-G180-G205,0)),IF(G105>0,G105-G180-G205,0)),Input!J51)","v":20},{"$f":"IF($B$20>0,IF(H130>0,IF(H83>0,IF(H105>0,H105-($B$63/1000)-H180-H205,0),IF(H105>0,H105-($B$56/1000)-H180-H205,0)),IF(H105>0,H105-H180-H205,0)),Input!K51)","v":20},{"$f":"IF($B$20>0,IF(I130>0,IF(I83>0,IF(I105>0,I105-($B$63/1000)-I180-I205,0),IF(I105>0,I105-($B$56/1000)-I180-I205,0)),IF(I105>0,I105-I180-I205,0)),Input!L51)","v":20},{"$f":"IF($B$20>0,IF(J130>0,IF(J83>0,IF(J105>0,J105-($B$63/1000)-J180-J205,0),IF(J105>0,J105-($B$56/1000)-J180-J205,0)),IF(J105>0,J105-J180-J205,0)),Input!M51)","v":20},{"$f":"IF($B$20>0,IF(K130>0,IF(K83>0,IF(K105>0,K105-($B$63/1000)-K180-K205,0),IF(K105>0,K105-($B$56/1000)-K180-K205,0)),IF(K105>0,K105-K180-K205,0)),Input!N51)","v":20},{"$f":"IF($B$20>0,IF(L130>0,IF(L83>0,IF(L105>0,L105-($B$63/1000)-L180-L205,0),IF(L105>0,L105-($B$56/1000)-L180-L205,0)),IF(L105>0,L105-L180-L205,0)),Input!O51)","v":20},{"$f":"IF($B$20>0,IF(M130>0,IF(M83>0,IF(M105>0,M105-($B$63/1000)-M180-M205,0),IF(M105>0,M105-($B$56/1000)-M180-M205,0)),IF(M105>0,M105-M180-M205,0)),Input!P51)","v":20},{"$f":"IF($B$20>0,IF(N130>0,IF(N83>0,IF(N105>0,N105-($B$63/1000)-N180-N205,0),IF(N105>0,N105-($B$56/1000)-N180-N205,0)),IF(N105>0,N105-N180-N205,0)),Input!Q51)","v":20},{"$f":"IF($B$20>0,IF(O130>0,IF(O83>0,IF(O105>0,O105-($B$63/1000)-O180-O205,0),IF(O105>0,O105-($B$56/1000)-O180-O205,0)),IF(O105>0,O105-O180-O205,0)),Input!R51)","v":20},{"$f":"IF($B$20>0,IF(P130>0,IF(P83>0,IF(P105>0,P105-($B$63/1000)-P180-P205,0),IF(P105>0,P105-($B$56/1000)-P180-P205,0)),IF(P105>0,P105-P180-P205,0)),Input!S51)","v":20},{"$f":"IF($B$20>0,IF(Q130>0,IF(Q83>0,IF(Q105>0,Q105-($B$63/1000)-Q180-Q205,0),IF(Q105>0,Q105-($B$56/1000)-Q180-Q205,0)),IF(Q105>0,Q105-Q180-Q205,0)),Input!T51)","v":20},{"$f":"IF($B$20>0,IF(R130>0,IF(R83>0,IF(R105>0,R105-($B$63/1000)-R180-R205,0),IF(R105>0,R105-($B$56/1000)-R180-R205,0)),IF(R105>0,R105-R180-R205,0)),Input!U51)","v":20},{"$f":"IF($B$20>0,IF(S130>0,IF(S83>0,IF(S105>0,S105-($B$63/1000)-S180-S205,0),IF(S105>0,S105-($B$56/1000)-S180-S205,0)),IF(S105>0,S105-S180-S205,0)),Input!V51)","v":20},{"$f":"IF($B$20>0,IF(T130>0,IF(T83>0,IF(T105>0,T105-($B$63/1000)-T180-T205,0),IF(T105>0,T105-($B$56/1000)-T180-T205,0)),IF(T105>0,T105-T180-T205,0)),Input!W51)","v":20},{"$f":"IF($B$20>0,IF(U130>0,IF(U83>0,IF(U105>0,U105-($B$63/1000)-U180-U205,0),IF(U105>0,U105-($B$56/1000)-U180-U205,0)),IF(U105>0,U105-U180-U205,0)),Input!X51)","v":20},{"$f":"IF($B$20>0,IF(V130>0,IF(V83>0,IF(V105>0,V105-($B$63/1000)-V180-V205,0),IF(V105>0,V105-($B$56/1000)-V180-V205,0)),IF(V105>0,V105-V180-V205,0)),Input!Y51)","v":20},{"$f":"IF($B$20>0,IF(W130>0,IF(W83>0,IF(W105>0,W105-($B$63/1000)-W180-W205,0),IF(W105>0,W105-($B$56/1000)-W180-W205,0)),IF(W105>0,W105-W180-W205,0)),Input!Z51)","v":20},{"$f":"IF($B$20>0,IF(X130>0,IF(X83>0,IF(X105>0,X105-($B$63/1000)-X180-X205,0),IF(X105>0,X105-($B$56/1000)-X180-X205,0)),IF(X105>0,X105-X180-X205,0)),Input!AA51)","v":20},{"$f":"IF($B$20>0,IF(Y130>0,IF(Y83>0,IF(Y105>0,Y105-($B$63/1000)-Y180-Y205,0),IF(Y105>0,Y105-($B$56/1000)-Y180-Y205,0)),IF(Y105>0,Y105-Y180-Y205,0)),Input!AB51)","v":20},{"$f":"IF($B$20>0,IF(Z130>0,IF(Z83>0,IF(Z105>0,Z105-($B$63/1000)-Z180-Z205,0),IF(Z105>0,Z105-($B$56/1000)-Z180-Z205,0)),IF(Z105>0,Z105-Z180-Z205,0)),Input!AC51)","v":20},{"$f":"IF($B$20>0,IF(AA130>0,IF(AA83>0,IF(AA105>0,AA105-($B$63/1000)-AA180-AA205,0),IF(AA105>0,AA105-($B$56/1000)-AA180-AA205,0)),IF(AA105>0,AA105-AA180-AA205,0)),Input!AD51)","v":20},{"$f":"IF($B$20>0,IF(AB130>0,IF(AB83>0,IF(AB105>0,AB105-($B$63/1000)-AB180-AB205,0),IF(AB105>0,AB105-($B$56/1000)-AB180-AB205,0)),IF(AB105>0,AB105-AB180-AB205,0)),Input!AE51)","v":20},{"$f":"IF($B$20>0,IF(AC130>0,IF(AC83>0,IF(AC105>0,AC105-($B$63/1000)-AC180-AC205,0),IF(AC105>0,AC105-($B$56/1000)-AC180-AC205,0)),IF(AC105>0,AC105-AC180-AC205,0)),Input!AF51)","v":20},{"$f":"IF($B$20>0,IF(AD130>0,IF(AD83>0,IF(AD105>0,AD105-($B$63/1000)-AD180-AD205,0),IF(AD105>0,AD105-($B$56/1000)-AD180-AD205,0)),IF(AD105>0,AD105-AD180-AD205,0)),Input!AG51)","v":20},{"$f":"IF($B$20>0,IF(AE130>0,IF(AE83>0,IF(AE105>0,AE105-($B$63/1000)-AE180-AE205,0),IF(AE105>0,AE105-($B$56/1000)-AE180-AE205,0)),IF(AE105>0,AE105-AE180-AE205,0)),Input!AH51)","v":20},{"$f":"IF($B$20>0,IF(AF130>0,IF(AF83>0,IF(AF105>0,AF105-($B$63/1000)-AF180-AF205,0),IF(AF105>0,AF105-($B$56/1000)-AF180-AF205,0)),IF(AF105>0,AF105-AF180-AF205,0)),Input!AI51)","v":20},{"$f":"IF($B$20>0,IF(AG130>0,IF(AG83>0,IF(AG105>0,AG105-($B$63/1000)-AG180-AG205,0),IF(AG105>0,AG105-($B$56/1000)-AG180-AG205,0)),IF(AG105>0,AG105-AG180-AG205,0)),Input!AJ51)","v":20},{"$f":"IF($B$20>0,IF(AH130>0,IF(AH83>0,IF(AH105>0,AH105-($B$63/1000)-AH180-AH205,0),IF(AH105>0,AH105-($B$56/1000)-AH180-AH205,0)),IF(AH105>0,AH105-AH180-AH205,0)),Input!AK51)","v":20},{"$f":"IF($B$20>0,IF(AI130>0,IF(AI83>0,IF(AI105>0,AI105-($B$63/1000)-AI180-AI205,0),IF(AI105>0,AI105-($B$56/1000)-AI180-AI205,0)),IF(AI105>0,AI105-AI180-AI205,0)),Input!AL51)","v":20},{"$f":"IF($B$20>0,IF(AJ130>0,IF(AJ83>0,IF(AJ105>0,AJ105-($B$63/1000)-AJ180-AJ205,0),IF(AJ105>0,AJ105-($B$56/1000)-AJ180-AJ205,0)),IF(AJ105>0,AJ105-AJ180-AJ205,0)),Input!AM51)","v":20},{"$f":"IF($B$20>0,IF(AK130>0,IF(AK83>0,IF(AK105>0,AK105-($B$63/1000)-AK180-AK205,0),IF(AK105>0,AK105-($B$56/1000)-AK180-AK205,0)),IF(AK105>0,AK105-AK180-AK205,0)),Input!AN51)","v":20},{"$f":"IF($B$20>0,IF(AL130>0,IF(AL83>0,IF(AL105>0,AL105-($B$63/1000)-AL180-AL205,0),IF(AL105>0,AL105-($B$56/1000)-AL180-AL205,0)),IF(AL105>0,AL105-AL180-AL205,0)),Input!AO51)","v":20},{"$f":"IF($B$20>0,IF(AM130>0,IF(AM83>0,IF(AM105>0,AM105-($B$63/1000)-AM180-AM205,0),IF(AM105>0,AM105-($B$56/1000)-AM180-AM205,0)),IF(AM105>0,AM105-AM180-AM205,0)),Input!AP51)","v":20},{"$f":"IF($B$20>0,IF(AN130>0,IF(AN83>0,IF(AN105>0,AN105-($B$63/1000)-AN180-AN205,0),IF(AN105>0,AN105-($B$56/1000)-AN180-AN205,0)),IF(AN105>0,AN105-AN180-AN205,0)),Input!AQ51)","v":20},{"$f":"IF($B$20>0,IF(AO130>0,IF(AO83>0,IF(AO105>0,AO105-($B$63/1000)-AO180-AO205,0),IF(AO105>0,AO105-($B$56/1000)-AO180-AO205,0)),IF(AO105>0,AO105-AO180-AO205,0)),Input!AR51)","v":20},{"$f":"IF($B$20>0,IF(AP130>0,IF(AP83>0,IF(AP105>0,AP105-($B$63/1000)-AP180-AP205,0),IF(AP105>0,AP105-($B$56/1000)-AP180-AP205,0)),IF(AP105>0,AP105-AP180-AP205,0)),Input!AS51)","v":20}]
[null,null,{"$f":"IF($B$20>0,IF(C131>0,IF(C84>0,IF(C106>0,C106-($B$63/1000)-C181-C206,0),IF(C106>0,C106-($B$56/1000)-C181-C206,0)),IF(C106>0,C106-C181-C206,0)),Input!F52)","v":20},{"$f":"IF($B$20>0,IF(D131>0,IF(D84>0,IF(D106>0,D106-($B$63/1000)-D181-D206,0),IF(D106>0,D106-($B$56/1000)-D181-D206,0)),IF(D106>0,D106-D181-D206,0)),Input!G52)","v":20},{"$f":"IF($B$20>0,IF(E131>0,IF(E84>0,IF(E106>0,E106-($B$63/1000)-E181-E206,0),IF(E106>0,E106-($B$56/1000)-E181-E206,0)),IF(E106>0,E106-E181-E206,0)),Input!H52)","v":20},{"$f":"IF($B$20>0,IF(F131>0,IF(F84>0,IF(F106>0,F106-($B$63/1000)-F181-F206,0),IF(F106>0,F106-($B$56/1000)-F181-F206,0)),IF(F106>0,F106-F181-F206,0)),Input!I52)","v":20},{"$f":"IF($B$20>0,IF(G131>0,IF(G84>0,IF(G106>0,G106-($B$63/1000)-G181-G206,0),IF(G106>0,G106-($B$56/1000)-G181-G206,0)),IF(G106>0,G106-G181-G206,0)),Input!J52)","v":20},{"$f":"IF($B$20>0,IF(H131>0,IF(H84>0,IF(H106>0,H106-($B$63/1000)-H181-H206,0),IF(H106>0,H106-($B$56/1000)-H181-H206,0)),IF(H106>0,H106-H181-H206,0)),Input!K52)","v":20},{"$f":"IF($B$20>0,IF(I131>0,IF(I84>0,IF(I106>0,I106-($B$63/1000)-I181-I206,0),IF(I106>0,I106-($B$56/1000)-I181-I206,0)),IF(I106>0,I106-I181-I206,0)),Input!L52)","v":20},{"$f":"IF($B$20>0,IF(J131>0,IF(J84>0,IF(J106>0,J106-($B$63/1000)-J181-J206,0),IF(J106>0,J106-($B$56/1000)-J181-J206,0)),IF(J106>0,J106-J181-J206,0)),Input!M52)","v":20},{"$f":"IF($B$20>0,IF(K131>0,IF(K84>0,IF(K106>0,K106-($B$63/1000)-K181-K206,0),IF(K106>0,K106-($B$56/1000)-K181-K206,0)),IF(K106>0,K106-K181-K206,0)),Input!N52)","v":20},{"$f":"IF($B$20>0,IF(L131>0,IF(L84>0,IF(L106>0,L106-($B$63/1000)-L181-L206,0),IF(L106>0,L106-($B$56/1000)-L181-L206,0)),IF(L106>0,L106-L181-L206,0)),Input!O52)","v":20},{"$f":"IF($B$20>0,IF(M131>0,IF(M84>0,IF(M106>0,M106-($B$63/1000)-M181-M206,0),IF(M106>0,M106-($B$56/1000)-M181-M206,0)),IF(M106>0,M106-M181-M206,0)),Input!P52)","v":20},{"$f":"IF($B$20>0,IF(N131>0,IF(N84>0,IF(N106>0,N106-($B$63/1000)-N181-N206,0),IF(N106>0,N106-($B$56/1000)-N181-N206,0)),IF(N106>0,N106-N181-N206,0)),Input!Q52)","v":20},{"$f":"IF($B$20>0,IF(O131>0,IF(O84>0,IF(O106>0,O106-($B$63/1000)-O181-O206,0),IF(O106>0,O106-($B$56/1000)-O181-O206,0)),IF(O106>0,O106-O181-O206,0)),Input!R52)","v":20},{"$f":"IF($B$20>0,IF(P131>0,IF(P84>0,IF(P106>0,P106-($B$63/1000)-P181-P206,0),IF(P106>0,P106-($B$56/1000)-P181-P206,0)),IF(P106>0,P106-P181-P206,0)),Input!S52)","v":20},{"$f":"IF($B$20>0,IF(Q131>0,IF(Q84>0,IF(Q106>0,Q106-($B$63/1000)-Q181-Q206,0),IF(Q106>0,Q106-($B$56/1000)-Q181-Q206,0)),IF(Q106>0,Q106-Q181-Q206,0)),Input!T52)","v":20},{"$f":"IF($B$20>0,IF(R131>0,IF(R84>0,IF(R106>0,R106-($B$63/1000)-R181-R206,0),IF(R106>0,R106-($B$56/1000)-R181-R206,0)),IF(R106>0,R106-R181-R206,0)),Input!U52)","v":20},{"$f":"IF($B$20>0,IF(S131>0,IF(S84>0,IF(S106>0,S106-($B$63/1000)-S181-S206,0),IF(S106>0,S106-($B$56/1000)-S181-S206,0)),IF(S106>0,S106-S181-S206,0)),Input!V52)","v":20},{"$f":"IF($B$20>0,IF(T131>0,IF(T84>0,IF(T106>0,T106-($B$63/1000)-T181-T206,0),IF(T106>0,T106-($B$56/1000)-T181-T206,0)),IF(T106>0,T106-T181-T206,0)),Input!W52)","v":20},{"$f":"IF($B$20>0,IF(U131>0,IF(U84>0,IF(U106>0,U106-($B$63/1000)-U181-U206,0),IF(U106>0,U106-($B$56/1000)-U181-U206,0)),IF(U106>0,U106-U181-U206,0)),Input!X52)","v":20},{"$f":"IF($B$20>0,IF(V131>0,IF(V84>0,IF(V106>0,V106-($B$63/1000)-V181-V206,0),IF(V106>0,V106-($B$56/1000)-V181-V206,0)),IF(V106>0,V106-V181-V206,0)),Input!Y52)","v":20},{"$f":"IF($B$20>0,IF(W131>0,IF(W84>0,IF(W106>0,W106-($B$63/1000)-W181-W206,0),IF(W106>0,W106-($B$56/1000)-W181-W206,0)),IF(W106>0,W106-W181-W206,0)),Input!Z52)","v":20},{"$f":"IF($B$20>0,IF(X131>0,IF(X84>0,IF(X106>0,X106-($B$63/1000)-X181-X206,0),IF(X106>0,X106-($B$56/1000)-X181-X206,0)),IF(X106>0,X106-X181-X206,0)),Input!AA52)","v":20},{"$f":"IF($B$20>0,IF(Y131>0,IF(Y84>0,IF(Y106>0,Y106-($B$63/1000)-Y181-Y206,0),IF(Y106>0,Y106-($B$56/1000)-Y181-Y206,0)),IF(Y106>0,Y106-Y181-Y206,0)),Input!AB52)","v":20},{"$f":"IF($B$20>0,IF(Z131>0,IF(Z84>0,IF(Z106>0,Z106-($B$63/1000)-Z181-Z206,0),IF(Z106>0,Z106-($B$56/1000)-Z181-Z206,0)),IF(Z106>0,Z106-Z181-Z206,0)),Input!AC52)","v":20},{"$f":"IF($B$20>0,IF(AA131>0,IF(AA84>0,IF(AA106>0,AA106-($B$63/1000)-AA181-AA206,0),IF(AA106>0,AA106-($B$56/1000)-AA181-AA206,0)),IF(AA106>0,AA106-AA181-AA206,0)),Input!AD52)","v":20},{"$f":"IF($B$20>0,IF(AB131>0,IF(AB84>0,IF(AB106>0,AB106-($B$63/1000)-AB181-AB206,0),IF(AB106>0,AB106-($B$56/1000)-AB181-AB206,0)),IF(AB106>0,AB106-AB181-AB206,0)),Input!AE52)","v":20},{"$f":"IF($B$20>0,IF(AC131>0,IF(AC84>0,IF(AC106>0,AC106-($B$63/1000)-AC181-AC206,0),IF(AC106>0,AC106-($B$56/1000)-AC181-AC206,0)),IF(AC106>0,AC106-AC181-AC206,0)),Input!AF52)","v":20},{"$f":"IF($B$20>0,IF(AD131>0,IF(AD84>0,IF(AD106>0,AD106-($B$63/1000)-AD181-AD206,0),IF(AD106>0,AD106-($B$56/1000)-AD181-AD206,0)),IF(AD106>0,AD106-AD181-AD206,0)),Input!AG52)","v":20},{"$f":"IF($B$20>0,IF(AE131>0,IF(AE84>0,IF(AE106>0,AE106-($B$63/1000)-AE181-AE206,0),IF(AE106>0,AE106-($B$56/1000)-AE181-AE206,0)),IF(AE106>0,AE106-AE181-AE206,0)),Input!AH52)","v":20},{"$f":"IF($B$20>0,IF(AF131>0,IF(AF84>0,IF(AF106>0,AF106-($B$63/1000)-AF181-AF206,0),IF(AF106>0,AF106-($B$56/1000)-AF181-AF206,0)),IF(AF106>0,AF106-AF181-AF206,0)),Input!AI52)","v":20},{"$f":"IF($B$20>0,IF(AG131>0,IF(AG84>0,IF(AG106>0,AG106-($B$63/1000)-AG181-AG206,0),IF(AG106>0,AG106-($B$56/1000)-AG181-AG206,0)),IF(AG106>0,AG106-AG181-AG206,0)),Input!AJ52)","v":20},{"$f":"IF($B$20>0,IF(AH131>0,IF(AH84>0,IF(AH106>0,AH106-($B$63/1000)-AH181-AH206,0),IF(AH106>0,AH106-($B$56/1000)-AH181-AH206,0)),IF(AH106>0,AH106-AH181-AH206,0)),Input!AK52)","v":20},{"$f":"IF($B$20>0,IF(AI131>0,IF(AI84>0,IF(AI106>0,AI106-($B$63/1000)-AI181-AI206,0),IF(AI106>0,AI106-($B$56/1000)-AI181-AI206,0)),IF(AI106>0,AI106-AI181-AI206,0)),Input!AL52)","v":20},{"$f":"IF($B$20>0,IF(AJ131>0,IF(AJ84>0,IF(AJ106>0,AJ106-($B$63/1000)-AJ181-AJ206,0),IF(AJ106>0,AJ106-($B$56/1000)-AJ181-AJ206,0)),IF(AJ106>0,AJ106-AJ181-AJ206,0)),Input!AM52)","v":20},{"$f":"IF($B$20>0,IF(AK131>0,IF(AK84>0,IF(AK106>0,AK106-($B$63/1000)-AK181-AK206,0),IF(AK106>0,AK106-($B$56/1000)-AK181-AK206,0)),IF(AK106>0,AK106-AK181-AK206,0)),Input!AN52)","v":20},{"$f":"IF($B$20>0,IF(AL131>0,IF(AL84>0,IF(AL106>0,AL106-($B$63/1000)-AL181-AL206,0),IF(AL106>0,AL106-($B$56/1000)-AL181-AL206,0)),IF(AL106>0,AL106-AL181-AL206,0)),Input!AO52)","v":20},{"$f":"IF($B$20>0,IF(AM131>0,IF(AM84>0,IF(AM106>0,AM106-($B$63/1000)-AM181-AM206,0),IF(AM106>0,AM106-($B$56/1000)-AM181-AM206,0)),IF(AM106>0,AM106-AM181-AM206,0)),Input!AP52)","v":20},{"$f":"IF($B$20>0,IF(AN131>0,IF(AN84>0,IF(AN106>0,AN106-($B$63/1000)-AN181-AN206,0),IF(AN106>0,AN106-($B$56/1000)-AN181-AN206,0)),IF(AN106>0,AN106-AN181-AN206,0)),Input!AQ52)","v":20},{"$f":"IF($B$20>0,IF(AO131>0,IF(AO84>0,IF(AO106>0,AO106-($B$63/1000)-AO181-AO206,0),IF(AO106>0,AO106-($B$56/1000)-AO181-AO206,0)),IF(AO106>0,AO106-AO181-AO206,0)),Input!AR52)","v":20},{"$f":"IF($B$20>0,IF(AP131>0,IF(AP84>0,IF(AP106>0,AP106-($B$63/1000)-AP181-AP206,0),IF(AP106>0,AP106-($B$56/1000)-AP181-AP206,0)),IF(AP106>0,AP106-AP181-AP206,0)),Input!AS52)","v":20}]
[null,null,{"$f":"IF($B$20>0,IF(C132>0,IF(C85>0,IF(C107>0,C107-($B$63/1000)-C182-C207,0),IF(C107>0,C107-($B$56/1000)-C182-C207,0)),IF(C107>0,C107-C182-C207,0)),Input!F53)","v":20},{"$f":"IF($B$20>0,IF(D132>0,IF(D85>0,IF(D107>0,D107-($B$63/1000)-D182-D207,0),IF(D107>0,D107-($B$56/1000)-D182-D207,0)),IF(D107>0,D107-D182-D207,0)),Input!G53)","v":20},{"$f":"IF($B$20>0,IF(E132>0,IF(E85>0,IF(E107>0,E107-($B$63/1000)-E182-E207,0),IF(E107>0,E107-($B$56/1000)-E182-E207,0)),IF(E107>0,E107-E182-E207,0)),Input!H53)","v":20},{"$f":"IF($B$20>0,IF(F132>0,IF(F85>0,IF(F107>0,F107-($B$63/1000)-F182-F207,0),IF(F107>0,F107-($B$56/1000)-F182-F207,0)),IF(F107>0,F107-F182-F207,0)),Input!I53)","v":20},{"$f":"IF($B$20>0,IF(G132>0,IF(G85>0,IF(G107>0,G107-($B$63/1000)-G182-G207,0),IF(G107>0,G107-($B$56/1000)-G182-G207,0)),IF(G107>0,G107-G182-G207,0)),Input!J53)","v":20},{"$f":"IF($B$20>0,IF(H132>0,IF(H85>0,IF(H107>0,H107-($B$63/1000)-H182-H207,0),IF(H107>0,H107-($B$56/1000)-H182-H207,0)),IF(H107>0,H107-H182-H207,0)),Input!K53)","v":20},{"$f":"IF($B$20>0,IF(I132>0,IF(I85>0,IF(I107>0,I107-($B$63/1000)-I182-I207,0),IF(I107>0,I107-($B$56/1000)-I182-I207,0)),IF(I107>0,I107-I182-I207,0)),Input!L53)","v":20},{"$f":"IF($B$20>0,IF(J132>0,IF(J85>0,IF(J107>0,J107-($B$63/1000)-J182-J207,0),IF(J107>0,J107-($B$56/1000)-J182-J207,0)),IF(J107>0,J107-J182-J207,0)),Input!M53)","v":20},{"$f":"IF($B$20>0,IF(K132>0,IF(K85>0,IF(K107>0,K107-($B$63/1000)-K182-K207,0),IF(K107>0,K107-($B$56/1000)-K182-K207,0)),IF(K107>0,K107-K182-K207,0)),Input!N53)","v":20},{"$f":"IF($B$20>0,IF(L132>0,IF(L85>0,IF(L107>0,L107-($B$63/1000)-L182-L207,0),IF(L107>0,L107-($B$56/1000)-L182-L207,0)),IF(L107>0,L107-L182-L207,0)),Input!O53)","v":20},{"$f":"IF($B$20>0,IF(M132>0,IF(M85>0,IF(M107>0,M107-($B$63/1000)-M182-M207,0),IF(M107>0,M107-($B$56/1000)-M182-M207,0)),IF(M107>0,M107-M182-M207,0)),Input!P53)","v":20},{"$f":"IF($B$20>0,IF(N132>0,IF(N85>0,IF(N107>0,N107-($B$63/1000)-N182-N207,0),IF(N107>0,N107-($B$56/1000)-N182-N207,0)),IF(N107>0,N107-N182-N207,0)),Input!Q53)","v":20},{"$f":"IF($B$20>0,IF(O132>0,IF(O85>0,IF(O107>0,O107-($B$63/1000)-O182-O207,0),IF(O107>0,O107-($B$56/1000)-O182-O207,0)),IF(O107>0,O107-O182-O207,0)),Input!R53)","v":20},{"$f":"IF($B$20>0,IF(P132>0,IF(P85>0,IF(P107>0,P107-($B$63/1000)-P182-P207,0),IF(P107>0,P107-($B$56/1000)-P182-P207,0)),IF(P107>0,P107-P182-P207,0)),Input!S53)","v":20},{"$f":"IF($B$20>0,IF(Q132>0,IF(Q85>0,IF(Q107>0,Q107-($B$63/1000)-Q182-Q207,0),IF(Q107>0,Q107-($B$56/1000)-Q182-Q207,0)),IF(Q107>0,Q107-Q182-Q207,0)),Input!T53)","v":20},{"$f":"IF($B$20>0,IF(R132>0,IF(R85>0,IF(R107>0,R107-($B$63/1000)-R182-R207,0),IF(R107>0,R107-($B$56/1000)-R182-R207,0)),IF(R107>0,R107-R182-R207,0)),Input!U53)","v":20},{"$f":"IF($B$20>0,IF(S132>0,IF(S85>0,IF(S107>0,S107-($B$63/1000)-S182-S207,0),IF(S107>0,S107-($B$56/1000)-S182-S207,0)),IF(S107>0,S107-S182-S207,0)),Input!V53)","v":20},{"$f":"IF($B$20>0,IF(T132>0,IF(T85>0,IF(T107>0,T107-($B$63/1000)-T182-T207,0),IF(T107>0,T107-($B$56/1000)-T182-T207,0)),IF(T107>0,T107-T182-T207,0)),Input!W53)","v":20},{"$f":"IF($B$20>0,IF(U132>0,IF(U85>0,IF(U107>0,U107-($B$63/1000)-U182-U207,0),IF(U107>0,U107-($B$56/1000)-U182-U207,0)),IF(U107>0,U107-U182-U207,0)),Input!X53)","v":20},{"$f":"IF($B$20>0,IF(V132>0,IF(V85>0,IF(V107>0,V107-($B$63/1000)-V182-V207,0),IF(V107>0,V107-($B$56/1000)-V182-V207,0)),IF(V107>0,V107-V182-V207,0)),Input!Y53)","v":20},{"$f":"IF($B$20>0,IF(W132>0,IF(W85>0,IF(W107>0,W107-($B$63/1000)-W182-W207,0),IF(W107>0,W107-($B$56/1000)-W182-W207,0)),IF(W107>0,W107-W182-W207,0)),Input!Z53)","v":20},{"$f":"IF($B$20>0,IF(X132>0,IF(X85>0,IF(X107>0,X107-($B$63/1000)-X182-X207,0),IF(X107>0,X107-($B$56/1000)-X182-X207,0)),IF(X107>0,X107-X182-X207,0)),Input!AA53)","v":20},{"$f":"IF($B$20>0,IF(Y132>0,IF(Y85>0,IF(Y107>0,Y107-($B$63/1000)-Y182-Y207,0),IF(Y107>0,Y107-($B$56/1000)-Y182-Y207,0)),IF(Y107>0,Y107-Y182-Y207,0)),Input!AB53)","v":20},{"$f":"IF($B$20>0,IF(Z132>0,IF(Z85>0,IF(Z107>0,Z107-($B$63/1000)-Z182-Z207,0),IF(Z107>0,Z107-($B$56/1000)-Z182-Z207,0)),IF(Z107>0,Z107-Z182-Z207,0)),Input!AC53)","v":20},{"$f":"IF($B$20>0,IF(AA132>0,IF(AA85>0,IF(AA107>0,AA107-($B$63/1000)-AA182-AA207,0),IF(AA107>0,AA107-($B$56/1000)-AA182-AA207,0)),IF(AA107>0,AA107-AA182-AA207,0)),Input!AD53)","v":20},{"$f":"IF($B$20>0,IF(AB132>0,IF(AB85>0,IF(AB107>0,AB107-($B$63/1000)-AB182-AB207,0),IF(AB107>0,AB107-($B$56/1000)-AB182-AB207,0)),IF(AB107>0,AB107-AB182-AB207,0)),Input!AE53)","v":20},{"$f":"IF($B$20>0,IF(AC132>0,IF(AC85>0,IF(AC107>0,AC107-($B$63/1000)-AC182-AC207,0),IF(AC107>0,AC107-($B$56/1000)-AC182-AC207,0)),IF(AC107>0,AC107-AC182-AC207,0)),Input!AF53)","v":20},{"$f":"IF($B$20>0,IF(AD132>0,IF(AD85>0,IF(AD107>0,AD107-($B$63/1000)-AD182-AD207,0),IF(AD107>0,AD107-($B$56/1000)-AD182-AD207,0)),IF(AD107>0,AD107-AD182-AD207,0)),Input!AG53)","v":20},{"$f":"IF($B$20>0,IF(AE132>0,IF(AE85>0,IF(AE107>0,AE107-($B$63/1000)-AE182-AE207,0),IF(AE107>0,AE107-($B$56/1000)-AE182-AE207,0)),IF(AE107>0,AE107-AE182-AE207,0)),Input!AH53)","v":20},{"$f":"IF($B$20>0,IF(AF132>0,IF(AF85>0,IF(AF107>0,AF107-($B$63/1000)-AF182-AF207,0),IF(AF107>0,AF107-($B$56/1000)-AF182-AF207,0)),IF(AF107>0,AF107-AF182-AF207,0)),Input!AI53)","v":20},{"$f":"IF($B$20>0,IF(AG132>0,IF(AG85>0,IF(AG107>0,AG107-($B$63/1000)-AG182-AG207,0),IF(AG107>0,AG107-($B$56/1000)-AG182-AG207,0)),IF(AG107>0,AG107-AG182-AG207,0)),Input!AJ53)","v":20},{"$f":"IF($B$20>0,IF(AH132>0,IF(AH85>0,IF(AH107>0,AH107-($B$63/1000)-AH182-AH207,0),IF(AH107>0,AH107-($B$56/1000)-AH182-AH207,0)),IF(AH107>0,AH107-AH182-AH207,0)),Input!AK53)","v":20},{"$f":"IF($B$20>0,IF(AI132>0,IF(AI85>0,IF(AI107>0,AI107-($B$63/1000)-AI182-AI207,0),IF(AI107>0,AI107-($B$56/1000)-AI182-AI207,0)),IF(AI107>0,AI107-AI182-AI207,0)),Input!AL53)","v":20},{"$f":"IF($B$20>0,IF(AJ132>0,IF(AJ85>0,IF(AJ107>0,AJ107-($B$63/1000)-AJ182-AJ207,0),IF(AJ107>0,AJ107-($B$56/1000)-AJ182-AJ207,0)),IF(AJ107>0,AJ107-AJ182-AJ207,0)),Input!AM53)","v":20},{"$f":"IF($B$20>0,IF(AK132>0,IF(AK85>0,IF(AK107>0,AK107-($B$63/1000)-AK182-AK207,0),IF(AK107>0,AK107-($B$56/1000)-AK182-AK207,0)),IF(AK107>0,AK107-AK182-AK207,0)),Input!AN53)","v":20},{"$f":"IF($B$20>0,IF(AL132>0,IF(AL85>0,IF(AL107>0,AL107-($B$63/1000)-AL182-AL207,0),IF(AL107>0,AL107-($B$56/1000)-AL182-AL207,0)),IF(AL107>0,AL107-AL182-AL207,0)),Input!AO53)","v":20},{"$f":"IF($B$20>0,IF(AM132>0,IF(AM85>0,IF(AM107>0,AM107-($B$63/1000)-AM182-AM207,0),IF(AM107>0,AM107-($B$56/1000)-AM182-AM207,0)),IF(AM107>0,AM107-AM182-AM207,0)),Input!AP53)","v":20},{"$f":"IF($B$20>0,IF(AN132>0,IF(AN85>0,IF(AN107>0,AN107-($B$63/1000)-AN182-AN207,0),IF(AN107>0,AN107-($B$56/1000)-AN182-AN207,0)),IF(AN107>0,AN107-AN182-AN207,0)),Input!AQ53)","v":20},{"$f":"IF($B$20>0,IF(AO132>0,IF(AO85>0,IF(AO107>0,AO107-($B$63/1000)-AO182-AO207,0),IF(AO107>0,AO107-($B$56/1000)-AO182-AO207,0)),IF(AO107>0,AO107-AO182-AO207,0)),Input!AR53)","v":20},{"$f":"IF($B$20>0,IF(AP132>0,IF(AP85>0,IF(AP107>0,AP107-($B$63/1000)-AP182-AP207,0),IF(AP107>0,AP107-($B$56/1000)-AP182-AP207,0)),IF(AP107>0,AP107-AP182-AP207,0)),Input!AS53)","v":20}]
[null,null,{"$f":"IF($B$20>0,IF(C133>0,IF(C86>0,IF(C108>0,C108-($B$63/1000)-C183-C208,0),IF(C108>0,C108-($B$56/1000)-C183-C208,0)),IF(C108>0,C108-C183-C208,0)),Input!F54)","v":20},{"$f":"IF($B$20>0,IF(D133>0,IF(D86>0,IF(D108>0,D108-($B$63/1000)-D183-D208,0),IF(D108>0,D108-($B$56/1000)-D183-D208,0)),IF(D108>0,D108-D183-D208,0)),Input!G54)","v":20},{"$f":"IF($B$20>0,IF(E133>0,IF(E86>0,IF(E108>0,E108-($B$63/1000)-E183-E208,0),IF(E108>0,E108-($B$56/1000)-E183-E208,0)),IF(E108>0,E108-E183-E208,0)),Input!H54)","v":20},{"$f":"IF($B$20>0,IF(F133>0,IF(F86>0,IF(F108>0,F108-($B$63/1000)-F183-F208,0),IF(F108>0,F108-($B$56/1000)-F183-F208,0)),IF(F108>0,F108-F183-F208,0)),Input!I54)","v":20},{"$f":"IF($B$20>0,IF(G133>0,IF(G86>0,IF(G108>0,G108-($B$63/1000)-G183-G208,0),IF(G108>0,G108-($B$56/1000)-G183-G208,0)),IF(G108>0,G108-G183-G208,0)),Input!J54)","v":20},{"$f":"IF($B$20>0,IF(H133>0,IF(H86>0,IF(H108>0,H108-($B$63/1000)-H183-H208,0),IF(H108>0,H108-($B$56/1000)-H183-H208,0)),IF(H108>0,H108-H183-H208,0)),Input!K54)","v":20},{"$f":"IF($B$20>0,IF(I133>0,IF(I86>0,IF(I108>0,I108-($B$63/1000)-I183-I208,0),IF(I108>0,I108-($B$56/1000)-I183-I208,0)),IF(I108>0,I108-I183-I208,0)),Input!L54)","v":20},{"$f":"IF($B$20>0,IF(J133>0,IF(J86>0,IF(J108>0,J108-($B$63/1000)-J183-J208,0),IF(J108>0,J108-($B$56/1000)-J183-J208,0)),IF(J108>0,J108-J183-J208,0)),Input!M54)","v":20},{"$f":"IF($B$20>0,IF(K133>0,IF(K86>0,IF(K108>0,K108-($B$63/1000)-K183-K208,0),IF(K108>0,K108-($B$56/1000)-K183-K208,0)),IF(K108>0,K108-K183-K208,0)),Input!N54)","v":20},{"$f":"IF($B$20>0,IF(L133>0,IF(L86>0,IF(L108>0,L108-($B$63/1000)-L183-L208,0),IF(L108>0,L108-($B$56/1000)-L183-L208,0)),IF(L108>0,L108-L183-L208,0)),Input!O54)","v":20},{"$f":"IF($B$20>0,IF(M133>0,IF(M86>0,IF(M108>0,M108-($B$63/1000)-M183-M208,0),IF(M108>0,M108-($B$56/1000)-M183-M208,0)),IF(M108>0,M108-M183-M208,0)),Input!P54)","v":20},{"$f":"IF($B$20>0,IF(N133>0,IF(N86>0,IF(N108>0,N108-($B$63/1000)-N183-N208,0),IF(N108>0,N108-($B$56/1000)-N183-N208,0)),IF(N108>0,N108-N183-N208,0)),Input!Q54)","v":20},{"$f":"IF($B$20>0,IF(O133>0,IF(O86>0,IF(O108>0,O108-($B$63/1000)-O183-O208,0),IF(O108>0,O108-($B$56/1000)-O183-O208,0)),IF(O108>0,O108-O183-O208,0)),Input!R54)","v":20},{"$f":"IF($B$20>0,IF(P133>0,IF(P86>0,IF(P108>0,P108-($B$63/1000)-P183-P208,0),IF(P108>0,P108-($B$56/1000)-P183-P208,0)),IF(P108>0,P108-P183-P208,0)),Input!S54)","v":20},{"$f":"IF($B$20>0,IF(Q133>0,IF(Q86>0,IF(Q108>0,Q108-($B$63/1000)-Q183-Q208,0),IF(Q108>0,Q108-($B$56/1000)-Q183-Q208,0)),IF(Q108>0,Q108-Q183-Q208,0)),Input!T54)","v":20},{"$f":"IF($B$20>0,IF(R133>0,IF(R86>0,IF(R108>0,R108-($B$63/1000)-R183-R208,0),IF(R108>0,R108-($B$56/1000)-R183-R208,0)),IF(R108>0,R108-R183-R208,0)),Input!U54)","v":20},{"$f":"IF($B$20>0,IF(S133>0,IF(S86>0,IF(S108>0,S108-($B$63/1000)-S183-S208,0),IF(S108>0,S108-($B$56/1000)-S183-S208,0)),IF(S108>0,S108-S183-S208,0)),Input!V54)","v":20},{"$f":"IF($B$20>0,IF(T133>0,IF(T86>0,IF(T108>0,T108-($B$63/1000)-T183-T208,0),IF(T108>0,T108-($B$56/1000)-T183-T208,0)),IF(T108>0,T108-T183-T208,0)),Input!W54)","v":20},{"$f":"IF($B$20>0,IF(U133>0,IF(U86>0,IF(U108>0,U108-($B$63/1000)-U183-U208,0),IF(U108>0,U108-($B$56/1000)-U183-U208,0)),IF(U108>0,U108-U183-U208,0)),Input!X54)","v":20},{"$f":"IF($B$20>0,IF(V133>0,IF(V86>0,IF(V108>0,V108-($B$63/1000)-V183-V208,0),IF(V108>0,V108-($B$56/1000)-V183-V208,0)),IF(V108>0,V108-V183-V208,0)),Input!Y54)","v":20},{"$f":"IF($B$20>0,IF(W133>0,IF(W86>0,IF(W108>0,W108-($B$63/1000)-W183-W208,0),IF(W108>0,W108-($B$56/1000)-W183-W208,0)),IF(W108>0,W108-W183-W208,0)),Input!Z54)","v":20},{"$f":"IF($B$20>0,IF(X133>0,IF(X86>0,IF(X108>0,X108-($B$63/1000)-X183-X208,0),IF(X108>0,X108-($B$56/1000)-X183-X208,0)),IF(X108>0,X108-X183-X208,0)),Input!AA54)","v":20},{"$f":"IF($B$20>0,IF(Y133>0,IF(Y86>0,IF(Y108>0,Y108-($B$63/1000)-Y183-Y208,0),IF(Y108>0,Y108-($B$56/1000)-Y183-Y208,0)),IF(Y108>0,Y108-Y183-Y208,0)),Input!AB54)","v":20},{"$f":"IF($B$20>0,IF(Z133>0,IF(Z86>0,IF(Z108>0,Z108-($B$63/1000)-Z183-Z208,0),IF(Z108>0,Z108-($B$56/1000)-Z183-Z208,0)),IF(Z108>0,Z108-Z183-Z208,0)),Input!AC54)","v":20},{"$f":"IF($B$20>0,IF(AA133>0,IF(AA86>0,IF(AA108>0,AA108-($B$63/1000)-AA183-AA208,0),IF(AA108>0,AA108-($B$56/1000)-AA183-AA208,0)),IF(AA108>0,AA108-AA183-AA208,0)),Input!AD54)","v":20},{"$f":"IF($B$20>0,IF(AB133>0,IF(AB86>0,IF(AB108>0,AB108-($B$63/1000)-AB183-AB208,0),IF(AB108>0,AB108-($B$56/1000)-AB183-AB208,0)),IF(AB108>0,AB108-AB183-AB208,0)),Input!AE54)","v":20},{"$f":"IF($B$20>0,IF(AC133>0,IF(AC86>0,IF(AC108>0,AC108-($B$63/1000)-AC183-AC208,0),IF(AC108>0,AC108-($B$56/1000)-AC183-AC208,0)),IF(AC108>0,AC108-AC183-AC208,0)),Input!AF54)","v":20},{"$f":"IF($B$20>0,IF(AD133>0,IF(AD86>0,IF(AD108>0,AD108-($B$63/1000)-AD183-AD208,0),IF(AD108>0,AD108-($B$56/1000)-AD183-AD208,0)),IF(AD108>0,AD108-AD183-AD208,0)),Input!AG54)","v":20},{"$f":"IF($B$20>0,IF(AE133>0,IF(AE86>0,IF(AE108>0,AE108-($B$63/1000)-AE183-AE208,0),IF(AE108>0,AE108-($B$56/1000)-AE183-AE208,0)),IF(AE108>0,AE108-AE183-AE208,0)),Input!AH54)","v":20},{"$f":"IF($B$20>0,IF(AF133>0,IF(AF86>0,IF(AF108>0,AF108-($B$63/1000)-AF183-AF208,0),IF(AF108>0,AF108-($B$56/1000)-AF183-AF208,0)),IF(AF108>0,AF108-AF183-AF208,0)),Input!AI54)","v":20},{"$f":"IF($B$20>0,IF(AG133>0,IF(AG86>0,IF(AG108>0,AG108-($B$63/1000)-AG183-AG208,0),IF(AG108>0,AG108-($B$56/1000)-AG183-AG208,0)),IF(AG108>0,AG108-AG183-AG208,0)),Input!AJ54)","v":20},{"$f":"IF($B$20>0,IF(AH133>0,IF(AH86>0,IF(AH108>0,AH108-($B$63/1000)-AH183-AH208,0),IF(AH108>0,AH108-($B$56/1000)-AH183-AH208,0)),IF(AH108>0,AH108-AH183-AH208,0)),Input!AK54)","v":20},{"$f":"IF($B$20>0,IF(AI133>0,IF(AI86>0,IF(AI108>0,AI108-($B$63/1000)-AI183-AI208,0),IF(AI108>0,AI108-($B$56/1000)-AI183-AI208,0)),IF(AI108>0,AI108-AI183-AI208,0)),Input!AL54)","v":20},{"$f":"IF($B$20>0,IF(AJ133>0,IF(AJ86>0,IF(AJ108>0,AJ108-($B$63/1000)-AJ183-AJ208,0),IF(AJ108>0,AJ108-($B$56/1000)-AJ183-AJ208,0)),IF(AJ108>0,AJ108-AJ183-AJ208,0)),Input!AM54)","v":20},{"$f":"IF($B$20>0,IF(AK133>0,IF(AK86>0,IF(AK108>0,AK108-($B$63/1000)-AK183-AK208,0),IF(AK108>0,AK108-($B$56/1000)-AK183-AK208,0)),IF(AK108>0,AK108-AK183-AK208,0)),Input!AN54)","v":20},{"$f":"IF($B$20>0,IF(AL133>0,IF(AL86>0,IF(AL108>0,AL108-($B$63/1000)-AL183-AL208,0),IF(AL108>0,AL108-($B$56/1000)-AL183-AL208,0)),IF(AL108>0,AL108-AL183-AL208,0)),Input!AO54)","v":20},{"$f":"IF($B$20>0,IF(AM133>0,IF(AM86>0,IF(AM108>0,AM108-($B$63/1000)-AM183-AM208,0),IF(AM108>0,AM108-($B$56/1000)-AM183-AM208,0)),IF(AM108>0,AM108-AM183-AM208,0)),Input!AP54)","v":20},{"$f":"IF($B$20>0,IF(AN133>0,IF(AN86>0,IF(AN108>0,AN108-($B$63/1000)-AN183-AN208,0),IF(AN108>0,AN108-($B$56/1000)-AN183-AN208,0)),IF(AN108>0,AN108-AN183-AN208,0)),Input!AQ54)","v":20},{"$f":"IF($B$20>0,IF(AO133>0,IF(AO86>0,IF(AO108>0,AO108-($B$63/1000)-AO183-AO208,0),IF(AO108>0,AO108-($B$56/1000)-AO183-AO208,0)),IF(AO108>0,AO108-AO183-AO208,0)),Input!AR54)","v":20},{"$f":"IF($B$20>0,IF(AP133>0,IF(AP86>0,IF(AP108>0,AP108-($B$63/1000)-AP183-AP208,0),IF(AP108>0,AP108-($B$56/1000)-AP183-AP208,0)),IF(AP108>0,AP108-AP183-AP208,0)),Input!AS54)","v":20}]
[null,null,{"$f":"IF($B$20>0,IF(C134>0,IF(C87>0,IF(C109>0,C109-($B$63/1000)-C184-C209,0),IF(C109>0,C109-($B$56/1000)-C184-C209,0)),IF(C109>0,C109-C184-C209,0)),Input!F55)","v":20},{"$f":"IF($B$20>0,IF(D134>0,IF(D87>0,IF(D109>0,D109-($B$63/1000)-D184-D209,0),IF(D109>0,D109-($B$56/1000)-D184-D209,0)),IF(D109>0,D109-D184-D209,0)),Input!G55)","v":20},{"$f":"IF($B$20>0,IF(E134>0,IF(E87>0,IF(E109>0,E109-($B$63/1000)-E184-E209,0),IF(E109>0,E109-($B$56/1000)-E184-E209,0)),IF(E109>0,E109-E184-E209,0)),Input!H55)","v":20},{"$f":"IF($B$20>0,IF(F134>0,IF(F87>0,IF(F109>0,F109-($B$63/1000)-F184-F209,0),IF(F109>0,F109-($B$56/1000)-F184-F209,0)),IF(F109>0,F109-F184-F209,0)),Input!I55)","v":20},{"$f":"IF($B$20>0,IF(G134>0,IF(G87>0,IF(G109>0,G109-($B$63/1000)-G184-G209,0),IF(G109>0,G109-($B$56/1000)-G184-G209,0)),IF(G109>0,G109-G184-G209,0)),Input!J55)","v":20},{"$f":"IF($B$20>0,IF(H134>0,IF(H87>0,IF(H109>0,H109-($B$63/1000)-H184-H209,0),IF(H109>0,H109-($B$56/1000)-H184-H209,0)),IF(H109>0,H109-H184-H209,0)),Input!K55)","v":20},{"$f":"IF($B$20>0,IF(I134>0,IF(I87>0,IF(I109>0,I109-($B$63/1000)-I184-I209,0),IF(I109>0,I109-($B$56/1000)-I184-I209,0)),IF(I109>0,I109-I184-I209,0)),Input!L55)","v":20},{"$f":"IF($B$20>0,IF(J134>0,IF(J87>0,IF(J109>0,J109-($B$63/1000)-J184-J209,0),IF(J109>0,J109-($B$56/1000)-J184-J209,0)),IF(J109>0,J109-J184-J209,0)),Input!M55)","v":20},{"$f":"IF($B$20>0,IF(K134>0,IF(K87>0,IF(K109>0,K109-($B$63/1000)-K184-K209,0),IF(K109>0,K109-($B$56/1000)-K184-K209,0)),IF(K109>0,K109-K184-K209,0)),Input!N55)","v":20},{"$f":"IF($B$20>0,IF(L134>0,IF(L87>0,IF(L109>0,L109-($B$63/1000)-L184-L209,0),IF(L109>0,L109-($B$56/1000)-L184-L209,0)),IF(L109>0,L109-L184-L209,0)),Input!O55)","v":20},{"$f":"IF($B$20>0,IF(M134>0,IF(M87>0,IF(M109>0,M109-($B$63/1000)-M184-M209,0),IF(M109>0,M109-($B$56/1000)-M184-M209,0)),IF(M109>0,M109-M184-M209,0)),Input!P55)","v":20},{"$f":"IF($B$20>0,IF(N134>0,IF(N87>0,IF(N109>0,N109-($B$63/1000)-N184-N209,0),IF(N109>0,N109-($B$56/1000)-N184-N209,0)),IF(N109>0,N109-N184-N209,0)),Input!Q55)","v":20},{"$f":"IF($B$20>0,IF(O134>0,IF(O87>0,IF(O109>0,O109-($B$63/1000)-O184-O209,0),IF(O109>0,O109-($B$56/1000)-O184-O209,0)),IF(O109>0,O109-O184-O209,0)),Input!R55)","v":20},{"$f":"IF($B$20>0,IF(P134>0,IF(P87>0,IF(P109>0,P109-($B$63/1000)-P184-P209,0),IF(P109>0,P109-($B$56/1000)-P184-P209,0)),IF(P109>0,P109-P184-P209,0)),Input!S55)","v":20},{"$f":"IF($B$20>0,IF(Q134>0,IF(Q87>0,IF(Q109>0,Q109-($B$63/1000)-Q184-Q209,0),IF(Q109>0,Q109-($B$56/1000)-Q184-Q209,0)),IF(Q109>0,Q109-Q184-Q209,0)),Input!T55)","v":20},{"$f":"IF($B$20>0,IF(R134>0,IF(R87>0,IF(R109>0,R109-($B$63/1000)-R184-R209,0),IF(R109>0,R109-($B$56/1000)-R184-R209,0)),IF(R109>0,R109-R184-R209,0)),Input!U55)","v":20},{"$f":"IF($B$20>0,IF(S134>0,IF(S87>0,IF(S109>0,S109-($B$63/1000)-S184-S209,0),IF(S109>0,S109-($B$56/1000)-S184-S209,0)),IF(S109>0,S109-S184-S209,0)),Input!V55)","v":20},{"$f":"IF($B$20>0,IF(T134>0,IF(T87>0,IF(T109>0,T109-($B$63/1000)-T184-T209,0),IF(T109>0,T109-($B$56/1000)-T184-T209,0)),IF(T109>0,T109-T184-T209,0)),Input!W55)","v":20},{"$f":"IF($B$20>0,IF(U134>0,IF(U87>0,IF(U109>0,U109-($B$63/1000)-U184-U209,0),IF(U109>0,U109-($B$56/1000)-U184-U209,0)),IF(U109>0,U109-U184-U209,0)),Input!X55)","v":20},{"$f":"IF($B$20>0,IF(V134>0,IF(V87>0,IF(V109>0,V109-($B$63/1000)-V184-V209,0),IF(V109>0,V109-($B$56/1000)-V184-V209,0)),IF(V109>0,V109-V184-V209,0)),Input!Y55)","v":20},{"$f":"IF($B$20>0,IF(W134>0,IF(W87>0,IF(W109>0,W109-($B$63/1000)-W184-W209,0),IF(W109>0,W109-($B$56/1000)-W184-W209,0)),IF(W109>0,W109-W184-W209,0)),Input!Z55)","v":20},{"$f":"IF($B$20>0,IF(X134>0,IF(X87>0,IF(X109>0,X109-($B$63/1000)-X184-X209,0),IF(X109>0,X109-($B$56/1000)-X184-X209,0)),IF(X109>0,X109-X184-X209,0)),Input!AA55)","v":20},{"$f":"IF($B$20>0,IF(Y134>0,IF(Y87>0,IF(Y109>0,Y109-($B$63/1000)-Y184-Y209,0),IF(Y109>0,Y109-($B$56/1000)-Y184-Y209,0)),IF(Y109>0,Y109-Y184-Y209,0)),Input!AB55)","v":20},{"$f":"IF($B$20>0,IF(Z134>0,IF(Z87>0,IF(Z109>0,Z109-($B$63/1000)-Z184-Z209,0),IF(Z109>0,Z109-($B$56/1000)-Z184-Z209,0)),IF(Z109>0,Z109-Z184-Z209,0)),Input!AC55)","v":20},{"$f":"IF($B$20>0,IF(AA134>0,IF(AA87>0,IF(AA109>0,AA109-($B$63/1000)-AA184-AA209,0),IF(AA109>0,AA109-($B$56/1000)-AA184-AA209,0)),IF(AA109>0,AA109-AA184-AA209,0)),Input!AD55)","v":20},{"$f":"IF($B$20>0,IF(AB134>0,IF(AB87>0,IF(AB109>0,AB109-($B$63/1000)-AB184-AB209,0),IF(AB109>0,AB109-($B$56/1000)-AB184-AB209,0)),IF(AB109>0,AB109-AB184-AB209,0)),Input!AE55)","v":20},{"$f":"IF($B$20>0,IF(AC134>0,IF(AC87>0,IF(AC109>0,AC109-($B$63/1000)-AC184-AC209,0),IF(AC109>0,AC109-($B$56/1000)-AC184-AC209,0)),IF(AC109>0,AC109-AC184-AC209,0)),Input!AF55)","v":20},{"$f":"IF($B$20>0,IF(AD134>0,IF(AD87>0,IF(AD109>0,AD109-($B$63/1000)-AD184-AD209,0),IF(AD109>0,AD109-($B$56/1000)-AD184-AD209,0)),IF(AD109>0,AD109-AD184-AD209,0)),Input!AG55)","v":20},{"$f":"IF($B$20>0,IF(AE134>0,IF(AE87>0,IF(AE109>0,AE109-($B$63/1000)-AE184-AE209,0),IF(AE109>0,AE109-($B$56/1000)-AE184-AE209,0)),IF(AE109>0,AE109-AE184-AE209,0)),Input!AH55)","v":20},{"$f":"IF($B$20>0,IF(AF134>0,IF(AF87>0,IF(AF109>0,AF109-($B$63/1000)-AF184-AF209,0),IF(AF109>0,AF109-($B$56/1000)-AF184-AF209,0)),IF(AF109>0,AF109-AF184-AF209,0)),Input!AI55)","v":20},{"$f":"IF($B$20>0,IF(AG134>0,IF(AG87>0,IF(AG109>0,AG109-($B$63/1000)-AG184-AG209,0),IF(AG109>0,AG109-($B$56/1000)-AG184-AG209,0)),IF(AG109>0,AG109-AG184-AG209,0)),Input!AJ55)","v":20},{"$f":"IF($B$20>0,IF(AH134>0,IF(AH87>0,IF(AH109>0,AH109-($B$63/1000)-AH184-AH209,0),IF(AH109>0,AH109-($B$56/1000)-AH184-AH209,0)),IF(AH109>0,AH109-AH184-AH209,0)),Input!AK55)","v":20},{"$f":"IF($B$20>0,IF(AI134>0,IF(AI87>0,IF(AI109>0,AI109-($B$63/1000)-AI184-AI209,0),IF(AI109>0,AI109-($B$56/1000)-AI184-AI209,0)),IF(AI109>0,AI109-AI184-AI209,0)),Input!AL55)","v":20},{"$f":"IF($B$20>0,IF(AJ134>0,IF(AJ87>0,IF(AJ109>0,AJ109-($B$63/1000)-AJ184-AJ209,0),IF(AJ109>0,AJ109-($B$56/1000)-AJ184-AJ209,0)),IF(AJ109>0,AJ109-AJ184-AJ209,0)),Input!AM55)","v":20},{"$f":"IF($B$20>0,IF(AK134>0,IF(AK87>0,IF(AK109>0,AK109-($B$63/1000)-AK184-AK209,0),IF(AK109>0,AK109-($B$56/1000)-AK184-AK209,0)),IF(AK109>0,AK109-AK184-AK209,0)),Input!AN55)","v":20},{"$f":"IF($B$20>0,IF(AL134>0,IF(AL87>0,IF(AL109>0,AL109-($B$63/1000)-AL184-AL209,0),IF(AL109>0,AL109-($B$56/1000)-AL184-AL209,0)),IF(AL109>0,AL109-AL184-AL209,0)),Input!AO55)","v":20},{"$f":"IF($B$20>0,IF(AM134>0,IF(AM87>0,IF(AM109>0,AM109-($B$63/1000)-AM184-AM209,0),IF(AM109>0,AM109-($B$56/1000)-AM184-AM209,0)),IF(AM109>0,AM109-AM184-AM209,0)),Input!AP55)","v":20},{"$f":"IF($B$20>0,IF(AN134>0,IF(AN87>0,IF(AN109>0,AN109-($B$63/1000)-AN184-AN209,0),IF(AN109>0,AN109-($B$56/1000)-AN184-AN209,0)),IF(AN109>0,AN109-AN184-AN209,0)),Input!AQ55)","v":20},{"$f":"IF($B$20>0,IF(AO134>0,IF(AO87>0,IF(AO109>0,AO109-($B$63/1000)-AO184-AO209,0),IF(AO109>0,AO109-($B$56/1000)-AO184-AO209,0)),IF(AO109>0,AO109-AO184-AO209,0)),Input!AR55)","v":20},{"$f":"IF($B$20>0,IF(AP134>0,IF(AP87>0,IF(AP109>0,AP109-($B$63/1000)-AP184-AP209,0),IF(AP109>0,AP109-($B$56/1000)-AP184-AP209,0)),IF(AP109>0,AP109-AP184-AP209,0)),Input!AS55)","v":20}]
[]
[]
[]
[]
[]
["Interim AP Map",null,{"$f":"IF($B$20>0,IF(C68>0,IF(C115>($B$61/1000),C115-($B$61/1000),0),IF(C115>($B$54/1000),C115-($B$54/1000),0)),IF(Input!F86=0,0,Input!F61))","v":6.25},{"$f":"IF($B$20>0,IF(D68>0,IF(D115>($B$61/1000),D115-($B$61/1000),0),IF(D115>($B$54/1000),D115-($B$54/1000),0)),IF(Input!G86=0,0,Input!G61))","v":6.25},{"$f":"IF($B$20>0,IF(E68>0,IF(E115>($B$61/1000),E115-($B$61/1000),0),IF(E115>($B$54/1000),E115-($B$54/1000),0)),IF(Input!H86=0,0,Input!H61))","v":6.25},{"$f":"IF($B$20>0,IF(F68>0,IF(F115>($B$61/1000),F115-($B$61/1000),0),IF(F115>($B$54/1000),F115-($B$54/1000),0)),IF(Input!I86=0,0,Input!I61))","v":6.25},{"$f":"IF($B$20>0,IF(G68>0,IF(G115>($B$61/1000),G115-($B$61/1000),0),IF(G115>($B$54/1000),G115-($B$54/1000),0)),IF(Input!J86=0,0,Input!J61))","v":6.25},{"$f":"IF($B$20>0,IF(H68>0,IF(H115>($B$61/1000),H115-($B$61/1000),0),IF(H115>($B$54/1000),H115-($B$54/1000),0)),IF(Input!K86=0,0,Input!K61))","v":6.25},{"$f":"IF($B$20>0,IF(I68>0,IF(I115>($B$61/1000),I115-($B$61/1000),0),IF(I115>($B$54/1000),I115-($B$54/1000),0)),IF(Input!L86=0,0,Input!L61))","v":6.25},{"$f":"IF($B$20>0,IF(J68>0,IF(J115>($B$61/1000),J115-($B$61/1000),0),IF(J115>($B$54/1000),J115-($B$54/1000),0)),IF(Input!M86=0,0,Input!M61))","v":6.25},{"$f":"IF($B$20>0,IF(K68>0,IF(K115>($B$61/1000),K115-($B$61/1000),0),IF(K115>($B$54/1000),K115-($B$54/1000),0)),IF(Input!N86=0,0,Input!N61))","v":6.25},{"$f":"IF($B$20>0,IF(L68>0,IF(L115>($B$61/1000),L115-($B$61/1000),0),IF(L115>($B$54/1000),L115-($B$54/1000),0)),IF(Input!O86=0,0,Input!O61))","v":6.25},{"$f":"IF($B$20>0,IF(M68>0,IF(M115>($B$61/1000),M115-($B$61/1000),0),IF(M115>($B$54/1000),M115-($B$54/1000),0)),IF(Input!P86=0,0,Input!P61))","v":6.25},{"$f":"IF($B$20>0,IF(N68>0,IF(N115>($B$61/1000),N115-($B$61/1000),0),IF(N115>($B$54/1000),N115-($B$54/1000),0)),IF(Input!Q86=0,0,Input!Q61))","v":6.25},{"$f":"IF($B$20>0,IF(O68>0,IF(O115>($B$61/1000),O115-($B$61/1000),0),IF(O115>($B$54/1000),O115-($B$54/1000),0)),IF(Input!R86=0,0,Input!R61))","v":6.25},{"$f":"IF($B$20>0,IF(P68>0,IF(P115>($B$61/1000),P115-($B$61/1000),0),IF(P115>($B$54/1000),P115-($B$54/1000),0)),IF(Input!S86=0,0,Input!S61))","v":6.25},{"$f":"IF($B$20>0,IF(Q68>0,IF(Q115>($B$61/1000),Q115-($B$61/1000),0),IF(Q115>($B$54/1000),Q115-($B$54/1000),0)),IF(Input!T86=0,0,Input!T61))","v":6.25},{"$f":"IF($B$20>0,IF(R68>0,IF(R115>($B$61/1000),R115-($B$61/1000),0),IF(R115>($B$54/1000),R115-($B$54/1000),0)),IF(Input!U86=0,0,Input!U61))","v":6.25},{"$f":"IF($B$20>0,IF(S68>0,IF(S115>($B$61/1000),S115-($B$61/1000),0),IF(S115>($B$54/1000),S115-($B$54/1000),0)),IF(Input!V86=0,0,Input!V61))","v":6.25},{"$f":"IF($B$20>0,IF(T68>0,IF(T115>($B$61/1000),T115-($B$61/1000),0),IF(T115>($B$54/1000),T115-($B$54/1000),0)),IF(Input!W86=0,0,Input!W61))","v":6.25},{"$f":"IF($B$20>0,IF(U68>0,IF(U115>($B$61/1000),U115-($B$61/1000),0),IF(U115>($B$54/1000),U115-($B$54/1000),0)),IF(Input!X86=0,0,Input!X61))","v":6.25},{"$f":"IF($B$20>0,IF(V68>0,IF(V115>($B$61/1000),V115-($B$61/1000),0),IF(V115>($B$54/1000),V115-($B$54/1000),0)),IF(Input!Y86=0,0,Input!Y61))","v":6.25},{"$f":"IF($B$20>0,IF(W68>0,IF(W115>($B$61/1000),W115-($B$61/1000),0),IF(W115>($B$54/1000),W115-($B$54/1000),0)),IF(Input!Z86=0,0,Input!Z61))","v":6.25},{"$f":"IF($B$20>0,IF(X68>0,IF(X115>($B$61/1000),X115-($B$61/1000),0),IF(X115>($B$54/1000),X115-($B$54/1000),0)),IF(Input!AA86=0,0,Input!AA61))","v":6.25},{"$f":"IF($B$20>0,IF(Y68>0,IF(Y115>($B$61/1000),Y115-($B$61/1000),0),IF(Y115>($B$54/1000),Y115-($B$54/1000),0)),IF(Input!AB86=0,0,Input!AB61))","v":6.25},{"$f":"IF($B$20>0,IF(Z68>0,IF(Z115>($B$61/1000),Z115-($B$61/1000),0),IF(Z115>($B$54/1000),Z115-($B$54/1000),0)),IF(Input!AC86=0,0,Input!AC61))","v":6.25},{"$f":"IF($B$20>0,IF(AA68>0,IF(AA115>($B$61/1000),AA115-($B$61/1000),0),IF(AA115>($B$54/1000),AA115-($B$54/1000),0)),IF(Input!AD86=0,0,Input!AD61))","v":6.25},{"$f":"IF($B$20>0,IF(AB68>0,IF(AB115>($B$61/1000),AB115-($B$61/1000),0),IF(AB115>($B$54/1000),AB115-($B$54/1000),0)),IF(Input!AE86=0,0,Input!AE61))","v":6.25},{"$f":"IF($B$20>0,IF(AC68>0,IF(AC115>($B$61/1000),AC115-($B$61/1000),0),IF(AC115>($B$54/1000),AC115-($B$54/1000),0)),IF(Input!AF86=0,0,Input!AF61))","v":6.25},{"$f":"IF($B$20>0,IF(AD68>0,IF(AD115>($B$61/1000),AD115-($B$61/1000),0),IF(AD115>($B$54/1000),AD115-($B$54/1000),0)),IF(Input!AG86=0,0,Input!AG61))","v":6.25},{"$f":"IF($B$20>0,IF(AE68>0,IF(AE115>($B$61/1000),AE115-($B$61/1000),0),IF(AE115>($B$54/1000),AE115-($B$54/1000),0)),IF(Input!AH86=0,0,Input!AH61))","v":6.25},{"$f":"IF($B$20>0,IF(AF68>0,IF(AF115>($B$61/1000),AF115-($B$61/1000),0),IF(AF115>($B$54/1000),AF115-($B$54/1000),0)),IF(Input!AI86=0,0,Input!AI61))","v":6.25},{"$f":"IF($B$20>0,IF(AG68>0,IF(AG115>($B$61/1000),AG115-($B$61/1000),0),IF(AG115>($B$54/1000),AG115-($B$54/1000),0)),IF(Input!AJ86=0,0,Input!AJ61))","v":6.25},{"$f":"IF($B$20>0,IF(AH68>0,IF(AH115>($B$61/1000),AH115-($B$61/1000),0),IF(AH115>($B$54/1000),AH115-($B$54/1000),0)),IF(Input!AK86=0,0,Input!AK61))","v":6.25},{"$f":"IF($B$20>0,IF(AI68>0,IF(AI115>($B$61/1000),AI115-($B$61/1000),0),IF(AI115>($B$54/1000),AI115-($B$54/1000),0)),IF(Input!AL86=0,0,Input!AL61))","v":6.25},{"$f":"IF($B$20>0,IF(AJ68>0,IF(AJ115>($B$61/1000),AJ115-($B$61/1000),0),IF(AJ115>($B$54/1000),AJ115-($B$54/1000),0)),IF(Input!AM86=0,0,Input!AM61))","v":6.25},{"$f":"IF($B$20>0,IF(AK68>0,IF(AK115>($B$61/1000),AK115-($B$61/1000),0),IF(AK115>($B$54/1000),AK115-($B$54/1000),0)),IF(Input!AN86=0,0,Input!AN61))","v":6.25},{"$f":"IF($B$20>0,IF(AL68>0,IF(AL115>($B$61/1000),AL115-($B$61/1000),0),IF(AL115>($B$54/1000),AL115-($B$54/1000),0)),IF(Input!AO86=0,0,Input!AO61))","v":6.25},{"$f":"IF($B$20>0,IF(AM68>0,IF(AM115>($B$61/1000),AM115-($B$61/1000),0),IF(AM115>($B$54/1000),AM115-($B$54/1000),0)),IF(Input!AP86=0,0,Input!AP61))","v":6.25},{"$f":"IF($B$20>0,IF(AN68>0,IF(AN115>($B$61/1000),AN115-($B$61/1000),0),IF(AN115>($B$54/1000),AN115-($B$54/1000),0)),IF(Input!AQ86=0,0,Input!AQ61))","v":6.25},{"$f":"IF($B$20>0,IF(AO68>0,IF(AO115>($B$61/1000),AO115-($B$61/1000),0),IF(AO115>($B$54/1000),AO115-($B$54/1000),0)),IF(Input!AR86=0,0,Input!AR61))","v":6.25},{"$f":"IF($B$20>0,IF(AP68>0,IF(AP115>($B$61/1000),AP115-($B$61/1000),0),IF(AP115>($B$54/1000),AP115-($B$54/1000),0)),IF(Input!AS86=0,0,Input!AS61))","v":6.25}]
[null,null,{"$f":"IF($B$20>0,IF(C69>0,IF(C116>($B$61/1000),C116-($B$61/1000),0),IF(C116>($B$54/1000),C116-($B$54/1000),0)),IF(Input!F87=0,0,Input!F62))","v":6.25},{"$f":"IF($B$20>0,IF(D69>0,IF(D116>($B$61/1000),D116-($B$61/1000),0),IF(D116>($B$54/1000),D116-($B$54/1000),0)),IF(Input!G87=0,0,Input!G62))","v":6.25},{"$f":"IF($B$20>0,IF(E69>0,IF(E116>($B$61/1000),E116-($B$61/1000),0),IF(E116>($B$54/1000),E116-($B$54/1000),0)),IF(Input!H87=0,0,Input!H62))","v":6.25},{"$f":"IF($B$20>0,IF(F69>0,IF(F116>($B$61/1000),F116-($B$61/1000),0),IF(F116>($B$54/1000),F116-($B$54/1000),0)),IF(Input!I87=0,0,Input!I62))","v":6.25},{"$f":"IF($B$20>0,IF(G69>0,IF(G116>($B$61/1000),G116-($B$61/1000),0),IF(G116>($B$54/1000),G116-($B$54/1000),0)),IF(Input!J87=0,0,Input!J62))","v":6.25},{"$f":"IF($B$20>0,IF(H69>0,IF(H116>($B$61/1000),H116-($B$61/1000),0),IF(H116>($B$54/1000),H116-($B$54/1000),0)),IF(Input!K87=0,0,Input!K62))","v":6.25},{"$f":"IF($B$20>0,IF(I69>0,IF(I116>($B$61/1000),I116-($B$61/1000),0),IF(I116>($B$54/1000),I116-($B$54/1000),0)),IF(Input!L87=0,0,Input!L62))","v":6.25},{"$f":"IF($B$20>0,IF(J69>0,IF(J116>($B$61/1000),J116-($B$61/1000),0),IF(J116>($B$54/1000),J116-($B$54/1000),0)),IF(Input!M87=0,0,Input!M62))","v":6.25},{"$f":"IF($B$20>0,IF(K69>0,IF(K116>($B$61/1000),K116-($B$61/1000),0),IF(K116>($B$54/1000),K116-($B$54/1000),0)),IF(Input!N87=0,0,Input!N62))","v":6.25},{"$f":"IF($B$20>0,IF(L69>0,IF(L116>($B$61/1000),L116-($B$61/1000),0),IF(L116>($B$54/1000),L116-($B$54/1000),0)),IF(Input!O87=0,0,Input!O62))","v":6.25},{"$f":"IF($B$20>0,IF(M69>0,IF(M116>($B$61/1000),M116-($B$61/1000),0),IF(M116>($B$54/1000),M116-($B$54/1000),0)),IF(Input!P87=0,0,Input!P62))","v":6.25},{"$f":"IF($B$20>0,IF(N69>0,IF(N116>($B$61/1000),N116-($B$61/1000),0),IF(N116>($B$54/1000),N116-($B$54/1000),0)),IF(Input!Q87=0,0,Input!Q62))","v":6.25},{"$f":"IF($B$20>0,IF(O69>0,IF(O116>($B$61/1000),O116-($B$61/1000),0),IF(O116>($B$54/1000),O116-($B$54/1000),0)),IF(Input!R87=0,0,Input!R62))","v":6.25},{"$f":"IF($B$20>0,IF(P69>0,IF(P116>($B$61/1000),P116-($B$61/1000),0),IF(P116>($B$54/1000),P116-($B$54/1000),0)),IF(Input!S87=0,0,Input!S62))","v":6.25},{"$f":"IF($B$20>0,IF(Q69>0,IF(Q116>($B$61/1000),Q116-($B$61/1000),0),IF(Q116>($B$54/1000),Q116-($B$54/1000),0)),IF(Input!T87=0,0,Input!T62))","v":6.25},{"$f":"IF($B$20>0,IF(R69>0,IF(R116>($B$61/1000),R116-($B$61/1000),0),IF(R116>($B$54/1000),R116-($B$54/1000),0)),IF(Input!U87=0,0,Input!U62))","v":6.25},{"$f":"IF($B$20>0,IF(S69>0,IF(S116>($B$61/1000),S116-($B$61/1000),0),IF(S116>($B$54/1000),S116-($B$54/1000),0)),IF(Input!V87=0,0,Input!V62))","v":6.25},{"$f":"IF($B$20>0,IF(T69>0,IF(T116>($B$61/1000),T116-($B$61/1000),0),IF(T116>($B$54/1000),T116-($B$54/1000),0)),IF(Input!W87=0,0,Input!W62))","v":6.25},{"$f":"IF($B$20>0,IF(U69>0,IF(U116>($B$61/1000),U116-($B$61/1000),0),IF(U116>($B$54/1000),U116-($B$54/1000),0)),IF(Input!X87=0,0,Input!X62))","v":6.25},{"$f":"IF($B$20>0,IF(V69>0,IF(V116>($B$61/1000),V116-($B$61/1000),0),IF(V116>($B$54/1000),V116-($B$54/1000),0)),IF(Input!Y87=0,0,Input!Y62))","v":6.25},{"$f":"IF($B$20>0,IF(W69>0,IF(W116>($B$61/1000),W116-($B$61/1000),0),IF(W116>($B$54/1000),W116-($B$54/1000),0)),IF(Input!Z87=0,0,Input!Z62))","v":6.25},{"$f":"IF($B$20>0,IF(X69>0,IF(X116>($B$61/1000),X116-($B$61/1000),0),IF(X116>($B$54/1000),X116-($B$54/1000),0)),IF(Input!AA87=0,0,Input!AA62))","v":6.25},{"$f":"IF($B$20>0,IF(Y69>0,IF(Y116>($B$61/1000),Y116-($B$61/1000),0),IF(Y116>($B$54/1000),Y116-($B$54/1000),0)),IF(Input!AB87=0,0,Input!AB62))","v":6.25},{"$f":"IF($B$20>0,IF(Z69>0,IF(Z116>($B$61/1000),Z116-($B$61/1000),0),IF(Z116>($B$54/1000),Z116-($B$54/1000),0)),IF(Input!AC87=0,0,Input!AC62))","v":6.25},{"$f":"IF($B$20>0,IF(AA69>0,IF(AA116>($B$61/1000),AA116-($B$61/1000),0),IF(AA116>($B$54/1000),AA116-($B$54/1000),0)),IF(Input!AD87=0,0,Input!AD62))","v":6.25},{"$f":"IF($B$20>0,IF(AB69>0,IF(AB116>($B$61/1000),AB116-($B$61/1000),0),IF(AB116>($B$54/1000),AB116-($B$54/1000),0)),IF(Input!AE87=0,0,Input!AE62))","v":6.25},{"$f":"IF($B$20>0,IF(AC69>0,IF(AC116>($B$61/1000),AC116-($B$61/1000),0),IF(AC116>($B$54/1000),AC116-($B$54/1000),0)),IF(Input!AF87=0,0,Input!AF62))","v":6.25},{"$f":"IF($B$20>0,IF(AD69>0,IF(AD116>($B$61/1000),AD116-($B$61/1000),0),IF(AD116>($B$54/1000),AD116-($B$54/1000),0)),IF(Input!AG87=0,0,Input!AG62))","v":6.25},{"$f":"IF($B$20>0,IF(AE69>0,IF(AE116>($B$61/1000),AE116-($B$61/1000),0),IF(AE116>($B$54/1000),AE116-($B$54/1000),0)),IF(Input!AH87=0,0,Input!AH62))","v":6.25},{"$f":"IF($B$20>0,IF(AF69>0,IF(AF116>($B$61/1000),AF116-($B$61/1000),0),IF(AF116>($B$54/1000),AF116-($B$54/1000),0)),IF(Input!AI87=0,0,Input!AI62))","v":6.25},{"$f":"IF($B$20>0,IF(AG69>0,IF(AG116>($B$61/1000),AG116-($B$61/1000),0),IF(AG116>($B$54/1000),AG116-($B$54/1000),0)),IF(Input!AJ87=0,0,Input!AJ62))","v":6.25},{"$f":"IF($B$20>0,IF(AH69>0,IF(AH116>($B$61/1000),AH116-($B$61/1000),0),IF(AH116>($B$54/1000),AH116-($B$54/1000),0)),IF(Input!AK87=0,0,Input!AK62))","v":6.25},{"$f":"IF($B$20>0,IF(AI69>0,IF(AI116>($B$61/1000),AI116-($B$61/1000),0),IF(AI116>($B$54/1000),AI116-($B$54/1000),0)),IF(Input!AL87=0,0,Input!AL62))","v":6.25},{"$f":"IF($B$20>0,IF(AJ69>0,IF(AJ116>($B$61/1000),AJ116-($B$61/1000),0),IF(AJ116>($B$54/1000),AJ116-($B$54/1000),0)),IF(Input!AM87=0,0,Input!AM62))","v":6.25},{"$f":"IF($B$20>0,IF(AK69>0,IF(AK116>($B$61/1000),AK116-($B$61/1000),0),IF(AK116>($B$54/1000),AK116-($B$54/1000),0)),IF(Input!AN87=0,0,Input!AN62))","v":6.25},{"$f":"IF($B$20>0,IF(AL69>0,IF(AL116>($B$61/1000),AL116-($B$61/1000),0),IF(AL116>($B$54/1000),AL116-($B$54/1000),0)),IF(Input!AO87=0,0,Input!AO62))","v":6.25},{"$f":"IF($B$20>0,IF(AM69>0,IF(AM116>($B$61/1000),AM116-($B$61/1000),0),IF(AM116>($B$54/1000),AM116-($B$54/1000),0)),IF(Input!AP87=0,0,Input!AP62))","v":6.25},{"$f":"IF($B$20>0,IF(AN69>0,IF(AN116>($B$61/1000),AN116-($B$61/1000),0),IF(AN116>($B$54/1000),AN116-($B$54/1000),0)),IF(Input!AQ87=0,0,Input!AQ62))","v":6.25},{"$f":"IF($B$20>0,IF(AO69>0,IF(AO116>($B$61/1000),AO116-($B$61/1000),0),IF(AO116>($B$54/1000),AO116-($B$54/1000),0)),IF(Input!AR87=0,0,Input!AR62))","v":6.25},{"$f":"IF($B$20>0,IF(AP69>0,IF(AP116>($B$61/1000),AP116-($B$61/1000),0),IF(AP116>($B$54/1000),AP116-($B$54/1000),0)),IF(Input!AS87=0,0,Input!AS62))","v":6.25}]
[null,null,{"$f":"IF($B$20>0,IF(C70>0,IF(C117>($B$61/1000),C117-($B$61/1000),0),IF(C117>($B$54/1000),C117-($B$54/1000),0)),IF(Input!F88=0,0,Input!F63))","v":6.25},{"$f":"IF($B$20>0,IF(D70>0,IF(D117>($B$61/1000),D117-($B$61/1000),0),IF(D117>($B$54/1000),D117-($B$54/1000),0)),IF(Input!G88=0,0,Input!G63))","v":6.25},{"$f":"IF($B$20>0,IF(E70>0,IF(E117>($B$61/1000),E117-($B$61/1000),0),IF(E117>($B$54/1000),E117-($B$54/1000),0)),IF(Input!H88=0,0,Input!H63))","v":6.25},{"$f":"IF($B$20>0,IF(F70>0,IF(F117>($B$61/1000),F117-($B$61/1000),0),IF(F117>($B$54/1000),F117-($B$54/1000),0)),IF(Input!I88=0,0,Input!I63))","v":6.25},{"$f":"IF($B$20>0,IF(G70>0,IF(G117>($B$61/1000),G117-($B$61/1000),0),IF(G117>($B$54/1000),G117-($B$54/1000),0)),IF(Input!J88=0,0,Input!J63))","v":6.25},{"$f":"IF($B$20>0,IF(H70>0,IF(H117>($B$61/1000),H117-($B$61/1000),0),IF(H117>($B$54/1000),H117-($B$54/1000),0)),IF(Input!K88=0,0,Input!K63))","v":6.25},{"$f":"IF($B$20>0,IF(I70>0,IF(I117>($B$61/1000),I117-($B$61/1000),0),IF(I117>($B$54/1000),I117-($B$54/1000),0)),IF(Input!L88=0,0,Input!L63))","v":6.25},{"$f":"IF($B$20>0,IF(J70>0,IF(J117>($B$61/1000),J117-($B$61/1000),0),IF(J117>($B$54/1000),J117-($B$54/1000),0)),IF(Input!M88=0,0,Input!M63))","v":6.25},{"$f":"IF($B$20>0,IF(K70>0,IF(K117>($B$61/1000),K117-($B$61/1000),0),IF(K117>($B$54/1000),K117-($B$54/1000),0)),IF(Input!N88=0,0,Input!N63))","v":6.25},{"$f":"IF($B$20>0,IF(L70>0,IF(L117>($B$61/1000),L117-($B$61/1000),0),IF(L117>($B$54/1000),L117-($B$54/1000),0)),IF(Input!O88=0,0,Input!O63))","v":6.25},{"$f":"IF($B$20>0,IF(M70>0,IF(M117>($B$61/1000),M117-($B$61/1000),0),IF(M117>($B$54/1000),M117-($B$54/1000),0)),IF(Input!P88=0,0,Input!P63))","v":6.25},{"$f":"IF($B$20>0,IF(N70>0,IF(N117>($B$61/1000),N117-($B$61/1000),0),IF(N117>($B$54/1000),N117-($B$54/1000),0)),IF(Input!Q88=0,0,Input!Q63))","v":6.25},{"$f":"IF($B$20>0,IF(O70>0,IF(O117>($B$61/1000),O117-($B$61/1000),0),IF(O117>($B$54/1000),O117-($B$54/1000),0)),IF(Input!R88=0,0,Input!R63))","v":6.25},{"$f":"IF($B$20>0,IF(P70>0,IF(P117>($B$61/1000),P117-($B$61/1000),0),IF(P117>($B$54/1000),P117-($B$54/1000),0)),IF(Input!S88=0,0,Input!S63))","v":6.25},{"$f":"IF($B$20>0,IF(Q70>0,IF(Q117>($B$61/1000),Q117-($B$61/1000),0),IF(Q117>($B$54/1000),Q117-($B$54/1000),0)),IF(Input!T88=0,0,Input!T63))","v":6.25},{"$f":"IF($B$20>0,IF(R70>0,IF(R117>($B$61/1000),R117-($B$61/1000),0),IF(R117>($B$54/1000),R117-($B$54/1000),0)),IF(Input!U88=0,0,Input!U63))","v":6.25},{"$f":"IF($B$20>0,IF(S70>0,IF(S117>($B$61/1000),S117-($B$61/1000),0),IF(S117>($B$54/1000),S117-($B$54/1000),0)),IF(Input!V88=0,0,Input!V63))","v":6.25},{"$f":"IF($B$20>0,IF(T70>0,IF(T117>($B$61/1000),T117-($B$61/1000),0),IF(T117>($B$54/1000),T117-($B$54/1000),0)),IF(Input!W88=0,0,Input!W63))","v":6.25},{"$f":"IF($B$20>0,IF(U70>0,IF(U117>($B$61/1000),U117-($B$61/1000),0),IF(U117>($B$54/1000),U117-($B$54/1000),0)),IF(Input!X88=0,0,Input!X63))","v":6.25},{"$f":"IF($B$20>0,IF(V70>0,IF(V117>($B$61/1000),V117-($B$61/1000),0),IF(V117>($B$54/1000),V117-($B$54/1000),0)),IF(Input!Y88=0,0,Input!Y63))","v":6.25},{"$f":"IF($B$20>0,IF(W70>0,IF(W117>($B$61/1000),W117-($B$61/1000),0),IF(W117>($B$54/1000),W117-($B$54/1000),0)),IF(Input!Z88=0,0,Input!Z63))","v":6.25},{"$f":"IF($B$20>0,IF(X70>0,IF(X117>($B$61/1000),X117-($B$61/1000),0),IF(X117>($B$54/1000),X117-($B$54/1000),0)),IF(Input!AA88=0,0,Input!AA63))","v":6.25},{"$f":"IF($B$20>0,IF(Y70>0,IF(Y117>($B$61/1000),Y117-($B$61/1000),0),IF(Y117>($B$54/1000),Y117-($B$54/1000),0)),IF(Input!AB88=0,0,Input!AB63))","v":6.25},{"$f":"IF($B$20>0,IF(Z70>0,IF(Z117>($B$61/1000),Z117-($B$61/1000),0),IF(Z117>($B$54/1000),Z117-($B$54/1000),0)),IF(Input!AC88=0,0,Input!AC63))","v":6.25},{"$f":"IF($B$20>0,IF(AA70>0,IF(AA117>($B$61/1000),AA117-($B$61/1000),0),IF(AA117>($B$54/1000),AA117-($B$54/1000),0)),IF(Input!AD88=0,0,Input!AD63))","v":6.25},{"$f":"IF($B$20>0,IF(AB70>0,IF(AB117>($B$61/1000),AB117-($B$61/1000),0),IF(AB117>($B$54/1000),AB117-($B$54/1000),0)),IF(Input!AE88=0,0,Input!AE63))","v":6.25},{"$f":"IF($B$20>0,IF(AC70>0,IF(AC117>($B$61/1000),AC117-($B$61/1000),0),IF(AC117>($B$54/1000),AC117-($B$54/1000),0)),IF(Input!AF88=0,0,Input!AF63))","v":6.25},{"$f":"IF($B$20>0,IF(AD70>0,IF(AD117>($B$61/1000),AD117-($B$61/1000),0),IF(AD117>($B$54/1000),AD117-($B$54/1000),0)),IF(Input!AG88=0,0,Input!AG63))","v":6.25},{"$f":"IF($B$20>0,IF(AE70>0,IF(AE117>($B$61/1000),AE117-($B$61/1000),0),IF(AE117>($B$54/1000),AE117-($B$54/1000),0)),IF(Input!AH88=0,0,Input!AH63))","v":6.25},{"$f":"IF($B$20>0,IF(AF70>0,IF(AF117>($B$61/1000),AF117-($B$61/1000),0),IF(AF117>($B$54/1000),AF117-($B$54/1000),0)),IF(Input!AI88=0,0,Input!AI63))","v":6.25},{"$f":"IF($B$20>0,IF(AG70>0,IF(AG117>($B$61/1000),AG117-($B$61/1000),0),IF(AG117>($B$54/1000),AG117-($B$54/1000),0)),IF(Input!AJ88=0,0,Input!AJ63))","v":6.25},{"$f":"IF($B$20>0,IF(AH70>0,IF(AH117>($B$61/1000),AH117-($B$61/1000),0),IF(AH117>($B$54/1000),AH117-($B$54/1000),0)),IF(Input!AK88=0,0,Input!AK63))","v":6.25},{"$f":"IF($B$20>0,IF(AI70>0,IF(AI117>($B$61/1000),AI117-($B$61/1000),0),IF(AI117>($B$54/1000),AI117-($B$54/1000),0)),IF(Input!AL88=0,0,Input!AL63))","v":6.25},{"$f":"IF($B$20>0,IF(AJ70>0,IF(AJ117>($B$61/1000),AJ117-($B$61/1000),0),IF(AJ117>($B$54/1000),AJ117-($B$54/1000),0)),IF(Input!AM88=0,0,Input!AM63))","v":6.25},{"$f":"IF($B$20>0,IF(AK70>0,IF(AK117>($B$61/1000),AK117-($B$61/1000),0),IF(AK117>($B$54/1000),AK117-($B$54/1000),0)),IF(Input!AN88=0,0,Input!AN63))","v":6.25},{"$f":"IF($B$20>0,IF(AL70>0,IF(AL117>($B$61/1000),AL117-($B$61/1000),0),IF(AL117>($B$54/1000),AL117-($B$54/1000),0)),IF(Input!AO88=0,0,Input!AO63))","v":6.25},{"$f":"IF($B$20>0,IF(AM70>0,IF(AM117>($B$61/1000),AM117-($B$61/1000),0),IF(AM117>($B$54/1000),AM117-($B$54/1000),0)),IF(Input!AP88=0,0,Input!AP63))","v":6.25},{"$f":"IF($B$20>0,IF(AN70>0,IF(AN117>($B$61/1000),AN117-($B$61/1000),0),IF(AN117>($B$54/1000),AN117-($B$54/1000),0)),IF(Input!AQ88=0,0,Input!AQ63))","v":6.25},{"$f":"IF($B$20>0,IF(AO70>0,IF(AO117>($B$61/1000),AO117-($B$61/1000),0),IF(AO117>($B$54/1000),AO117-($B$54/1000),0)),IF(Input!AR88=0,0,Input!AR63))","v":6.25},{"$f":"IF($B$20>0,IF(AP70>0,IF(AP117>($B$61/1000),AP117-($B$61/1000),0),IF(AP117>($B$54/1000),AP117-($B$54/1000),0)),IF(Input!AS88=0,0,Input!AS63))","v":6.25}]
[null,null,{"$f":"IF($B$20>0,IF(C71>0,IF(C118>($B$61/1000),C118-($B$61/1000),0),IF(C118>($B$54/1000),C118-($B$54/1000),0)),IF(Input!F89=0,0,Input!F64))","v":6.25},{"$f":"IF($B$20>0,IF(D71>0,IF(D118>($B$61/1000),D118-($B$61/1000),0),IF(D118>($B$54/1000),D118-($B$54/1000),0)),IF(Input!G89=0,0,Input!G64))","v":6.25},{"$f":"IF($B$20>0,IF(E71>0,IF(E118>($B$61/1000),E118-($B$61/1000),0),IF(E118>($B$54/1000),E118-($B$54/1000),0)),IF(Input!H89=0,0,Input!H64))","v":6.25},{"$f":"IF($B$20>0,IF(F71>0,IF(F118>($B$61/1000),F118-($B$61/1000),0),IF(F118>($B$54/1000),F118-($B$54/1000),0)),IF(Input!I89=0,0,Input!I64))","v":6.25},{"$f":"IF($B$20>0,IF(G71>0,IF(G118>($B$61/1000),G118-($B$61/1000),0),IF(G118>($B$54/1000),G118-($B$54/1000),0)),IF(Input!J89=0,0,Input!J64))","v":6.25},{"$f":"IF($B$20>0,IF(H71>0,IF(H118>($B$61/1000),H118-($B$61/1000),0),IF(H118>($B$54/1000),H118-($B$54/1000),0)),IF(Input!K89=0,0,Input!K64))","v":6.25},{"$f":"IF($B$20>0,IF(I71>0,IF(I118>($B$61/1000),I118-($B$61/1000),0),IF(I118>($B$54/1000),I118-($B$54/1000),0)),IF(Input!L89=0,0,Input!L64))","v":6.25},{"$f":"IF($B$20>0,IF(J71>0,IF(J118>($B$61/1000),J118-($B$61/1000),0),IF(J118>($B$54/1000),J118-($B$54/1000),0)),IF(Input!M89=0,0,Input!M64))","v":6.25},{"$f":"IF($B$20>0,IF(K71>0,IF(K118>($B$61/1000),K118-($B$61/1000),0),IF(K118>($B$54/1000),K118-($B$54/1000),0)),IF(Input!N89=0,0,Input!N64))","v":6.25},{"$f":"IF($B$20>0,IF(L71>0,IF(L118>($B$61/1000),L118-($B$61/1000),0),IF(L118>($B$54/1000),L118-($B$54/1000),0)),IF(Input!O89=0,0,Input!O64))","v":6.25},{"$f":"IF($B$20>0,IF(M71>0,IF(M118>($B$61/1000),M118-($B$61/1000),0),IF(M118>($B$54/1000),M118-($B$54/1000),0)),IF(Input!P89=0,0,Input!P64))","v":6.25},{"$f":"IF($B$20>0,IF(N71>0,IF(N118>($B$61/1000),N118-($B$61/1000),0),IF(N118>($B$54/1000),N118-($B$54/1000),0)),IF(Input!Q89=0,0,Input!Q64))","v":6.25},{"$f":"IF($B$20>0,IF(O71>0,IF(O118>($B$61/1000),O118-($B$61/1000),0),IF(O118>($B$54/1000),O118-($B$54/1000),0)),IF(Input!R89=0,0,Input!R64))","v":6.25},{"$f":"IF($B$20>0,IF(P71>0,IF(P118>($B$61/1000),P118-($B$61/1000),0),IF(P118>($B$54/1000),P118-($B$54/1000),0)),IF(Input!S89=0,0,Input!S64))","v":6.25},{"$f":"IF($B$20>0,IF(Q71>0,IF(Q118>($B$61/1000),Q118-($B$61/1000),0),IF(Q118>($B$54/1000),Q118-($B$54/1000),0)),IF(Input!T89=0,0,Input!T64))","v":6.25},{"$f":"IF($B$20>0,IF(R71>0,IF(R118>($B$61/1000),R118-($B$61/1000),0),IF(R118>($B$54/1000),R118-($B$54/1000),0)),IF(Input!U89=0,0,Input!U64))","v":6.25},{"$f":"IF($B$20>0,IF(S71>0,IF(S118>($B$61/1000),S118-($B$61/1000),0),IF(S118>($B$54/1000),S118-($B$54/1000),0)),IF(Input!V89=0,0,Input!V64))","v":6.25},{"$f":"IF($B$20>0,IF(T71>0,IF(T118>($B$61/1000),T118-($B$61/1000),0),IF(T118>($B$54/1000),T118-($B$54/1000),0)),IF(Input!W89=0,0,Input!W64))","v":6.25},{"$f":"IF($B$20>0,IF(U71>0,IF(U118>($B$61/1000),U118-($B$61/1000),0),IF(U118>($B$54/1000),U118-($B$54/1000),0)),IF(Input!X89=0,0,Input!X64))","v":6.25},{"$f":"IF($B$20>0,IF(V71>0,IF(V118>($B$61/1000),V118-($B$61/1000),0),IF(V118>($B$54/1000),V118-($B$54/1000),0)),IF(Input!Y89=0,0,Input!Y64))","v":6.25},{"$f":"IF($B$20>0,IF(W71>0,IF(W118>($B$61/1000),W118-($B$61/1000),0),IF(W118>($B$54/1000),W118-($B$54/1000),0)),IF(Input!Z89=0,0,Input!Z64))","v":6.25},{"$f":"IF($B$20>0,IF(X71>0,IF(X118>($B$61/1000),X118-($B$61/1000),0),IF(X118>($B$54/1000),X118-($B$54/1000),0)),IF(Input!AA89=0,0,Input!AA64))","v":6.25},{"$f":"IF($B$20>0,IF(Y71>0,IF(Y118>($B$61/1000),Y118-($B$61/1000),0),IF(Y118>($B$54/1000),Y118-($B$54/1000),0)),IF(Input!AB89=0,0,Input!AB64))","v":6.25},{"$f":"IF($B$20>0,IF(Z71>0,IF(Z118>($B$61/1000),Z118-($B$61/1000),0),IF(Z118>($B$54/1000),Z118-($B$54/1000),0)),IF(Input!AC89=0,0,Input!AC64))","v":6.25},{"$f":"IF($B$20>0,IF(AA71>0,IF(AA118>($B$61/1000),AA118-($B$61/1000),0),IF(AA118>($B$54/1000),AA118-($B$54/1000),0)),IF(Input!AD89=0,0,Input!AD64))","v":6.25},{"$f":"IF($B$20>0,IF(AB71>0,IF(AB118>($B$61/1000),AB118-($B$61/1000),0),IF(AB118>($B$54/1000),AB118-($B$54/1000),0)),IF(Input!AE89=0,0,Input!AE64))","v":6.25},{"$f":"IF($B$20>0,IF(AC71>0,IF(AC118>($B$61/1000),AC118-($B$61/1000),0),IF(AC118>($B$54/1000),AC118-($B$54/1000),0)),IF(Input!AF89=0,0,Input!AF64))","v":6.25},{"$f":"IF($B$20>0,IF(AD71>0,IF(AD118>($B$61/1000),AD118-($B$61/1000),0),IF(AD118>($B$54/1000),AD118-($B$54/1000),0)),IF(Input!AG89=0,0,Input!AG64))","v":6.25},{"$f":"IF($B$20>0,IF(AE71>0,IF(AE118>($B$61/1000),AE118-($B$61/1000),0),IF(AE118>($B$54/1000),AE118-($B$54/1000),0)),IF(Input!AH89=0,0,Input!AH64))","v":6.25},{"$f":"IF($B$20>0,IF(AF71>0,IF(AF118>($B$61/1000),AF118-($B$61/1000),0),IF(AF118>($B$54/1000),AF118-($B$54/1000),0)),IF(Input!AI89=0,0,Input!AI64))","v":6.25},{"$f":"IF($B$20>0,IF(AG71>0,IF(AG118>($B$61/1000),AG118-($B$61/1000),0),IF(AG118>($B$54/1000),AG118-($B$54/1000),0)),IF(Input!AJ89=0,0,Input!AJ64))","v":6.25},{"$f":"IF($B$20>0,IF(AH71>0,IF(AH118>($B$61/1000),AH118-($B$61/1000),0),IF(AH118>($B$54/1000),AH118-($B$54/1000),0)),IF(Input!AK89=0,0,Input!AK64))","v":6.25},{"$f":"IF($B$20>0,IF(AI71>0,IF(AI118>($B$61/1000),AI118-($B$61/1000),0),IF(AI118>($B$54/1000),AI118-($B$54/1000),0)),IF(Input!AL89=0,0,Input!AL64))","v":6.25},{"$f":"IF($B$20>0,IF(AJ71>0,IF(AJ118>($B$61/1000),AJ118-($B$61/1000),0),IF(AJ118>($B$54/1000),AJ118-($B$54/1000),0)),IF(Input!AM89=0,0,Input!AM64))","v":6.25},{"$f":"IF($B$20>0,IF(AK71>0,IF(AK118>($B$61/1000),AK118-($B$61/1000),0),IF(AK118>($B$54/1000),AK118-($B$54/1000),0)),IF(Input!AN89=0,0,Input!AN64))","v":6.25},{"$f":"IF($B$20>0,IF(AL71>0,IF(AL118>($B$61/1000),AL118-($B$61/1000),0),IF(AL118>($B$54/1000),AL118-($B$54/1000),0)),IF(Input!AO89=0,0,Input!AO64))","v":6.25},{"$f":"IF($B$20>0,IF(AM71>0,IF(AM118>($B$61/1000),AM118-($B$61/1000),0),IF(AM118>($B$54/1000),AM118-($B$54/1000),0)),IF(Input!AP89=0,0,Input!AP64))","v":6.25},{"$f":"IF($B$20>0,IF(AN71>0,IF(AN118>($B$61/1000),AN118-($B$61/1000),0),IF(AN118>($B$54/1000),AN118-($B$54/1000),0)),IF(Input!AQ89=0,0,Input!AQ64))","v":6.25},{"$f":"IF($B$20>0,IF(AO71>0,IF(AO118>($B$61/1000),AO118-($B$61/1000),0),IF(AO118>($B$54/1000),AO118-($B$54/1000),0)),IF(Input!AR89=0,0,Input!AR64))","v":6.25},{"$f":"IF($B$20>0,IF(AP71>0,IF(AP118>($B$61/1000),AP118-($B$61/1000),0),IF(AP118>($B$54/1000),AP118-($B$54/1000),0)),IF(Input!AS89=0,0,Input!AS64))","v":6.25}]
[null,null,{"$f":"IF($B$20>0,IF(C72>0,IF(C119>($B$61/1000),C119-($B$61/1000),0),IF(C119>($B$54/1000),C119-($B$54/1000),0)),IF(Input!F90=0,0,Input!F65))","v":6.25},{"$f":"IF($B$20>0,IF(D72>0,IF(D119>($B$61/1000),D119-($B$61/1000),0),IF(D119>($B$54/1000),D119-($B$54/1000),0)),IF(Input!G90=0,0,Input!G65))","v":6.25},{"$f":"IF($B$20>0,IF(E72>0,IF(E119>($B$61/1000),E119-($B$61/1000),0),IF(E119>($B$54/1000),E119-($B$54/1000),0)),IF(Input!H90=0,0,Input!H65))","v":6.25},{"$f":"IF($B$20>0,IF(F72>0,IF(F119>($B$61/1000),F119-($B$61/1000),0),IF(F119>($B$54/1000),F119-($B$54/1000),0)),IF(Input!I90=0,0,Input!I65))","v":6.25},{"$f":"IF($B$20>0,IF(G72>0,IF(G119>($B$61/1000),G119-($B$61/1000),0),IF(G119>($B$54/1000),G119-($B$54/1000),0)),IF(Input!J90=0,0,Input!J65))","v":6.25},{"$f":"IF($B$20>0,IF(H72>0,IF(H119>($B$61/1000),H119-($B$61/1000),0),IF(H119>($B$54/1000),H119-($B$54/1000),0)),IF(Input!K90=0,0,Input!K65))","v":6.25},{"$f":"IF($B$20>0,IF(I72>0,IF(I119>($B$61/1000),I119-($B$61/1000),0),IF(I119>($B$54/1000),I119-($B$54/1000),0)),IF(Input!L90=0,0,Input!L65))","v":6.25},{"$f":"IF($B$20>0,IF(J72>0,IF(J119>($B$61/1000),J119-($B$61/1000),0),IF(J119>($B$54/1000),J119-($B$54/1000),0)),IF(Input!M90=0,0,Input!M65))","v":6.25},{"$f":"IF($B$20>0,IF(K72>0,IF(K119>($B$61/1000),K119-($B$61/1000),0),IF(K119>($B$54/1000),K119-($B$54/1000),0)),IF(Input!N90=0,0,Input!N65))","v":6.25},{"$f":"IF($B$20>0,IF(L72>0,IF(L119>($B$61/1000),L119-($B$61/1000),0),IF(L119>($B$54/1000),L119-($B$54/1000),0)),IF(Input!O90=0,0,Input!O65))","v":6.25},{"$f":"IF($B$20>0,IF(M72>0,IF(M119>($B$61/1000),M119-($B$61/1000),0),IF(M119>($B$54/1000),M119-($B$54/1000),0)),IF(Input!P90=0,0,Input!P65))","v":6.25},{"$f":"IF($B$20>0,IF(N72>0,IF(N119>($B$61/1000),N119-($B$61/1000),0),IF(N119>($B$54/1000),N119-($B$54/1000),0)),IF(Input!Q90=0,0,Input!Q65))","v":6.25},{"$f":"IF($B$20>0,IF(O72>0,IF(O119>($B$61/1000),O119-($B$61/1000),0),IF(O119>($B$54/1000),O119-($B$54/1000),0)),IF(Input!R90=0,0,Input!R65))","v":6.25},{"$f":"IF($B$20>0,IF(P72>0,IF(P119>($B$61/1000),P119-($B$61/1000),0),IF(P119>($B$54/1000),P119-($B$54/1000),0)),IF(Input!S90=0,0,Input!S65))","v":6.25},{"$f":"IF($B$20>0,IF(Q72>0,IF(Q119>($B$61/1000),Q119-($B$61/1000),0),IF(Q119>($B$54/1000),Q119-($B$54/1000),0)),IF(Input!T90=0,0,Input!T65))","v":6.25},{"$f":"IF($B$20>0,IF(R72>0,IF(R119>($B$61/1000),R119-($B$61/1000),0),IF(R119>($B$54/1000),R119-($B$54/1000),0)),IF(Input!U90=0,0,Input!U65))","v":6.25},{"$f":"IF($B$20>0,IF(S72>0,IF(S119>($B$61/1000),S119-($B$61/1000),0),IF(S119>($B$54/1000),S119-($B$54/1000),0)),IF(Input!V90=0,0,Input!V65))","v":6.25},{"$f":"IF($B$20>0,IF(T72>0,IF(T119>($B$61/1000),T119-($B$61/1000),0),IF(T119>($B$54/1000),T119-($B$54/1000),0)),IF(Input!W90=0,0,Input!W65))","v":6.25},{"$f":"IF($B$20>0,IF(U72>0,IF(U119>($B$61/1000),U119-($B$61/1000),0),IF(U119>($B$54/1000),U119-($B$54/1000),0)),IF(Input!X90=0,0,Input!X65))","v":6.25},{"$f":"IF($B$20>0,IF(V72>0,IF(V119>($B$61/1000),V119-($B$61/1000),0),IF(V119>($B$54/1000),V119-($B$54/1000),0)),IF(Input!Y90=0,0,Input!Y65))","v":6.25},{"$f":"IF($B$20>0,IF(W72>0,IF(W119>($B$61/1000),W119-($B$61/1000),0),IF(W119>($B$54/1000),W119-($B$54/1000),0)),IF(Input!Z90=0,0,Input!Z65))","v":6.25},{"$f":"IF($B$20>0,IF(X72>0,IF(X119>($B$61/1000),X119-($B$61/1000),0),IF(X119>($B$54/1000),X119-($B$54/1000),0)),IF(Input!AA90=0,0,Input!AA65))","v":6.25},{"$f":"IF($B$20>0,IF(Y72>0,IF(Y119>($B$61/1000),Y119-($B$61/1000),0),IF(Y119>($B$54/1000),Y119-($B$54/1000),0)),IF(Input!AB90=0,0,Input!AB65))","v":6.25},{"$f":"IF($B$20>0,IF(Z72>0,IF(Z119>($B$61/1000),Z119-($B$61/1000),0),IF(Z119>($B$54/1000),Z119-($B$54/1000),0)),IF(Input!AC90=0,0,Input!AC65))","v":6.25},{"$f":"IF($B$20>0,IF(AA72>0,IF(AA119>($B$61/1000),AA119-($B$61/1000),0),IF(AA119>($B$54/1000),AA119-($B$54/1000),0)),IF(Input!AD90=0,0,Input!AD65))","v":6.25},{"$f":"IF($B$20>0,IF(AB72>0,IF(AB119>($B$61/1000),AB119-($B$61/1000),0),IF(AB119>($B$54/1000),AB119-($B$54/1000),0)),IF(Input!AE90=0,0,Input!AE65))","v":6.25},{"$f":"IF($B$20>0,IF(AC72>0,IF(AC119>($B$61/1000),AC119-($B$61/1000),0),IF(AC119>($B$54/1000),AC119-($B$54/1000),0)),IF(Input!AF90=0,0,Input!AF65))","v":6.25},{"$f":"IF($B$20>0,IF(AD72>0,IF(AD119>($B$61/1000),AD119-($B$61/1000),0),IF(AD119>($B$54/1000),AD119-($B$54/1000),0)),IF(Input!AG90=0,0,Input!AG65))","v":6.25},{"$f":"IF($B$20>0,IF(AE72>0,IF(AE119>($B$61/1000),AE119-($B$61/1000),0),IF(AE119>($B$54/1000),AE119-($B$54/1000),0)),IF(Input!AH90=0,0,Input!AH65))","v":6.25},{"$f":"IF($B$20>0,IF(AF72>0,IF(AF119>($B$61/1000),AF119-($B$61/1000),0),IF(AF119>($B$54/1000),AF119-($B$54/1000),0)),IF(Input!AI90=0,0,Input!AI65))","v":6.25},{"$f":"IF($B$20>0,IF(AG72>0,IF(AG119>($B$61/1000),AG119-($B$61/1000),0),IF(AG119>($B$54/1000),AG119-($B$54/1000),0)),IF(Input!AJ90=0,0,Input!AJ65))","v":6.25},{"$f":"IF($B$20>0,IF(AH72>0,IF(AH119>($B$61/1000),AH119-($B$61/1000),0),IF(AH119>($B$54/1000),AH119-($B$54/1000),0)),IF(Input!AK90=0,0,Input!AK65))","v":6.25},{"$f":"IF($B$20>0,IF(AI72>0,IF(AI119>($B$61/1000),AI119-($B$61/1000),0),IF(AI119>($B$54/1000),AI119-($B$54/1000),0)),IF(Input!AL90=0,0,Input!AL65))","v":6.25},{"$f":"IF($B$20>0,IF(AJ72>0,IF(AJ119>($B$61/1000),AJ119-($B$61/1000),0),IF(AJ119>($B$54/1000),AJ119-($B$54/1000),0)),IF(Input!AM90=0,0,Input!AM65))","v":6.25},{"$f":"IF($B$20>0,IF(AK72>0,IF(AK119>($B$61/1000),AK119-($B$61/1000),0),IF(AK119>($B$54/1000),AK119-($B$54/1000),0)),IF(Input!AN90=0,0,Input!AN65))","v":6.25},{"$f":"IF($B$20>0,IF(AL72>0,IF(AL119>($B$61/1000),AL119-($B$61/1000),0),IF(AL119>($B$54/1000),AL119-($B$54/1000),0)),IF(Input!AO90=0,0,Input!AO65))","v":6.25},{"$f":"IF($B$20>0,IF(AM72>0,IF(AM119>($B$61/1000),AM119-($B$61/1000),0),IF(AM119>($B$54/1000),AM119-($B$54/1000),0)),IF(Input!AP90=0,0,Input!AP65))","v":6.25},{"$f":"IF($B$20>0,IF(AN72>0,IF(AN119>($B$61/1000),AN119-($B$61/1000),0),IF(AN119>($B$54/1000),AN119-($B$54/1000),0)),IF(Input!AQ90=0,0,Input!AQ65))","v":6.25},{"$f":"IF($B$20>0,IF(AO72>0,IF(AO119>($B$61/1000),AO119-($B$61/1000),0),IF(AO119>($B$54/1000),AO119-($B$54/1000),0)),IF(Input!AR90=0,0,Input!AR65))","v":6.25},{"$f":"IF($B$20>0,IF(AP72>0,IF(AP119>($B$61/1000),AP119-($B$61/1000),0),IF(AP119>($B$54/1000),AP119-($B$54/1000),0)),IF(Input!AS90=0,0,Input!AS65))","v":6.25}]
[null,null,{"$f":"IF($B$20>0,IF(C73>0,IF(C120>($B$61/1000),C120-($B$61/1000),0),IF(C120>($B$54/1000),C120-($B$54/1000),0)),IF(Input!F91=0,0,Input!F66))","v":6.25},{"$f":"IF($B$20>0,IF(D73>0,IF(D120>($B$61/1000),D120-($B$61/1000),0),IF(D120>($B$54/1000),D120-($B$54/1000),0)),IF(Input!G91=0,0,Input!G66))","v":6.25},{"$f":"IF($B$20>0,IF(E73>0,IF(E120>($B$61/1000),E120-($B$61/1000),0),IF(E120>($B$54/1000),E120-($B$54/1000),0)),IF(Input!H91=0,0,Input!H66))","v":6.25},{"$f":"IF($B$20>0,IF(F73>0,IF(F120>($B$61/1000),F120-($B$61/1000),0),IF(F120>($B$54/1000),F120-($B$54/1000),0)),IF(Input!I91=0,0,Input!I66))","v":6.25},{"$f":"IF($B$20>0,IF(G73>0,IF(G120>($B$61/1000),G120-($B$61/1000),0),IF(G120>($B$54/1000),G120-($B$54/1000),0)),IF(Input!J91=0,0,Input!J66))","v":6.25},{"$f":"IF($B$20>0,IF(H73>0,IF(H120>($B$61/1000),H120-($B$61/1000),0),IF(H120>($B$54/1000),H120-($B$54/1000),0)),IF(Input!K91=0,0,Input!K66))","v":6.25},{"$f":"IF($B$20>0,IF(I73>0,IF(I120>($B$61/1000),I120-($B$61/1000),0),IF(I120>($B$54/1000),I120-($B$54/1000),0)),IF(Input!L91=0,0,Input!L66))","v":6.25},{"$f":"IF($B$20>0,IF(J73>0,IF(J120>($B$61/1000),J120-($B$61/1000),0),IF(J120>($B$54/1000),J120-($B$54/1000),0)),IF(Input!M91=0,0,Input!M66))","v":6.25},{"$f":"IF($B$20>0,IF(K73>0,IF(K120>($B$61/1000),K120-($B$61/1000),0),IF(K120>($B$54/1000),K120-($B$54/1000),0)),IF(Input!N91=0,0,Input!N66))","v":6.25},{"$f":"IF($B$20>0,IF(L73>0,IF(L120>($B$61/1000),L120-($B$61/1000),0),IF(L120>($B$54/1000),L120-($B$54/1000),0)),IF(Input!O91=0,0,Input!O66))","v":6.25},{"$f":"IF($B$20>0,IF(M73>0,IF(M120>($B$61/1000),M120-($B$61/1000),0),IF(M120>($B$54/1000),M120-($B$54/1000),0)),IF(Input!P91=0,0,Input!P66))","v":6.25},{"$f":"IF($B$20>0,IF(N73>0,IF(N120>($B$61/1000),N120-($B$61/1000),0),IF(N120>($B$54/1000),N120-($B$54/1000),0)),IF(Input!Q91=0,0,Input!Q66))","v":6.25},{"$f":"IF($B$20>0,IF(O73>0,IF(O120>($B$61/1000),O120-($B$61/1000),0),IF(O120>($B$54/1000),O120-($B$54/1000),0)),IF(Input!R91=0,0,Input!R66))","v":6.25},{"$f":"IF($B$20>0,IF(P73>0,IF(P120>($B$61/1000),P120-($B$61/1000),0),IF(P120>($B$54/1000),P120-($B$54/1000),0)),IF(Input!S91=0,0,Input!S66))","v":6.25},{"$f":"IF($B$20>0,IF(Q73>0,IF(Q120>($B$61/1000),Q120-($B$61/1000),0),IF(Q120>($B$54/1000),Q120-($B$54/1000),0)),IF(Input!T91=0,0,Input!T66))","v":6.25},{"$f":"IF($B$20>0,IF(R73>0,IF(R120>($B$61/1000),R120-($B$61/1000),0),IF(R120>($B$54/1000),R120-($B$54/1000),0)),IF(Input!U91=0,0,Input!U66))","v":6.25},{"$f":"IF($B$20>0,IF(S73>0,IF(S120>($B$61/1000),S120-($B$61/1000),0),IF(S120>($B$54/1000),S120-($B$54/1000),0)),IF(Input!V91=0,0,Input!V66))","v":6.25},{"$f":"IF($B$20>0,IF(T73>0,IF(T120>($B$61/1000),T120-($B$61/1000),0),IF(T120>($B$54/1000),T120-($B$54/1000),0)),IF(Input!W91=0,0,Input!W66))","v":6.25},{"$f":"IF($B$20>0,IF(U73>0,IF(U120>($B$61/1000),U120-($B$61/1000),0),IF(U120>($B$54/1000),U120-($B$54/1000),0)),IF(Input!X91=0,0,Input!X66))","v":6.25},{"$f":"IF($B$20>0,IF(V73>0,IF(V120>($B$61/1000),V120-($B$61/1000),0),IF(V120>($B$54/1000),V120-($B$54/1000),0)),IF(Input!Y91=0,0,Input!Y66))","v":6.25},{"$f":"IF($B$20>0,IF(W73>0,IF(W120>($B$61/1000),W120-($B$61/1000),0),IF(W120>($B$54/1000),W120-($B$54/1000),0)),IF(Input!Z91=0,0,Input!Z66))","v":6.25},{"$f":"IF($B$20>0,IF(X73>0,IF(X120>($B$61/1000),X120-($B$61/1000),0),IF(X120>($B$54/1000),X120-($B$54/1000),0)),IF(Input!AA91=0,0,Input!AA66))","v":6.25},{"$f":"IF($B$20>0,IF(Y73>0,IF(Y120>($B$61/1000),Y120-($B$61/1000),0),IF(Y120>($B$54/1000),Y120-($B$54/1000),0)),IF(Input!AB91=0,0,Input!AB66))","v":6.25},{"$f":"IF($B$20>0,IF(Z73>0,IF(Z120>($B$61/1000),Z120-($B$61/1000),0),IF(Z120>($B$54/1000),Z120-($B$54/1000),0)),IF(Input!AC91=0,0,Input!AC66))","v":6.25},{"$f":"IF($B$20>0,IF(AA73>0,IF(AA120>($B$61/1000),AA120-($B$61/1000),0),IF(AA120>($B$54/1000),AA120-($B$54/1000),0)),IF(Input!AD91=0,0,Input!AD66))","v":6.25},{"$f":"IF($B$20>0,IF(AB73>0,IF(AB120>($B$61/1000),AB120-($B$61/1000),0),IF(AB120>($B$54/1000),AB120-($B$54/1000),0)),IF(Input!AE91=0,0,Input!AE66))","v":6.25},{"$f":"IF($B$20>0,IF(AC73>0,IF(AC120>($B$61/1000),AC120-($B$61/1000),0),IF(AC120>($B$54/1000),AC120-($B$54/1000),0)),IF(Input!AF91=0,0,Input!AF66))","v":6.25},{"$f":"IF($B$20>0,IF(AD73>0,IF(AD120>($B$61/1000),AD120-($B$61/1000),0),IF(AD120>($B$54/1000),AD120-($B$54/1000),0)),IF(Input!AG91=0,0,Input!AG66))","v":6.25},{"$f":"IF($B$20>0,IF(AE73>0,IF(AE120>($B$61/1000),AE120-($B$61/1000),0),IF(AE120>($B$54/1000),AE120-($B$54/1000),0)),IF(Input!AH91=0,0,Input!AH66))","v":6.25},{"$f":"IF($B$20>0,IF(AF73>0,IF(AF120>($B$61/1000),AF120-($B$61/1000),0),IF(AF120>($B$54/1000),AF120-($B$54/1000),0)),IF(Input!AI91=0,0,Input!AI66))","v":6.25},{"$f":"IF($B$20>0,IF(AG73>0,IF(AG120>($B$61/1000),AG120-($B$61/1000),0),IF(AG120>($B$54/1000),AG120-($B$54/1000),0)),IF(Input!AJ91=0,0,Input!AJ66))","v":6.25},{"$f":"IF($B$20>0,IF(AH73>0,IF(AH120>($B$61/1000),AH120-($B$61/1000),0),IF(AH120>($B$54/1000),AH120-($B$54/1000),0)),IF(Input!AK91=0,0,Input!AK66))","v":6.25},{"$f":"IF($B$20>0,IF(AI73>0,IF(AI120>($B$61/1000),AI120-($B$61/1000),0),IF(AI120>($B$54/1000),AI120-($B$54/1000),0)),IF(Input!AL91=0,0,Input!AL66))","v":6.25},{"$f":"IF($B$20>0,IF(AJ73>0,IF(AJ120>($B$61/1000),AJ120-($B$61/1000),0),IF(AJ120>($B$54/1000),AJ120-($B$54/1000),0)),IF(Input!AM91=0,0,Input!AM66))","v":6.25},{"$f":"IF($B$20>0,IF(AK73>0,IF(AK120>($B$61/1000),AK120-($B$61/1000),0),IF(AK120>($B$54/1000),AK120-($B$54/1000),0)),IF(Input!AN91=0,0,Input!AN66))","v":6.25},{"$f":"IF($B$20>0,IF(AL73>0,IF(AL120>($B$61/1000),AL120-($B$61/1000),0),IF(AL120>($B$54/1000),AL120-($B$54/1000),0)),IF(Input!AO91=0,0,Input!AO66))","v":6.25},{"$f":"IF($B$20>0,IF(AM73>0,IF(AM120>($B$61/1000),AM120-($B$61/1000),0),IF(AM120>($B$54/1000),AM120-($B$54/1000),0)),IF(Input!AP91=0,0,Input!AP66))","v":6.25},{"$f":"IF($B$20>0,IF(AN73>0,IF(AN120>($B$61/1000),AN120-($B$61/1000),0),IF(AN120>($B$54/1000),AN120-($B$54/1000),0)),IF(Input!AQ91=0,0,Input!AQ66))","v":6.25},{"$f":"IF($B$20>0,IF(AO73>0,IF(AO120>($B$61/1000),AO120-($B$61/1000),0),IF(AO120>($B$54/1000),AO120-($B$54/1000),0)),IF(Input!AR91=0,0,Input!AR66))","v":6.25},{"$f":"IF($B$20>0,IF(AP73>0,IF(AP120>($B$61/1000),AP120-($B$61/1000),0),IF(AP120>($B$54/1000),AP120-($B$54/1000),0)),IF(Input!AS91=0,0,Input!AS66))","v":6.25}]
[null,null,{"$f":"IF($B$20>0,IF(C74>0,IF(C121>($B$61/1000),C121-($B$61/1000),0),IF(C121>($B$54/1000),C121-($B$54/1000),0)),IF(Input!F92=0,0,Input!F67))","v":6.25},{"$f":"IF($B$20>0,IF(D74>0,IF(D121>($B$61/1000),D121-($B$61/1000),0),IF(D121>($B$54/1000),D121-($B$54/1000),0)),IF(Input!G92=0,0,Input!G67))","v":6.25},{"$f":"IF($B$20>0,IF(E74>0,IF(E121>($B$61/1000),E121-($B$61/1000),0),IF(E121>($B$54/1000),E121-($B$54/1000),0)),IF(Input!H92=0,0,Input!H67))","v":6.25},{"$f":"IF($B$20>0,IF(F74>0,IF(F121>($B$61/1000),F121-($B$61/1000),0),IF(F121>($B$54/1000),F121-($B$54/1000),0)),IF(Input!I92=0,0,Input!I67))","v":6.25},{"$f":"IF($B$20>0,IF(G74>0,IF(G121>($B$61/1000),G121-($B$61/1000),0),IF(G121>($B$54/1000),G121-($B$54/1000),0)),IF(Input!J92=0,0,Input!J67))","v":6.25},{"$f":"IF($B$20>0,IF(H74>0,IF(H121>($B$61/1000),H121-($B$61/1000),0),IF(H121>($B$54/1000),H121-($B$54/1000),0)),IF(Input!K92=0,0,Input!K67))","v":6.25},{"$f":"IF($B$20>0,IF(I74>0,IF(I121>($B$61/1000),I121-($B$61/1000),0),IF(I121>($B$54/1000),I121-($B$54/1000),0)),IF(Input!L92=0,0,Input!L67))","v":6.25},{"$f":"IF($B$20>0,IF(J74>0,IF(J121>($B$61/1000),J121-($B$61/1000),0),IF(J121>($B$54/1000),J121-($B$54/1000),0)),IF(Input!M92=0,0,Input!M67))","v":6.25},{"$f":"IF($B$20>0,IF(K74>0,IF(K121>($B$61/1000),K121-($B$61/1000),0),IF(K121>($B$54/1000),K121-($B$54/1000),0)),IF(Input!N92=0,0,Input!N67))","v":6.25},{"$f":"IF($B$20>0,IF(L74>0,IF(L121>($B$61/1000),L121-($B$61/1000),0),IF(L121>($B$54/1000),L121-($B$54/1000),0)),IF(Input!O92=0,0,Input!O67))","v":6.25},{"$f":"IF($B$20>0,IF(M74>0,IF(M121>($B$61/1000),M121-($B$61/1000),0),IF(M121>($B$54/1000),M121-($B$54/1000),0)),IF(Input!P92=0,0,Input!P67))","v":6.25},{"$f":"IF($B$20>0,IF(N74>0,IF(N121>($B$61/1000),N121-($B$61/1000),0),IF(N121>($B$54/1000),N121-($B$54/1000),0)),IF(Input!Q92=0,0,Input!Q67))","v":6.25},{"$f":"IF($B$20>0,IF(O74>0,IF(O121>($B$61/1000),O121-($B$61/1000),0),IF(O121>($B$54/1000),O121-($B$54/1000),0)),IF(Input!R92=0,0,Input!R67))","v":6.25},{"$f":"IF($B$20>0,IF(P74>0,IF(P121>($B$61/1000),P121-($B$61/1000),0),IF(P121>($B$54/1000),P121-($B$54/1000),0)),IF(Input!S92=0,0,Input!S67))","v":6.25},{"$f":"IF($B$20>0,IF(Q74>0,IF(Q121>($B$61/1000),Q121-($B$61/1000),0),IF(Q121>($B$54/1000),Q121-($B$54/1000),0)),IF(Input!T92=0,0,Input!T67))","v":6.25},{"$f":"IF($B$20>0,IF(R74>0,IF(R121>($B$61/1000),R121-($B$61/1000),0),IF(R121>($B$54/1000),R121-($B$54/1000),0)),IF(Input!U92=0,0,Input!U67))","v":6.25},{"$f":"IF($B$20>0,IF(S74>0,IF(S121>($B$61/1000),S121-($B$61/1000),0),IF(S121>($B$54/1000),S121-($B$54/1000),0)),IF(Input!V92=0,0,Input!V67))","v":6.25},{"$f":"IF($B$20>0,IF(T74>0,IF(T121>($B$61/1000),T121-($B$61/1000),0),IF(T121>($B$54/1000),T121-($B$54/1000),0)),IF(Input!W92=0,0,Input!W67))","v":6.25},{"$f":"IF($B$20>0,IF(U74>0,IF(U121>($B$61/1000),U121-($B$61/1000),0),IF(U121>($B$54/1000),U121-($B$54/1000),0)),IF(Input!X92=0,0,Input!X67))","v":6.25},{"$f":"IF($B$20>0,IF(V74>0,IF(V121>($B$61/1000),V121-($B$61/1000),0),IF(V121>($B$54/1000),V121-($B$54/1000),0)),IF(Input!Y92=0,0,Input!Y67))","v":6.25},{"$f":"IF($B$20>0,IF(W74>0,IF(W121>($B$61/1000),W121-($B$61/1000),0),IF(W121>($B$54/1000),W121-($B$54/1000),0)),IF(Input!Z92=0,0,Input!Z67))","v":6.25},{"$f":"IF($B$20>0,IF(X74>0,IF(X121>($B$61/1000),X121-($B$61/1000),0),IF(X121>($B$54/1000),X121-($B$54/1000),0)),IF(Input!AA92=0,0,Input!AA67))","v":6.25},{"$f":"IF($B$20>0,IF(Y74>0,IF(Y121>($B$61/1000),Y121-($B$61/1000),0),IF(Y121>($B$54/1000),Y121-($B$54/1000),0)),IF(Input!AB92=0,0,Input!AB67))","v":6.25},{"$f":"IF($B$20>0,IF(Z74>0,IF(Z121>($B$61/1000),Z121-($B$61/1000),0),IF(Z121>($B$54/1000),Z121-($B$54/1000),0)),IF(Input!AC92=0,0,Input!AC67))","v":6.25},{"$f":"IF($B$20>0,IF(AA74>0,IF(AA121>($B$61/1000),AA121-($B$61/1000),0),IF(AA121>($B$54/1000),AA121-($B$54/1000),0)),IF(Input!AD92=0,0,Input!AD67))","v":6.25},{"$f":"IF($B$20>0,IF(AB74>0,IF(AB121>($B$61/1000),AB121-($B$61/1000),0),IF(AB121>($B$54/1000),AB121-($B$54/1000),0)),IF(Input!AE92=0,0,Input!AE67))","v":6.25},{"$f":"IF($B$20>0,IF(AC74>0,IF(AC121>($B$61/1000),AC121-($B$61/1000),0),IF(AC121>($B$54/1000),AC121-($B$54/1000),0)),IF(Input!AF92=0,0,Input!AF67))","v":6.25},{"$f":"IF($B$20>0,IF(AD74>0,IF(AD121>($B$61/1000),AD121-($B$61/1000),0),IF(AD121>($B$54/1000),AD121-($B$54/1000),0)),IF(Input!AG92=0,0,Input!AG67))","v":6.25},{"$f":"IF($B$20>0,IF(AE74>0,IF(AE121>($B$61/1000),AE121-($B$61/1000),0),IF(AE121>($B$54/1000),AE121-($B$54/1000),0)),IF(Input!AH92=0,0,Input!AH67))","v":6.25},{"$f":"IF($B$20>0,IF(AF74>0,IF(AF121>($B$61/1000),AF121-($B$61/1000),0),IF(AF121>($B$54/1000),AF121-($B$54/1000),0)),IF(Input!AI92=0,0,Input!AI67))","v":6.25},{"$f":"IF($B$20>0,IF(AG74>0,IF(AG121>($B$61/1000),AG121-($B$61/1000),0),IF(AG121>($B$54/1000),AG121-($B$54/1000),0)),IF(Input!AJ92=0,0,Input!AJ67))","v":6.25},{"$f":"IF($B$20>0,IF(AH74>0,IF(AH121>($B$61/1000),AH121-($B$61/1000),0),IF(AH121>($B$54/1000),AH121-($B$54/1000),0)),IF(Input!AK92=0,0,Input!AK67))","v":6.25},{"$f":"IF($B$20>0,IF(AI74>0,IF(AI121>($B$61/1000),AI121-($B$61/1000),0),IF(AI121>($B$54/1000),AI121-($B$54/1000),0)),IF(Input!AL92=0,0,Input!AL67))","v":6.25},{"$f":"IF($B$20>0,IF(AJ74>0,IF(AJ121>($B$61/1000),AJ121-($B$61/1000),0),IF(AJ121>($B$54/1000),AJ121-($B$54/1000),0)),IF(Input!AM92=0,0,Input!AM67))","v":6.25},{"$f":"IF($B$20>0,IF(AK74>0,IF(AK121>($B$61/1000),AK121-($B$61/1000),0),IF(AK121>($B$54/1000),AK121-($B$54/1000),0)),IF(Input!AN92=0,0,Input!AN67))","v":6.25},{"$f":"IF($B$20>0,IF(AL74>0,IF(AL121>($B$61/1000),AL121-($B$61/1000),0),IF(AL121>($B$54/1000),AL121-($B$54/1000),0)),IF(Input!AO92=0,0,Input!AO67))","v":6.25},{"$f":"IF($B$20>0,IF(AM74>0,IF(AM121>($B$61/1000),AM121-($B$61/1000),0),IF(AM121>($B$54/1000),AM121-($B$54/1000),0)),IF(Input!AP92=0,0,Input!AP67))","v":6.25},{"$f":"IF($B$20>0,IF(AN74>0,IF(AN121>($B$61/1000),AN121-($B$61/1000),0),IF(AN121>($B$54/1000),AN121-($B$54/1000),0)),IF(Input!AQ92=0,0,Input!AQ67))","v":6.25},{"$f":"IF($B$20>0,IF(AO74>0,IF(AO121>($B$61/1000),AO121-($B$61/1000),0),IF(AO121>($B$54/1000),AO121-($B$54/1000),0)),IF(Input!AR92=0,0,Input!AR67))","v":6.25},{"$f":"IF($B$20>0,IF(AP74>0,IF(AP121>($B$61/1000),AP121-($B$61/1000),0),IF(AP121>($B$54/1000),AP121-($B$54/1000),0)),IF(Input!AS92=0,0,Input!AS67))","v":6.25}]
[null,null,{"$f":"IF($B$20>0,IF(C75>0,IF(C122>($B$61/1000),C122-($B$61/1000),0),IF(C122>($B$54/1000),C122-($B$54/1000),0)),IF(Input!F93=0,0,Input!F68))","v":6.25},{"$f":"IF($B$20>0,IF(D75>0,IF(D122>($B$61/1000),D122-($B$61/1000),0),IF(D122>($B$54/1000),D122-($B$54/1000),0)),IF(Input!G93=0,0,Input!G68))","v":6.25},{"$f":"IF($B$20>0,IF(E75>0,IF(E122>($B$61/1000),E122-($B$61/1000),0),IF(E122>($B$54/1000),E122-($B$54/1000),0)),IF(Input!H93=0,0,Input!H68))","v":6.25},{"$f":"IF($B$20>0,IF(F75>0,IF(F122>($B$61/1000),F122-($B$61/1000),0),IF(F122>($B$54/1000),F122-($B$54/1000),0)),IF(Input!I93=0,0,Input!I68))","v":6.25},{"$f":"IF($B$20>0,IF(G75>0,IF(G122>($B$61/1000),G122-($B$61/1000),0),IF(G122>($B$54/1000),G122-($B$54/1000),0)),IF(Input!J93=0,0,Input!J68))","v":6.25},{"$f":"IF($B$20>0,IF(H75>0,IF(H122>($B$61/1000),H122-($B$61/1000),0),IF(H122>($B$54/1000),H122-($B$54/1000),0)),IF(Input!K93=0,0,Input!K68))","v":6.25},{"$f":"IF($B$20>0,IF(I75>0,IF(I122>($B$61/1000),I122-($B$61/1000),0),IF(I122>($B$54/1000),I122-($B$54/1000),0)),IF(Input!L93=0,0,Input!L68))","v":6.25},{"$f":"IF($B$20>0,IF(J75>0,IF(J122>($B$61/1000),J122-($B$61/1000),0),IF(J122>($B$54/1000),J122-($B$54/1000),0)),IF(Input!M93=0,0,Input!M68))","v":6.25},{"$f":"IF($B$20>0,IF(K75>0,IF(K122>($B$61/1000),K122-($B$61/1000),0),IF(K122>($B$54/1000),K122-($B$54/1000),0)),IF(Input!N93=0,0,Input!N68))","v":6.25},{"$f":"IF($B$20>0,IF(L75>0,IF(L122>($B$61/1000),L122-($B$61/1000),0),IF(L122>($B$54/1000),L122-($B$54/1000),0)),IF(Input!O93=0,0,Input!O68))","v":6.25},{"$f":"IF($B$20>0,IF(M75>0,IF(M122>($B$61/1000),M122-($B$61/1000),0),IF(M122>($B$54/1000),M122-($B$54/1000),0)),IF(Input!P93=0,0,Input!P68))","v":6.25},{"$f":"IF($B$20>0,IF(N75>0,IF(N122>($B$61/1000),N122-($B$61/1000),0),IF(N122>($B$54/1000),N122-($B$54/1000),0)),IF(Input!Q93=0,0,Input!Q68))","v":6.25},{"$f":"IF($B$20>0,IF(O75>0,IF(O122>($B$61/1000),O122-($B$61/1000),0),IF(O122>($B$54/1000),O122-($B$54/1000),0)),IF(Input!R93=0,0,Input!R68))","v":6.25},{"$f":"IF($B$20>0,IF(P75>0,IF(P122>($B$61/1000),P122-($B$61/1000),0),IF(P122>($B$54/1000),P122-($B$54/1000),0)),IF(Input!S93=0,0,Input!S68))","v":6.25},{"$f":"IF($B$20>0,IF(Q75>0,IF(Q122>($B$61/1000),Q122-($B$61/1000),0),IF(Q122>($B$54/1000),Q122-($B$54/1000),0)),IF(Input!T93=0,0,Input!T68))","v":6.25},{"$f":"IF($B$20>0,IF(R75>0,IF(R122>($B$61/1000),R122-($B$61/1000),0),IF(R122>($B$54/1000),R122-($B$54/1000),0)),IF(Input!U93=0,0,Input!U68))","v":6.25},{"$f":"IF($B$20>0,IF(S75>0,IF(S122>($B$61/1000),S122-($B$61/1000),0),IF(S122>($B$54/1000),S122-($B$54/1000),0)),IF(Input!V93=0,0,Input!V68))","v":6.25},{"$f":"IF($B$20>0,IF(T75>0,IF(T122>($B$61/1000),T122-($B$61/1000),0),IF(T122>($B$54/1000),T122-($B$54/1000),0)),IF(Input!W93=0,0,Input!W68))","v":6.25},{"$f":"IF($B$20>0,IF(U75>0,IF(U122>($B$61/1000),U122-($B$61/1000),0),IF(U122>($B$54/1000),U122-($B$54/1000),0)),IF(Input!X93=0,0,Input!X68))","v":6.25},{"$f":"IF($B$20>0,IF(V75>0,IF(V122>($B$61/1000),V122-($B$61/1000),0),IF(V122>($B$54/1000),V122-($B$54/1000),0)),IF(Input!Y93=0,0,Input!Y68))","v":6.25},{"$f":"IF($B$20>0,IF(W75>0,IF(W122>($B$61/1000),W122-($B$61/1000),0),IF(W122>($B$54/1000),W122-($B$54/1000),0)),IF(Input!Z93=0,0,Input!Z68))","v":6.25},{"$f":"IF($B$20>0,IF(X75>0,IF(X122>($B$61/1000),X122-($B$61/1000),0),IF(X122>($B$54/1000),X122-($B$54/1000),0)),IF(Input!AA93=0,0,Input!AA68))","v":6.25},{"$f":"IF($B$20>0,IF(Y75>0,IF(Y122>($B$61/1000),Y122-($B$61/1000),0),IF(Y122>($B$54/1000),Y122-($B$54/1000),0)),IF(Input!AB93=0,0,Input!AB68))","v":6.25},{"$f":"IF($B$20>0,IF(Z75>0,IF(Z122>($B$61/1000),Z122-($B$61/1000),0),IF(Z122>($B$54/1000),Z122-($B$54/1000),0)),IF(Input!AC93=0,0,Input!AC68))","v":6.25},{"$f":"IF($B$20>0,IF(AA75>0,IF(AA122>($B$61/1000),AA122-($B$61/1000),0),IF(AA122>($B$54/1000),AA122-($B$54/1000),0)),IF(Input!AD93=0,0,Input!AD68))","v":6.25},{"$f":"IF($B$20>0,IF(AB75>0,IF(AB122>($B$61/1000),AB122-($B$61/1000),0),IF(AB122>($B$54/1000),AB122-($B$54/1000),0)),IF(Input!AE93=0,0,Input!AE68))","v":6.25},{"$f":"IF($B$20>0,IF(AC75>0,IF(AC122>($B$61/1000),AC122-($B$61/1000),0),IF(AC122>($B$54/1000),AC122-($B$54/1000),0)),IF(Input!AF93=0,0,Input!AF68))","v":6.25},{"$f":"IF($B$20>0,IF(AD75>0,IF(AD122>($B$61/1000),AD122-($B$61/1000),0),IF(AD122>($B$54/1000),AD122-($B$54/1000),0)),IF(Input!AG93=0,0,Input!AG68))","v":6.25},{"$f":"IF($B$20>0,IF(AE75>0,IF(AE122>($B$61/1000),AE122-($B$61/1000),0),IF(AE122>($B$54/1000),AE122-($B$54/1000),0)),IF(Input!AH93=0,0,Input!AH68))","v":6.25},{"$f":"IF($B$20>0,IF(AF75>0,IF(AF122>($B$61/1000),AF122-($B$61/1000),0),IF(AF122>($B$54/1000),AF122-($B$54/1000),0)),IF(Input!AI93=0,0,Input!AI68))","v":6.25},{"$f":"IF($B$20>0,IF(AG75>0,IF(AG122>($B$61/1000),AG122-($B$61/1000),0),IF(AG122>($B$54/1000),AG122-($B$54/1000),0)),IF(Input!AJ93=0,0,Input!AJ68))","v":6.25},{"$f":"IF($B$20>0,IF(AH75>0,IF(AH122>($B$61/1000),AH122-($B$61/1000),0),IF(AH122>($B$54/1000),AH122-($B$54/1000),0)),IF(Input!AK93=0,0,Input!AK68))","v":6.25},{"$f":"IF($B$20>0,IF(AI75>0,IF(AI122>($B$61/1000),AI122-($B$61/1000),0),IF(AI122>($B$54/1000),AI122-($B$54/1000),0)),IF(Input!AL93=0,0,Input!AL68))","v":6.25},{"$f":"IF($B$20>0,IF(AJ75>0,IF(AJ122>($B$61/1000),AJ122-($B$61/1000),0),IF(AJ122>($B$54/1000),AJ122-($B$54/1000),0)),IF(Input!AM93=0,0,Input!AM68))","v":6.25},{"$f":"IF($B$20>0,IF(AK75>0,IF(AK122>($B$61/1000),AK122-($B$61/1000),0),IF(AK122>($B$54/1000),AK122-($B$54/1000),0)),IF(Input!AN93=0,0,Input!AN68))","v":6.25},{"$f":"IF($B$20>0,IF(AL75>0,IF(AL122>($B$61/1000),AL122-($B$61/1000),0),IF(AL122>($B$54/1000),AL122-($B$54/1000),0)),IF(Input!AO93=0,0,Input!AO68))","v":6.25},{"$f":"IF($B$20>0,IF(AM75>0,IF(AM122>($B$61/1000),AM122-($B$61/1000),0),IF(AM122>($B$54/1000),AM122-($B$54/1000),0)),IF(Input!AP93=0,0,Input!AP68))","v":6.25},{"$f":"IF($B$20>0,IF(AN75>0,IF(AN122>($B$61/1000),AN122-($B$61/1000),0),IF(AN122>($B$54/1000),AN122-($B$54/1000),0)),IF(Input!AQ93=0,0,Input!AQ68))","v":6.25},{"$f":"IF($B$20>0,IF(AO75>0,IF(AO122>($B$61/1000),AO122-($B$61/1000),0),IF(AO122>($B$54/1000),AO122-($B$54/1000),0)),IF(Input!AR93=0,0,Input!AR68))","v":6.25},{"$f":"IF($B$20>0,IF(AP75>0,IF(AP122>($B$61/1000),AP122-($B$61/1000),0),IF(AP122>($B$54/1000),AP122-($B$54/1000),0)),IF(Input!AS93=0,0,Input!AS68))","v":6.25}]
[null,null,{"$f":"IF($B$20>0,IF(C76>0,IF(C123>($B$61/1000),C123-($B$61/1000),0),IF(C123>($B$54/1000),C123-($B$54/1000),0)),IF(Input!F94=0,0,Input!F69))","v":6.25},{"$f":"IF($B$20>0,IF(D76>0,IF(D123>($B$61/1000),D123-($B$61/1000),0),IF(D123>($B$54/1000),D123-($B$54/1000),0)),IF(Input!G94=0,0,Input!G69))","v":6.25},{"$f":"IF($B$20>0,IF(E76>0,IF(E123>($B$61/1000),E123-($B$61/1000),0),IF(E123>($B$54/1000),E123-($B$54/1000),0)),IF(Input!H94=0,0,Input!H69))","v":6.25},{"$f":"IF($B$20>0,IF(F76>0,IF(F123>($B$61/1000),F123-($B$61/1000),0),IF(F123>($B$54/1000),F123-($B$54/1000),0)),IF(Input!I94=0,0,Input!I69))","v":6.25},{"$f":"IF($B$20>0,IF(G76>0,IF(G123>($B$61/1000),G123-($B$61/1000),0),IF(G123>($B$54/1000),G123-($B$54/1000),0)),IF(Input!J94=0,0,Input!J69))","v":6.25},{"$f":"IF($B$20>0,IF(H76>0,IF(H123>($B$61/1000),H123-($B$61/1000),0),IF(H123>($B$54/1000),H123-($B$54/1000),0)),IF(Input!K94=0,0,Input!K69))","v":6.25},{"$f":"IF($B$20>0,IF(I76>0,IF(I123>($B$61/1000),I123-($B$61/1000),0),IF(I123>($B$54/1000),I123-($B$54/1000),0)),IF(Input!L94=0,0,Input!L69))","v":6.25},{"$f":"IF($B$20>0,IF(J76>0,IF(J123>($B$61/1000),J123-($B$61/1000),0),IF(J123>($B$54/1000),J123-($B$54/1000),0)),IF(Input!M94=0,0,Input!M69))","v":6.25},{"$f":"IF($B$20>0,IF(K76>0,IF(K123>($B$61/1000),K123-($B$61/1000),0),IF(K123>($B$54/1000),K123-($B$54/1000),0)),IF(Input!N94=0,0,Input!N69))","v":6.25},{"$f":"IF($B$20>0,IF(L76>0,IF(L123>($B$61/1000),L123-($B$61/1000),0),IF(L123>($B$54/1000),L123-($B$54/1000),0)),IF(Input!O94=0,0,Input!O69))","v":6.25},{"$f":"IF($B$20>0,IF(M76>0,IF(M123>($B$61/1000),M123-($B$61/1000),0),IF(M123>($B$54/1000),M123-($B$54/1000),0)),IF(Input!P94=0,0,Input!P69))","v":6.25},{"$f":"IF($B$20>0,IF(N76>0,IF(N123>($B$61/1000),N123-($B$61/1000),0),IF(N123>($B$54/1000),N123-($B$54/1000),0)),IF(Input!Q94=0,0,Input!Q69))","v":6.25},{"$f":"IF($B$20>0,IF(O76>0,IF(O123>($B$61/1000),O123-($B$61/1000),0),IF(O123>($B$54/1000),O123-($B$54/1000),0)),IF(Input!R94=0,0,Input!R69))","v":6.25},{"$f":"IF($B$20>0,IF(P76>0,IF(P123>($B$61/1000),P123-($B$61/1000),0),IF(P123>($B$54/1000),P123-($B$54/1000),0)),IF(Input!S94=0,0,Input!S69))","v":6.25},{"$f":"IF($B$20>0,IF(Q76>0,IF(Q123>($B$61/1000),Q123-($B$61/1000),0),IF(Q123>($B$54/1000),Q123-($B$54/1000),0)),IF(Input!T94=0,0,Input!T69))","v":6.25},{"$f":"IF($B$20>0,IF(R76>0,IF(R123>($B$61/1000),R123-($B$61/1000),0),IF(R123>($B$54/1000),R123-($B$54/1000),0)),IF(Input!U94=0,0,Input!U69))","v":6.25},{"$f":"IF($B$20>0,IF(S76>0,IF(S123>($B$61/1000),S123-($B$61/1000),0),IF(S123>($B$54/1000),S123-($B$54/1000),0)),IF(Input!V94=0,0,Input!V69))","v":6.25},{"$f":"IF($B$20>0,IF(T76>0,IF(T123>($B$61/1000),T123-($B$61/1000),0),IF(T123>($B$54/1000),T123-($B$54/1000),0)),IF(Input!W94=0,0,Input!W69))","v":6.25},{"$f":"IF($B$20>0,IF(U76>0,IF(U123>($B$61/1000),U123-($B$61/1000),0),IF(U123>($B$54/1000),U123-($B$54/1000),0)),IF(Input!X94=0,0,Input!X69))","v":6.25},{"$f":"IF($B$20>0,IF(V76>0,IF(V123>($B$61/1000),V123-($B$61/1000),0),IF(V123>($B$54/1000),V123-($B$54/1000),0)),IF(Input!Y94=0,0,Input!Y69))","v":6.25},{"$f":"IF($B$20>0,IF(W76>0,IF(W123>($B$61/1000),W123-($B$61/1000),0),IF(W123>($B$54/1000),W123-($B$54/1000),0)),IF(Input!Z94=0,0,Input!Z69))","v":6.25},{"$f":"IF($B$20>0,IF(X76>0,IF(X123>($B$61/1000),X123-($B$61/1000),0),IF(X123>($B$54/1000),X123-($B$54/1000),0)),IF(Input!AA94=0,0,Input!AA69))","v":6.25},{"$f":"IF($B$20>0,IF(Y76>0,IF(Y123>($B$61/1000),Y123-($B$61/1000),0),IF(Y123>($B$54/1000),Y123-($B$54/1000),0)),IF(Input!AB94=0,0,Input!AB69))","v":6.25},{"$f":"IF($B$20>0,IF(Z76>0,IF(Z123>($B$61/1000),Z123-($B$61/1000),0),IF(Z123>($B$54/1000),Z123-($B$54/1000),0)),IF(Input!AC94=0,0,Input!AC69))","v":6.25},{"$f":"IF($B$20>0,IF(AA76>0,IF(AA123>($B$61/1000),AA123-($B$61/1000),0),IF(AA123>($B$54/1000),AA123-($B$54/1000),0)),IF(Input!AD94=0,0,Input!AD69))","v":6.25},{"$f":"IF($B$20>0,IF(AB76>0,IF(AB123>($B$61/1000),AB123-($B$61/1000),0),IF(AB123>($B$54/1000),AB123-($B$54/1000),0)),IF(Input!AE94=0,0,Input!AE69))","v":6.25},{"$f":"IF($B$20>0,IF(AC76>0,IF(AC123>($B$61/1000),AC123-($B$61/1000),0),IF(AC123>($B$54/1000),AC123-($B$54/1000),0)),IF(Input!AF94=0,0,Input!AF69))","v":6.25},{"$f":"IF($B$20>0,IF(AD76>0,IF(AD123>($B$61/1000),AD123-($B$61/1000),0),IF(AD123>($B$54/1000),AD123-($B$54/1000),0)),IF(Input!AG94=0,0,Input!AG69))","v":6.25},{"$f":"IF($B$20>0,IF(AE76>0,IF(AE123>($B$61/1000),AE123-($B$61/1000),0),IF(AE123>($B$54/1000),AE123-($B$54/1000),0)),IF(Input!AH94=0,0,Input!AH69))","v":6.25},{"$f":"IF($B$20>0,IF(AF76>0,IF(AF123>($B$61/1000),AF123-($B$61/1000),0),IF(AF123>($B$54/1000),AF123-($B$54/1000),0)),IF(Input!AI94=0,0,Input!AI69))","v":6.25},{"$f":"IF($B$20>0,IF(AG76>0,IF(AG123>($B$61/1000),AG123-($B$61/1000),0),IF(AG123>($B$54/1000),AG123-($B$54/1000),0)),IF(Input!AJ94=0,0,Input!AJ69))","v":6.25},{"$f":"IF($B$20>0,IF(AH76>0,IF(AH123>($B$61/1000),AH123-($B$61/1000),0),IF(AH123>($B$54/1000),AH123-($B$54/1000),0)),IF(Input!AK94=0,0,Input!AK69))","v":6.25},{"$f":"IF($B$20>0,IF(AI76>0,IF(AI123>($B$61/1000),AI123-($B$61/1000),0),IF(AI123>($B$54/1000),AI123-($B$54/1000),0)),IF(Input!AL94=0,0,Input!AL69))","v":6.25},{"$f":"IF($B$20>0,IF(AJ76>0,IF(AJ123>($B$61/1000),AJ123-($B$61/1000),0),IF(AJ123>($B$54/1000),AJ123-($B$54/1000),0)),IF(Input!AM94=0,0,Input!AM69))","v":6.25},{"$f":"IF($B$20>0,IF(AK76>0,IF(AK123>($B$61/1000),AK123-($B$61/1000),0),IF(AK123>($B$54/1000),AK123-($B$54/1000),0)),IF(Input!AN94=0,0,Input!AN69))","v":6.25},{"$f":"IF($B$20>0,IF(AL76>0,IF(AL123>($B$61/1000),AL123-($B$61/1000),0),IF(AL123>($B$54/1000),AL123-($B$54/1000),0)),IF(Input!AO94=0,0,Input!AO69))","v":6.25},{"$f":"IF($B$20>0,IF(AM76>0,IF(AM123>($B$61/1000),AM123-($B$61/1000),0),IF(AM123>($B$54/1000),AM123-($B$54/1000),0)),IF(Input!AP94=0,0,Input!AP69))","v":6.25},{"$f":"IF($B$20>0,IF(AN76>0,IF(AN123>($B$61/1000),AN123-($B$61/1000),0),IF(AN123>($B$54/1000),AN123-($B$54/1000),0)),IF(Input!AQ94=0,0,Input!AQ69))","v":6.25},{"$f":"IF($B$20>0,IF(AO76>0,IF(AO123>($B$61/1000),AO123-($B$61/1000),0),IF(AO123>($B$54/1000),AO123-($B$54/1000),0)),IF(Input!AR94=0,0,Input!AR69))","v":6.25},{"$f":"IF($B$20>0,IF(AP76>0,IF(AP123>($B$61/1000),AP123-($B$61/1000),0),IF(AP123>($B$54/1000),AP123-($B$54/1000),0)),IF(Input!AS94=0,0,Input!AS69))","v":6.25}]
[null,null,{"$f":"IF($B$20>0,IF(C77>0,IF(C124>($B$61/1000),C124-($B$61/1000),0),IF(C124>($B$54/1000),C124-($B$54/1000),0)),IF(Input!F95=0,0,Input!F70))","v":6.25},{"$f":"IF($B$20>0,IF(D77>0,IF(D124>($B$61/1000),D124-($B$61/1000),0),IF(D124>($B$54/1000),D124-($B$54/1000),0)),IF(Input!G95=0,0,Input!G70))","v":6.25},{"$f":"IF($B$20>0,IF(E77>0,IF(E124>($B$61/1000),E124-($B$61/1000),0),IF(E124>($B$54/1000),E124-($B$54/1000),0)),IF(Input!H95=0,0,Input!H70))","v":6.25},{"$f":"IF($B$20>0,IF(F77>0,IF(F124>($B$61/1000),F124-($B$61/1000),0),IF(F124>($B$54/1000),F124-($B$54/1000),0)),IF(Input!I95=0,0,Input!I70))","v":6.25},{"$f":"IF($B$20>0,IF(G77>0,IF(G124>($B$61/1000),G124-($B$61/1000),0),IF(G124>($B$54/1000),G124-($B$54/1000),0)),IF(Input!J95=0,0,Input!J70))","v":6.25},{"$f":"IF($B$20>0,IF(H77>0,IF(H124>($B$61/1000),H124-($B$61/1000),0),IF(H124>($B$54/1000),H124-($B$54/1000),0)),IF(Input!K95=0,0,Input!K70))","v":6.25},{"$f":"IF($B$20>0,IF(I77>0,IF(I124>($B$61/1000),I124-($B$61/1000),0),IF(I124>($B$54/1000),I124-($B$54/1000),0)),IF(Input!L95=0,0,Input!L70))","v":6.25},{"$f":"IF($B$20>0,IF(J77>0,IF(J124>($B$61/1000),J124-($B$61/1000),0),IF(J124>($B$54/1000),J124-($B$54/1000),0)),IF(Input!M95=0,0,Input!M70))","v":6.25},{"$f":"IF($B$20>0,IF(K77>0,IF(K124>($B$61/1000),K124-($B$61/1000),0),IF(K124>($B$54/1000),K124-($B$54/1000),0)),IF(Input!N95=0,0,Input!N70))","v":6.25},{"$f":"IF($B$20>0,IF(L77>0,IF(L124>($B$61/1000),L124-($B$61/1000),0),IF(L124>($B$54/1000),L124-($B$54/1000),0)),IF(Input!O95=0,0,Input!O70))","v":6.25},{"$f":"IF($B$20>0,IF(M77>0,IF(M124>($B$61/1000),M124-($B$61/1000),0),IF(M124>($B$54/1000),M124-($B$54/1000),0)),IF(Input!P95=0,0,Input!P70))","v":6.25},{"$f":"IF($B$20>0,IF(N77>0,IF(N124>($B$61/1000),N124-($B$61/1000),0),IF(N124>($B$54/1000),N124-($B$54/1000),0)),IF(Input!Q95=0,0,Input!Q70))","v":6.25},{"$f":"IF($B$20>0,IF(O77>0,IF(O124>($B$61/1000),O124-($B$61/1000),0),IF(O124>($B$54/1000),O124-($B$54/1000),0)),IF(Input!R95=0,0,Input!R70))","v":6.25},{"$f":"IF($B$20>0,IF(P77>0,IF(P124>($B$61/1000),P124-($B$61/1000),0),IF(P124>($B$54/1000),P124-($B$54/1000),0)),IF(Input!S95=0,0,Input!S70))","v":6.25},{"$f":"IF($B$20>0,IF(Q77>0,IF(Q124>($B$61/1000),Q124-($B$61/1000),0),IF(Q124>($B$54/1000),Q124-($B$54/1000),0)),IF(Input!T95=0,0,Input!T70))","v":6.25},{"$f":"IF($B$20>0,IF(R77>0,IF(R124>($B$61/1000),R124-($B$61/1000),0),IF(R124>($B$54/1000),R124-($B$54/1000),0)),IF(Input!U95=0,0,Input!U70))","v":6.25},{"$f":"IF($B$20>0,IF(S77>0,IF(S124>($B$61/1000),S124-($B$61/1000),0),IF(S124>($B$54/1000),S124-($B$54/1000),0)),IF(Input!V95=0,0,Input!V70))","v":6.25},{"$f":"IF($B$20>0,IF(T77>0,IF(T124>($B$61/1000),T124-($B$61/1000),0),IF(T124>($B$54/1000),T124-($B$54/1000),0)),IF(Input!W95=0,0,Input!W70))","v":6.25},{"$f":"IF($B$20>0,IF(U77>0,IF(U124>($B$61/1000),U124-($B$61/1000),0),IF(U124>($B$54/1000),U124-($B$54/1000),0)),IF(Input!X95=0,0,Input!X70))","v":6.25},{"$f":"IF($B$20>0,IF(V77>0,IF(V124>($B$61/1000),V124-($B$61/1000),0),IF(V124>($B$54/1000),V124-($B$54/1000),0)),IF(Input!Y95=0,0,Input!Y70))","v":6.25},{"$f":"IF($B$20>0,IF(W77>0,IF(W124>($B$61/1000),W124-($B$61/1000),0),IF(W124>($B$54/1000),W124-($B$54/1000),0)),IF(Input!Z95=0,0,Input!Z70))","v":6.25},{"$f":"IF($B$20>0,IF(X77>0,IF(X124>($B$61/1000),X124-($B$61/1000),0),IF(X124>($B$54/1000),X124-($B$54/1000),0)),IF(Input!AA95=0,0,Input!AA70))","v":6.25},{"$f":"IF($B$20>0,IF(Y77>0,IF(Y124>($B$61/1000),Y124-($B$61/1000),0),IF(Y124>($B$54/1000),Y124-($B$54/1000),0)),IF(Input!AB95=0,0,Input!AB70))","v":6.25},{"$f":"IF($B$20>0,IF(Z77>0,IF(Z124>($B$61/1000),Z124-($B$61/1000),0),IF(Z124>($B$54/1000),Z124-($B$54/1000),0)),IF(Input!AC95=0,0,Input!AC70))","v":6.25},{"$f":"IF($B$20>0,IF(AA77>0,IF(AA124>($B$61/1000),AA124-($B$61/1000),0),IF(AA124>($B$54/1000),AA124-($B$54/1000),0)),IF(Input!AD95=0,0,Input!AD70))","v":6.25},{"$f":"IF($B$20>0,IF(AB77>0,IF(AB124>($B$61/1000),AB124-($B$61/1000),0),IF(AB124>($B$54/1000),AB124-($B$54/1000),0)),IF(Input!AE95=0,0,Input!AE70))","v":6.25},{"$f":"IF($B$20>0,IF(AC77>0,IF(AC124>($B$61/1000),AC124-($B$61/1000),0),IF(AC124>($B$54/1000),AC124-($B$54/1000),0)),IF(Input!AF95=0,0,Input!AF70))","v":6.25},{"$f":"IF($B$20>0,IF(AD77>0,IF(AD124>($B$61/1000),AD124-($B$61/1000),0),IF(AD124>($B$54/1000),AD124-($B$54/1000),0)),IF(Input!AG95=0,0,Input!AG70))","v":6.25},{"$f":"IF($B$20>0,IF(AE77>0,IF(AE124>($B$61/1000),AE124-($B$61/1000),0),IF(AE124>($B$54/1000),AE124-($B$54/1000),0)),IF(Input!AH95=0,0,Input!AH70))","v":6.25},{"$f":"IF($B$20>0,IF(AF77>0,IF(AF124>($B$61/1000),AF124-($B$61/1000),0),IF(AF124>($B$54/1000),AF124-($B$54/1000),0)),IF(Input!AI95=0,0,Input!AI70))","v":6.25},{"$f":"IF($B$20>0,IF(AG77>0,IF(AG124>($B$61/1000),AG124-($B$61/1000),0),IF(AG124>($B$54/1000),AG124-($B$54/1000),0)),IF(Input!AJ95=0,0,Input!AJ70))","v":6.25},{"$f":"IF($B$20>0,IF(AH77>0,IF(AH124>($B$61/1000),AH124-($B$61/1000),0),IF(AH124>($B$54/1000),AH124-($B$54/1000),0)),IF(Input!AK95=0,0,Input!AK70))","v":6.25},{"$f":"IF($B$20>0,IF(AI77>0,IF(AI124>($B$61/1000),AI124-($B$61/1000),0),IF(AI124>($B$54/1000),AI124-($B$54/1000),0)),IF(Input!AL95=0,0,Input!AL70))","v":6.25},{"$f":"IF($B$20>0,IF(AJ77>0,IF(AJ124>($B$61/1000),AJ124-($B$61/1000),0),IF(AJ124>($B$54/1000),AJ124-($B$54/1000),0)),IF(Input!AM95=0,0,Input!AM70))","v":6.25},{"$f":"IF($B$20>0,IF(AK77>0,IF(AK124>($B$61/1000),AK124-($B$61/1000),0),IF(AK124>($B$54/1000),AK124-($B$54/1000),0)),IF(Input!AN95=0,0,Input!AN70))","v":6.25},{"$f":"IF($B$20>0,IF(AL77>0,IF(AL124>($B$61/1000),AL124-($B$61/1000),0),IF(AL124>($B$54/1000),AL124-($B$54/1000),0)),IF(Input!AO95=0,0,Input!AO70))","v":6.25},{"$f":"IF($B$20>0,IF(AM77>0,IF(AM124>($B$61/1000),AM124-($B$61/1000),0),IF(AM124>($B$54/1000),AM124-($B$54/1000),0)),IF(Input!AP95=0,0,Input!AP70))","v":6.25},{"$f":"IF($B$20>0,IF(AN77>0,IF(AN124>($B$61/1000),AN124-($B$61/1000),0),IF(AN124>($B$54/1000),AN124-($B$54/1000),0)),IF(Input!AQ95=0,0,Input!AQ70))","v":6.25},{"$f":"IF($B$20>0,IF(AO77>0,IF(AO124>($B$61/1000),AO124-($B$61/1000),0),IF(AO124>($B$54/1000),AO124-($B$54/1000),0)),IF(Input!AR95=0,0,Input!AR70))","v":6.25},{"$f":"IF($B$20>0,IF(AP77>0,IF(AP124>($B$61/1000),AP124-($B$61/1000),0),IF(AP124>($B$54/1000),AP124-($B$54/1000),0)),IF(Input!AS95=0,0,Input!AS70))","v":6.25}]
[null,null,{"$f":"IF($B$20>0,IF(C78>0,IF(C125>($B$61/1000),C125-($B$61/1000),0),IF(C125>($B$54/1000),C125-($B$54/1000),0)),IF(Input!F96=0,0,Input!F71))","v":6.25},{"$f":"IF($B$20>0,IF(D78>0,IF(D125>($B$61/1000),D125-($B$61/1000),0),IF(D125>($B$54/1000),D125-($B$54/1000),0)),IF(Input!G96=0,0,Input!G71))","v":6.25},{"$f":"IF($B$20>0,IF(E78>0,IF(E125>($B$61/1000),E125-($B$61/1000),0),IF(E125>($B$54/1000),E125-($B$54/1000),0)),IF(Input!H96=0,0,Input!H71))","v":6.25},{"$f":"IF($B$20>0,IF(F78>0,IF(F125>($B$61/1000),F125-($B$61/1000),0),IF(F125>($B$54/1000),F125-($B$54/1000),0)),IF(Input!I96=0,0,Input!I71))","v":6.25},{"$f":"IF($B$20>0,IF(G78>0,IF(G125>($B$61/1000),G125-($B$61/1000),0),IF(G125>($B$54/1000),G125-($B$54/1000),0)),IF(Input!J96=0,0,Input!J71))","v":6.25},{"$f":"IF($B$20>0,IF(H78>0,IF(H125>($B$61/1000),H125-($B$61/1000),0),IF(H125>($B$54/1000),H125-($B$54/1000),0)),IF(Input!K96=0,0,Input!K71))","v":6.25},{"$f":"IF($B$20>0,IF(I78>0,IF(I125>($B$61/1000),I125-($B$61/1000),0),IF(I125>($B$54/1000),I125-($B$54/1000),0)),IF(Input!L96=0,0,Input!L71))","v":6.25},{"$f":"IF($B$20>0,IF(J78>0,IF(J125>($B$61/1000),J125-($B$61/1000),0),IF(J125>($B$54/1000),J125-($B$54/1000),0)),IF(Input!M96=0,0,Input!M71))","v":6.25},{"$f":"IF($B$20>0,IF(K78>0,IF(K125>($B$61/1000),K125-($B$61/1000),0),IF(K125>($B$54/1000),K125-($B$54/1000),0)),IF(Input!N96=0,0,Input!N71))","v":6.25},{"$f":"IF($B$20>0,IF(L78>0,IF(L125>($B$61/1000),L125-($B$61/1000),0),IF(L125>($B$54/1000),L125-($B$54/1000),0)),IF(Input!O96=0,0,Input!O71))","v":6.25},{"$f":"IF($B$20>0,IF(M78>0,IF(M125>($B$61/1000),M125-($B$61/1000),0),IF(M125>($B$54/1000),M125-($B$54/1000),0)),IF(Input!P96=0,0,Input!P71))","v":6.25},{"$f":"IF($B$20>0,IF(N78>0,IF(N125>($B$61/1000),N125-($B$61/1000),0),IF(N125>($B$54/1000),N125-($B$54/1000),0)),IF(Input!Q96=0,0,Input!Q71))","v":6.25},{"$f":"IF($B$20>0,IF(O78>0,IF(O125>($B$61/1000),O125-($B$61/1000),0),IF(O125>($B$54/1000),O125-($B$54/1000),0)),IF(Input!R96=0,0,Input!R71))","v":6.25},{"$f":"IF($B$20>0,IF(P78>0,IF(P125>($B$61/1000),P125-($B$61/1000),0),IF(P125>($B$54/1000),P125-($B$54/1000),0)),IF(Input!S96=0,0,Input!S71))","v":6.25},{"$f":"IF($B$20>0,IF(Q78>0,IF(Q125>($B$61/1000),Q125-($B$61/1000),0),IF(Q125>($B$54/1000),Q125-($B$54/1000),0)),IF(Input!T96=0,0,Input!T71))","v":6.25},{"$f":"IF($B$20>0,IF(R78>0,IF(R125>($B$61/1000),R125-($B$61/1000),0),IF(R125>($B$54/1000),R125-($B$54/1000),0)),IF(Input!U96=0,0,Input!U71))","v":6.25},{"$f":"IF($B$20>0,IF(S78>0,IF(S125>($B$61/1000),S125-($B$61/1000),0),IF(S125>($B$54/1000),S125-($B$54/1000),0)),IF(Input!V96=0,0,Input!V71))","v":6.25},{"$f":"IF($B$20>0,IF(T78>0,IF(T125>($B$61/1000),T125-($B$61/1000),0),IF(T125>($B$54/1000),T125-($B$54/1000),0)),IF(Input!W96=0,0,Input!W71))","v":6.25},{"$f":"IF($B$20>0,IF(U78>0,IF(U125>($B$61/1000),U125-($B$61/1000),0),IF(U125>($B$54/1000),U125-($B$54/1000),0)),IF(Input!X96=0,0,Input!X71))","v":6.25},{"$f":"IF($B$20>0,IF(V78>0,IF(V125>($B$61/1000),V125-($B$61/1000),0),IF(V125>($B$54/1000),V125-($B$54/1000),0)),IF(Input!Y96=0,0,Input!Y71))","v":6.25},{"$f":"IF($B$20>0,IF(W78>0,IF(W125>($B$61/1000),W125-($B$61/1000),0),IF(W125>($B$54/1000),W125-($B$54/1000),0)),IF(Input!Z96=0,0,Input!Z71))","v":6.25},{"$f":"IF($B$20>0,IF(X78>0,IF(X125>($B$61/1000),X125-($B$61/1000),0),IF(X125>($B$54/1000),X125-($B$54/1000),0)),IF(Input!AA96=0,0,Input!AA71))","v":6.25},{"$f":"IF($B$20>0,IF(Y78>0,IF(Y125>($B$61/1000),Y125-($B$61/1000),0),IF(Y125>($B$54/1000),Y125-($B$54/1000),0)),IF(Input!AB96=0,0,Input!AB71))","v":6.25},{"$f":"IF($B$20>0,IF(Z78>0,IF(Z125>($B$61/1000),Z125-($B$61/1000),0),IF(Z125>($B$54/1000),Z125-($B$54/1000),0)),IF(Input!AC96=0,0,Input!AC71))","v":6.25},{"$f":"IF($B$20>0,IF(AA78>0,IF(AA125>($B$61/1000),AA125-($B$61/1000),0),IF(AA125>($B$54/1000),AA125-($B$54/1000),0)),IF(Input!AD96=0,0,Input!AD71))","v":6.25},{"$f":"IF($B$20>0,IF(AB78>0,IF(AB125>($B$61/1000),AB125-($B$61/1000),0),IF(AB125>($B$54/1000),AB125-($B$54/1000),0)),IF(Input!AE96=0,0,Input!AE71))","v":6.25},{"$f":"IF($B$20>0,IF(AC78>0,IF(AC125>($B$61/1000),AC125-($B$61/1000),0),IF(AC125>($B$54/1000),AC125-($B$54/1000),0)),IF(Input!AF96=0,0,Input!AF71))","v":6.25},{"$f":"IF($B$20>0,IF(AD78>0,IF(AD125>($B$61/1000),AD125-($B$61/1000),0),IF(AD125>($B$54/1000),AD125-($B$54/1000),0)),IF(Input!AG96=0,0,Input!AG71))","v":6.25},{"$f":"IF($B$20>0,IF(AE78>0,IF(AE125>($B$61/1000),AE125-($B$61/1000),0),IF(AE125>($B$54/1000),AE125-($B$54/1000),0)),IF(Input!AH96=0,0,Input!AH71))","v":6.25},{"$f":"IF($B$20>0,IF(AF78>0,IF(AF125>($B$61/1000),AF125-($B$61/1000),0),IF(AF125>($B$54/1000),AF125-($B$54/1000),0)),IF(Input!AI96=0,0,Input!AI71))","v":6.25},{"$f":"IF($B$20>0,IF(AG78>0,IF(AG125>($B$61/1000),AG125-($B$61/1000),0),IF(AG125>($B$54/1000),AG125-($B$54/1000),0)),IF(Input!AJ96=0,0,Input!AJ71))","v":6.25},{"$f":"IF($B$20>0,IF(AH78>0,IF(AH125>($B$61/1000),AH125-($B$61/1000),0),IF(AH125>($B$54/1000),AH125-($B$54/1000),0)),IF(Input!AK96=0,0,Input!AK71))","v":6.25},{"$f":"IF($B$20>0,IF(AI78>0,IF(AI125>($B$61/1000),AI125-($B$61/1000),0),IF(AI125>($B$54/1000),AI125-($B$54/1000),0)),IF(Input!AL96=0,0,Input!AL71))","v":6.25},{"$f":"IF($B$20>0,IF(AJ78>0,IF(AJ125>($B$61/1000),AJ125-($B$61/1000),0),IF(AJ125>($B$54/1000),AJ125-($B$54/1000),0)),IF(Input!AM96=0,0,Input!AM71))","v":6.25},{"$f":"IF($B$20>0,IF(AK78>0,IF(AK125>($B$61/1000),AK125-($B$61/1000),0),IF(AK125>($B$54/1000),AK125-($B$54/1000),0)),IF(Input!AN96=0,0,Input!AN71))","v":6.25},{"$f":"IF($B$20>0,IF(AL78>0,IF(AL125>($B$61/1000),AL125-($B$61/1000),0),IF(AL125>($B$54/1000),AL125-($B$54/1000),0)),IF(Input!AO96=0,0,Input!AO71))","v":6.25},{"$f":"IF($B$20>0,IF(AM78>0,IF(AM125>($B$61/1000),AM125-($B$61/1000),0),IF(AM125>($B$54/1000),AM125-($B$54/1000),0)),IF(Input!AP96=0,0,Input!AP71))","v":6.25},{"$f":"IF($B$20>0,IF(AN78>0,IF(AN125>($B$61/1000),AN125-($B$61/1000),0),IF(AN125>($B$54/1000),AN125-($B$54/1000),0)),IF(Input!AQ96=0,0,Input!AQ71))","v":6.25},{"$f":"IF($B$20>0,IF(AO78>0,IF(AO125>($B$61/1000),AO125-($B$61/1000),0),IF(AO125>($B$54/1000),AO125-($B$54/1000),0)),IF(Input!AR96=0,0,Input!AR71))","v":6.25},{"$f":"IF($B$20>0,IF(AP78>0,IF(AP125>($B$61/1000),AP125-($B$61/1000),0),IF(AP125>($B$54/1000),AP125-($B$54/1000),0)),IF(Input!AS96=0,0,Input!AS71))","v":6.25}]
[null,null,{"$f":"IF($B$20>0,IF(C79>0,IF(C126>($B$61/1000),C126-($B$61/1000),0),IF(C126>($B$54/1000),C126-($B$54/1000),0)),IF(Input!F97=0,0,Input!F72))","v":6.25},{"$f":"IF($B$20>0,IF(D79>0,IF(D126>($B$61/1000),D126-($B$61/1000),0),IF(D126>($B$54/1000),D126-($B$54/1000),0)),IF(Input!G97=0,0,Input!G72))","v":6.25},{"$f":"IF($B$20>0,IF(E79>0,IF(E126>($B$61/1000),E126-($B$61/1000),0),IF(E126>($B$54/1000),E126-($B$54/1000),0)),IF(Input!H97=0,0,Input!H72))","v":6.25},{"$f":"IF($B$20>0,IF(F79>0,IF(F126>($B$61/1000),F126-($B$61/1000),0),IF(F126>($B$54/1000),F126-($B$54/1000),0)),IF(Input!I97=0,0,Input!I72))","v":6.25},{"$f":"IF($B$20>0,IF(G79>0,IF(G126>($B$61/1000),G126-($B$61/1000),0),IF(G126>($B$54/1000),G126-($B$54/1000),0)),IF(Input!J97=0,0,Input!J72))","v":6.25},{"$f":"IF($B$20>0,IF(H79>0,IF(H126>($B$61/1000),H126-($B$61/1000),0),IF(H126>($B$54/1000),H126-($B$54/1000),0)),IF(Input!K97=0,0,Input!K72))","v":6.25},{"$f":"IF($B$20>0,IF(I79>0,IF(I126>($B$61/1000),I126-($B$61/1000),0),IF(I126>($B$54/1000),I126-($B$54/1000),0)),IF(Input!L97=0,0,Input!L72))","v":6.25},{"$f":"IF($B$20>0,IF(J79>0,IF(J126>($B$61/1000),J126-($B$61/1000),0),IF(J126>($B$54/1000),J126-($B$54/1000),0)),IF(Input!M97=0,0,Input!M72))","v":6.25},{"$f":"IF($B$20>0,IF(K79>0,IF(K126>($B$61/1000),K126-($B$61/1000),0),IF(K126>($B$54/1000),K126-($B$54/1000),0)),IF(Input!N97=0,0,Input!N72))","v":6.25},{"$f":"IF($B$20>0,IF(L79>0,IF(L126>($B$61/1000),L126-($B$61/1000),0),IF(L126>($B$54/1000),L126-($B$54/1000),0)),IF(Input!O97=0,0,Input!O72))","v":6.25},{"$f":"IF($B$20>0,IF(M79>0,IF(M126>($B$61/1000),M126-($B$61/1000),0),IF(M126>($B$54/1000),M126-($B$54/1000),0)),IF(Input!P97=0,0,Input!P72))","v":6.25},{"$f":"IF($B$20>0,IF(N79>0,IF(N126>($B$61/1000),N126-($B$61/1000),0),IF(N126>($B$54/1000),N126-($B$54/1000),0)),IF(Input!Q97=0,0,Input!Q72))","v":6.25},{"$f":"IF($B$20>0,IF(O79>0,IF(O126>($B$61/1000),O126-($B$61/1000),0),IF(O126>($B$54/1000),O126-($B$54/1000),0)),IF(Input!R97=0,0,Input!R72))","v":6.25},{"$f":"IF($B$20>0,IF(P79>0,IF(P126>($B$61/1000),P126-($B$61/1000),0),IF(P126>($B$54/1000),P126-($B$54/1000),0)),IF(Input!S97=0,0,Input!S72))","v":6.25},{"$f":"IF($B$20>0,IF(Q79>0,IF(Q126>($B$61/1000),Q126-($B$61/1000),0),IF(Q126>($B$54/1000),Q126-($B$54/1000),0)),IF(Input!T97=0,0,Input!T72))","v":6.25},{"$f":"IF($B$20>0,IF(R79>0,IF(R126>($B$61/1000),R126-($B$61/1000),0),IF(R126>($B$54/1000),R126-($B$54/1000),0)),IF(Input!U97=0,0,Input!U72))","v":6.25},{"$f":"IF($B$20>0,IF(S79>0,IF(S126>($B$61/1000),S126-($B$61/1000),0),IF(S126>($B$54/1000),S126-($B$54/1000),0)),IF(Input!V97=0,0,Input!V72))","v":6.25},{"$f":"IF($B$20>0,IF(T79>0,IF(T126>($B$61/1000),T126-($B$61/1000),0),IF(T126>($B$54/1000),T126-($B$54/1000),0)),IF(Input!W97=0,0,Input!W72))","v":6.25},{"$f":"IF($B$20>0,IF(U79>0,IF(U126>($B$61/1000),U126-($B$61/1000),0),IF(U126>($B$54/1000),U126-($B$54/1000),0)),IF(Input!X97=0,0,Input!X72))","v":6.25},{"$f":"IF($B$20>0,IF(V79>0,IF(V126>($B$61/1000),V126-($B$61/1000),0),IF(V126>($B$54/1000),V126-($B$54/1000),0)),IF(Input!Y97=0,0,Input!Y72))","v":6.25},{"$f":"IF($B$20>0,IF(W79>0,IF(W126>($B$61/1000),W126-($B$61/1000),0),IF(W126>($B$54/1000),W126-($B$54/1000),0)),IF(Input!Z97=0,0,Input!Z72))","v":6.25},{"$f":"IF($B$20>0,IF(X79>0,IF(X126>($B$61/1000),X126-($B$61/1000),0),IF(X126>($B$54/1000),X126-($B$54/1000),0)),IF(Input!AA97=0,0,Input!AA72))","v":6.25},{"$f":"IF($B$20>0,IF(Y79>0,IF(Y126>($B$61/1000),Y126-($B$61/1000),0),IF(Y126>($B$54/1000),Y126-($B$54/1000),0)),IF(Input!AB97=0,0,Input!AB72))","v":6.25},{"$f":"IF($B$20>0,IF(Z79>0,IF(Z126>($B$61/1000),Z126-($B$61/1000),0),IF(Z126>($B$54/1000),Z126-($B$54/1000),0)),IF(Input!AC97=0,0,Input!AC72))","v":6.25},{"$f":"IF($B$20>0,IF(AA79>0,IF(AA126>($B$61/1000),AA126-($B$61/1000),0),IF(AA126>($B$54/1000),AA126-($B$54/1000),0)),IF(Input!AD97=0,0,Input!AD72))","v":6.25},{"$f":"IF($B$20>0,IF(AB79>0,IF(AB126>($B$61/1000),AB126-($B$61/1000),0),IF(AB126>($B$54/1000),AB126-($B$54/1000),0)),IF(Input!AE97=0,0,Input!AE72))","v":6.25},{"$f":"IF($B$20>0,IF(AC79>0,IF(AC126>($B$61/1000),AC126-($B$61/1000),0),IF(AC126>($B$54/1000),AC126-($B$54/1000),0)),IF(Input!AF97=0,0,Input!AF72))","v":6.25},{"$f":"IF($B$20>0,IF(AD79>0,IF(AD126>($B$61/1000),AD126-($B$61/1000),0),IF(AD126>($B$54/1000),AD126-($B$54/1000),0)),IF(Input!AG97=0,0,Input!AG72))","v":6.25},{"$f":"IF($B$20>0,IF(AE79>0,IF(AE126>($B$61/1000),AE126-($B$61/1000),0),IF(AE126>($B$54/1000),AE126-($B$54/1000),0)),IF(Input!AH97=0,0,Input!AH72))","v":6.25},{"$f":"IF($B$20>0,IF(AF79>0,IF(AF126>($B$61/1000),AF126-($B$61/1000),0),IF(AF126>($B$54/1000),AF126-($B$54/1000),0)),IF(Input!AI97=0,0,Input!AI72))","v":6.25},{"$f":"IF($B$20>0,IF(AG79>0,IF(AG126>($B$61/1000),AG126-($B$61/1000),0),IF(AG126>($B$54/1000),AG126-($B$54/1000),0)),IF(Input!AJ97=0,0,Input!AJ72))","v":6.25},{"$f":"IF($B$20>0,IF(AH79>0,IF(AH126>($B$61/1000),AH126-($B$61/1000),0),IF(AH126>($B$54/1000),AH126-($B$54/1000),0)),IF(Input!AK97=0,0,Input!AK72))","v":6.25},{"$f":"IF($B$20>0,IF(AI79>0,IF(AI126>($B$61/1000),AI126-($B$61/1000),0),IF(AI126>($B$54/1000),AI126-($B$54/1000),0)),IF(Input!AL97=0,0,Input!AL72))","v":6.25},{"$f":"IF($B$20>0,IF(AJ79>0,IF(AJ126>($B$61/1000),AJ126-($B$61/1000),0),IF(AJ126>($B$54/1000),AJ126-($B$54/1000),0)),IF(Input!AM97=0,0,Input!AM72))","v":6.25},{"$f":"IF($B$20>0,IF(AK79>0,IF(AK126>($B$61/1000),AK126-($B$61/1000),0),IF(AK126>($B$54/1000),AK126-($B$54/1000),0)),IF(Input!AN97=0,0,Input!AN72))","v":6.25},{"$f":"IF($B$20>0,IF(AL79>0,IF(AL126>($B$61/1000),AL126-($B$61/1000),0),IF(AL126>($B$54/1000),AL126-($B$54/1000),0)),IF(Input!AO97=0,0,Input!AO72))","v":6.25},{"$f":"IF($B$20>0,IF(AM79>0,IF(AM126>($B$61/1000),AM126-($B$61/1000),0),IF(AM126>($B$54/1000),AM126-($B$54/1000),0)),IF(Input!AP97=0,0,Input!AP72))","v":6.25},{"$f":"IF($B$20>0,IF(AN79>0,IF(AN126>($B$61/1000),AN126-($B$61/1000),0),IF(AN126>($B$54/1000),AN126-($B$54/1000),0)),IF(Input!AQ97=0,0,Input!AQ72))","v":6.25},{"$f":"IF($B$20>0,IF(AO79>0,IF(AO126>($B$61/1000),AO126-($B$61/1000),0),IF(AO126>($B$54/1000),AO126-($B$54/1000),0)),IF(Input!AR97=0,0,Input!AR72))","v":6.25},{"$f":"IF($B$20>0,IF(AP79>0,IF(AP126>($B$61/1000),AP126-($B$61/1000),0),IF(AP126>($B$54/1000),AP126-($B$54/1000),0)),IF(Input!AS97=0,0,Input!AS72))","v":6.25}]
[null,null,{"$f":"IF($B$20>0,IF(C80>0,IF(C127>($B$61/1000),C127-($B$61/1000),0),IF(C127>($B$54/1000),C127-($B$54/1000),0)),IF(Input!F98=0,0,Input!F73))","v":6.25},{"$f":"IF($B$20>0,IF(D80>0,IF(D127>($B$61/1000),D127-($B$61/1000),0),IF(D127>($B$54/1000),D127-($B$54/1000),0)),IF(Input!G98=0,0,Input!G73))","v":6.25},{"$f":"IF($B$20>0,IF(E80>0,IF(E127>($B$61/1000),E127-($B$61/1000),0),IF(E127>($B$54/1000),E127-($B$54/1000),0)),IF(Input!H98=0,0,Input!H73))","v":6.25},{"$f":"IF($B$20>0,IF(F80>0,IF(F127>($B$61/1000),F127-($B$61/1000),0),IF(F127>($B$54/1000),F127-($B$54/1000),0)),IF(Input!I98=0,0,Input!I73))","v":6.25},{"$f":"IF($B$20>0,IF(G80>0,IF(G127>($B$61/1000),G127-($B$61/1000),0),IF(G127>($B$54/1000),G127-($B$54/1000),0)),IF(Input!J98=0,0,Input!J73))","v":6.25},{"$f":"IF($B$20>0,IF(H80>0,IF(H127>($B$61/1000),H127-($B$61/1000),0),IF(H127>($B$54/1000),H127-($B$54/1000),0)),IF(Input!K98=0,0,Input!K73))","v":6.25},{"$f":"IF($B$20>0,IF(I80>0,IF(I127>($B$61/1000),I127-($B$61/1000),0),IF(I127>($B$54/1000),I127-($B$54/1000),0)),IF(Input!L98=0,0,Input!L73))","v":6.25},{"$f":"IF($B$20>0,IF(J80>0,IF(J127>($B$61/1000),J127-($B$61/1000),0),IF(J127>($B$54/1000),J127-($B$54/1000),0)),IF(Input!M98=0,0,Input!M73))","v":6.25},{"$f":"IF($B$20>0,IF(K80>0,IF(K127>($B$61/1000),K127-($B$61/1000),0),IF(K127>($B$54/1000),K127-($B$54/1000),0)),IF(Input!N98=0,0,Input!N73))","v":6.25},{"$f":"IF($B$20>0,IF(L80>0,IF(L127>($B$61/1000),L127-($B$61/1000),0),IF(L127>($B$54/1000),L127-($B$54/1000),0)),IF(Input!O98=0,0,Input!O73))","v":6.25},{"$f":"IF($B$20>0,IF(M80>0,IF(M127>($B$61/1000),M127-($B$61/1000),0),IF(M127>($B$54/1000),M127-($B$54/1000),0)),IF(Input!P98=0,0,Input!P73))","v":6.25},{"$f":"IF($B$20>0,IF(N80>0,IF(N127>($B$61/1000),N127-($B$61/1000),0),IF(N127>($B$54/1000),N127-($B$54/1000),0)),IF(Input!Q98=0,0,Input!Q73))","v":6.25},{"$f":"IF($B$20>0,IF(O80>0,IF(O127>($B$61/1000),O127-($B$61/1000),0),IF(O127>($B$54/1000),O127-($B$54/1000),0)),IF(Input!R98=0,0,Input!R73))","v":6.25},{"$f":"IF($B$20>0,IF(P80>0,IF(P127>($B$61/1000),P127-($B$61/1000),0),IF(P127>($B$54/1000),P127-($B$54/1000),0)),IF(Input!S98=0,0,Input!S73))","v":6.25},{"$f":"IF($B$20>0,IF(Q80>0,IF(Q127>($B$61/1000),Q127-($B$61/1000),0),IF(Q127>($B$54/1000),Q127-($B$54/1000),0)),IF(Input!T98=0,0,Input!T73))","v":6.25},{"$f":"IF($B$20>0,IF(R80>0,IF(R127>($B$61/1000),R127-($B$61/1000),0),IF(R127>($B$54/1000),R127-($B$54/1000),0)),IF(Input!U98=0,0,Input!U73))","v":6.25},{"$f":"IF($B$20>0,IF(S80>0,IF(S127>($B$61/1000),S127-($B$61/1000),0),IF(S127>($B$54/1000),S127-($B$54/1000),0)),IF(Input!V98=0,0,Input!V73))","v":6.25},{"$f":"IF($B$20>0,IF(T80>0,IF(T127>($B$61/1000),T127-($B$61/1000),0),IF(T127>($B$54/1000),T127-($B$54/1000),0)),IF(Input!W98=0,0,Input!W73))","v":6.25},{"$f":"IF($B$20>0,IF(U80>0,IF(U127>($B$61/1000),U127-($B$61/1000),0),IF(U127>($B$54/1000),U127-($B$54/1000),0)),IF(Input!X98=0,0,Input!X73))","v":6.25},{"$f":"IF($B$20>0,IF(V80>0,IF(V127>($B$61/1000),V127-($B$61/1000),0),IF(V127>($B$54/1000),V127-($B$54/1000),0)),IF(Input!Y98=0,0,Input!Y73))","v":6.25},{"$f":"IF($B$20>0,IF(W80>0,IF(W127>($B$61/1000),W127-($B$61/1000),0),IF(W127>($B$54/1000),W127-($B$54/1000),0)),IF(Input!Z98=0,0,Input!Z73))","v":6.25},{"$f":"IF($B$20>0,IF(X80>0,IF(X127>($B$61/1000),X127-($B$61/1000),0),IF(X127>($B$54/1000),X127-($B$54/1000),0)),IF(Input!AA98=0,0,Input!AA73))","v":6.25},{"$f":"IF($B$20>0,IF(Y80>0,IF(Y127>($B$61/1000),Y127-($B$61/1000),0),IF(Y127>($B$54/1000),Y127-($B$54/1000),0)),IF(Input!AB98=0,0,Input!AB73))","v":6.25},{"$f":"IF($B$20>0,IF(Z80>0,IF(Z127>($B$61/1000),Z127-($B$61/1000),0),IF(Z127>($B$54/1000),Z127-($B$54/1000),0)),IF(Input!AC98=0,0,Input!AC73))","v":6.25},{"$f":"IF($B$20>0,IF(AA80>0,IF(AA127>($B$61/1000),AA127-($B$61/1000),0),IF(AA127>($B$54/1000),AA127-($B$54/1000),0)),IF(Input!AD98=0,0,Input!AD73))","v":6.25},{"$f":"IF($B$20>0,IF(AB80>0,IF(AB127>($B$61/1000),AB127-($B$61/1000),0),IF(AB127>($B$54/1000),AB127-($B$54/1000),0)),IF(Input!AE98=0,0,Input!AE73))","v":6.25},{"$f":"IF($B$20>0,IF(AC80>0,IF(AC127>($B$61/1000),AC127-($B$61/1000),0),IF(AC127>($B$54/1000),AC127-($B$54/1000),0)),IF(Input!AF98=0,0,Input!AF73))","v":6.25},{"$f":"IF($B$20>0,IF(AD80>0,IF(AD127>($B$61/1000),AD127-($B$61/1000),0),IF(AD127>($B$54/1000),AD127-($B$54/1000),0)),IF(Input!AG98=0,0,Input!AG73))","v":6.25},{"$f":"IF($B$20>0,IF(AE80>0,IF(AE127>($B$61/1000),AE127-($B$61/1000),0),IF(AE127>($B$54/1000),AE127-($B$54/1000),0)),IF(Input!AH98=0,0,Input!AH73))","v":6.25},{"$f":"IF($B$20>0,IF(AF80>0,IF(AF127>($B$61/1000),AF127-($B$61/1000),0),IF(AF127>($B$54/1000),AF127-($B$54/1000),0)),IF(Input!AI98=0,0,Input!AI73))","v":6.25},{"$f":"IF($B$20>0,IF(AG80>0,IF(AG127>($B$61/1000),AG127-($B$61/1000),0),IF(AG127>($B$54/1000),AG127-($B$54/1000),0)),IF(Input!AJ98=0,0,Input!AJ73))","v":6.25},{"$f":"IF($B$20>0,IF(AH80>0,IF(AH127>($B$61/1000),AH127-($B$61/1000),0),IF(AH127>($B$54/1000),AH127-($B$54/1000),0)),IF(Input!AK98=0,0,Input!AK73))","v":6.25},{"$f":"IF($B$20>0,IF(AI80>0,IF(AI127>($B$61/1000),AI127-($B$61/1000),0),IF(AI127>($B$54/1000),AI127-($B$54/1000),0)),IF(Input!AL98=0,0,Input!AL73))","v":6.25},{"$f":"IF($B$20>0,IF(AJ80>0,IF(AJ127>($B$61/1000),AJ127-($B$61/1000),0),IF(AJ127>($B$54/1000),AJ127-($B$54/1000),0)),IF(Input!AM98=0,0,Input!AM73))","v":6.25},{"$f":"IF($B$20>0,IF(AK80>0,IF(AK127>($B$61/1000),AK127-($B$61/1000),0),IF(AK127>($B$54/1000),AK127-($B$54/1000),0)),IF(Input!AN98=0,0,Input!AN73))","v":6.25},{"$f":"IF($B$20>0,IF(AL80>0,IF(AL127>($B$61/1000),AL127-($B$61/1000),0),IF(AL127>($B$54/1000),AL127-($B$54/1000),0)),IF(Input!AO98=0,0,Input!AO73))","v":6.25},{"$f":"IF($B$20>0,IF(AM80>0,IF(AM127>($B$61/1000),AM127-($B$61/1000),0),IF(AM127>($B$54/1000),AM127-($B$54/1000),0)),IF(Input!AP98=0,0,Input!AP73))","v":6.25},{"$f":"IF($B$20>0,IF(AN80>0,IF(AN127>($B$61/1000),AN127-($B$61/1000),0),IF(AN127>($B$54/1000),AN127-($B$54/1000),0)),IF(Input!AQ98=0,0,Input!AQ73))","v":6.25},{"$f":"IF($B$20>0,IF(AO80>0,IF(AO127>($B$61/1000),AO127-($B$61/1000),0),IF(AO127>($B$54/1000),AO127-($B$54/1000),0)),IF(Input!AR98=0,0,Input!AR73))","v":6.25},{"$f":"IF($B$20>0,IF(AP80>0,IF(AP127>($B$61/1000),AP127-($B$61/1000),0),IF(AP127>($B$54/1000),AP127-($B$54/1000),0)),IF(Input!AS98=0,0,Input!AS73))","v":6.25}]
[null,null,{"$f":"IF($B$20>0,IF(C81>0,IF(C128>($B$61/1000),C128-($B$61/1000),0),IF(C128>($B$54/1000),C128-($B$54/1000),0)),IF(Input!F99=0,0,Input!F74))","v":6.25},{"$f":"IF($B$20>0,IF(D81>0,IF(D128>($B$61/1000),D128-($B$61/1000),0),IF(D128>($B$54/1000),D128-($B$54/1000),0)),IF(Input!G99=0,0,Input!G74))","v":6.25},{"$f":"IF($B$20>0,IF(E81>0,IF(E128>($B$61/1000),E128-($B$61/1000),0),IF(E128>($B$54/1000),E128-($B$54/1000),0)),IF(Input!H99=0,0,Input!H74))","v":6.25},{"$f":"IF($B$20>0,IF(F81>0,IF(F128>($B$61/1000),F128-($B$61/1000),0),IF(F128>($B$54/1000),F128-($B$54/1000),0)),IF(Input!I99=0,0,Input!I74))","v":6.25},{"$f":"IF($B$20>0,IF(G81>0,IF(G128>($B$61/1000),G128-($B$61/1000),0),IF(G128>($B$54/1000),G128-($B$54/1000),0)),IF(Input!J99=0,0,Input!J74))","v":6.25},{"$f":"IF($B$20>0,IF(H81>0,IF(H128>($B$61/1000),H128-($B$61/1000),0),IF(H128>($B$54/1000),H128-($B$54/1000),0)),IF(Input!K99=0,0,Input!K74))","v":6.25},{"$f":"IF($B$20>0,IF(I81>0,IF(I128>($B$61/1000),I128-($B$61/1000),0),IF(I128>($B$54/1000),I128-($B$54/1000),0)),IF(Input!L99=0,0,Input!L74))","v":6.25},{"$f":"IF($B$20>0,IF(J81>0,IF(J128>($B$61/1000),J128-($B$61/1000),0),IF(J128>($B$54/1000),J128-($B$54/1000),0)),IF(Input!M99=0,0,Input!M74))","v":6.25},{"$f":"IF($B$20>0,IF(K81>0,IF(K128>($B$61/1000),K128-($B$61/1000),0),IF(K128>($B$54/1000),K128-($B$54/1000),0)),IF(Input!N99=0,0,Input!N74))","v":6.25},{"$f":"IF($B$20>0,IF(L81>0,IF(L128>($B$61/1000),L128-($B$61/1000),0),IF(L128>($B$54/1000),L128-($B$54/1000),0)),IF(Input!O99=0,0,Input!O74))","v":6.25},{"$f":"IF($B$20>0,IF(M81>0,IF(M128>($B$61/1000),M128-($B$61/1000),0),IF(M128>($B$54/1000),M128-($B$54/1000),0)),IF(Input!P99=0,0,Input!P74))","v":6.25},{"$f":"IF($B$20>0,IF(N81>0,IF(N128>($B$61/1000),N128-($B$61/1000),0),IF(N128>($B$54/1000),N128-($B$54/1000),0)),IF(Input!Q99=0,0,Input!Q74))","v":6.25},{"$f":"IF($B$20>0,IF(O81>0,IF(O128>($B$61/1000),O128-($B$61/1000),0),IF(O128>($B$54/1000),O128-($B$54/1000),0)),IF(Input!R99=0,0,Input!R74))","v":6.25},{"$f":"IF($B$20>0,IF(P81>0,IF(P128>($B$61/1000),P128-($B$61/1000),0),IF(P128>($B$54/1000),P128-($B$54/1000),0)),IF(Input!S99=0,0,Input!S74))","v":6.25},{"$f":"IF($B$20>0,IF(Q81>0,IF(Q128>($B$61/1000),Q128-($B$61/1000),0),IF(Q128>($B$54/1000),Q128-($B$54/1000),0)),IF(Input!T99=0,0,Input!T74))","v":6.25},{"$f":"IF($B$20>0,IF(R81>0,IF(R128>($B$61/1000),R128-($B$61/1000),0),IF(R128>($B$54/1000),R128-($B$54/1000),0)),IF(Input!U99=0,0,Input!U74))","v":6.25},{"$f":"IF($B$20>0,IF(S81>0,IF(S128>($B$61/1000),S128-($B$61/1000),0),IF(S128>($B$54/1000),S128-($B$54/1000),0)),IF(Input!V99=0,0,Input!V74))","v":6.25},{"$f":"IF($B$20>0,IF(T81>0,IF(T128>($B$61/1000),T128-($B$61/1000),0),IF(T128>($B$54/1000),T128-($B$54/1000),0)),IF(Input!W99=0,0,Input!W74))","v":6.25},{"$f":"IF($B$20>0,IF(U81>0,IF(U128>($B$61/1000),U128-($B$61/1000),0),IF(U128>($B$54/1000),U128-($B$54/1000),0)),IF(Input!X99=0,0,Input!X74))","v":6.25},{"$f":"IF($B$20>0,IF(V81>0,IF(V128>($B$61/1000),V128-($B$61/1000),0),IF(V128>($B$54/1000),V128-($B$54/1000),0)),IF(Input!Y99=0,0,Input!Y74))","v":6.25},{"$f":"IF($B$20>0,IF(W81>0,IF(W128>($B$61/1000),W128-($B$61/1000),0),IF(W128>($B$54/1000),W128-($B$54/1000),0)),IF(Input!Z99=0,0,Input!Z74))","v":6.25},{"$f":"IF($B$20>0,IF(X81>0,IF(X128>($B$61/1000),X128-($B$61/1000),0),IF(X128>($B$54/1000),X128-($B$54/1000),0)),IF(Input!AA99=0,0,Input!AA74))","v":6.25},{"$f":"IF($B$20>0,IF(Y81>0,IF(Y128>($B$61/1000),Y128-($B$61/1000),0),IF(Y128>($B$54/1000),Y128-($B$54/1000),0)),IF(Input!AB99=0,0,Input!AB74))","v":6.25},{"$f":"IF($B$20>0,IF(Z81>0,IF(Z128>($B$61/1000),Z128-($B$61/1000),0),IF(Z128>($B$54/1000),Z128-($B$54/1000),0)),IF(Input!AC99=0,0,Input!AC74))","v":6.25},{"$f":"IF($B$20>0,IF(AA81>0,IF(AA128>($B$61/1000),AA128-($B$61/1000),0),IF(AA128>($B$54/1000),AA128-($B$54/1000),0)),IF(Input!AD99=0,0,Input!AD74))","v":6.25},{"$f":"IF($B$20>0,IF(AB81>0,IF(AB128>($B$61/1000),AB128-($B$61/1000),0),IF(AB128>($B$54/1000),AB128-($B$54/1000),0)),IF(Input!AE99=0,0,Input!AE74))","v":6.25},{"$f":"IF($B$20>0,IF(AC81>0,IF(AC128>($B$61/1000),AC128-($B$61/1000),0),IF(AC128>($B$54/1000),AC128-($B$54/1000),0)),IF(Input!AF99=0,0,Input!AF74))","v":6.25},{"$f":"IF($B$20>0,IF(AD81>0,IF(AD128>($B$61/1000),AD128-($B$61/1000),0),IF(AD128>($B$54/1000),AD128-($B$54/1000),0)),IF(Input!AG99=0,0,Input!AG74))","v":6.25},{"$f":"IF($B$20>0,IF(AE81>0,IF(AE128>($B$61/1000),AE128-($B$61/1000),0),IF(AE128>($B$54/1000),AE128-($B$54/1000),0)),IF(Input!AH99=0,0,Input!AH74))","v":6.25},{"$f":"IF($B$20>0,IF(AF81>0,IF(AF128>($B$61/1000),AF128-($B$61/1000),0),IF(AF128>($B$54/1000),AF128-($B$54/1000),0)),IF(Input!AI99=0,0,Input!AI74))","v":6.25},{"$f":"IF($B$20>0,IF(AG81>0,IF(AG128>($B$61/1000),AG128-($B$61/1000),0),IF(AG128>($B$54/1000),AG128-($B$54/1000),0)),IF(Input!AJ99=0,0,Input!AJ74))","v":6.25},{"$f":"IF($B$20>0,IF(AH81>0,IF(AH128>($B$61/1000),AH128-($B$61/1000),0),IF(AH128>($B$54/1000),AH128-($B$54/1000),0)),IF(Input!AK99=0,0,Input!AK74))","v":6.25},{"$f":"IF($B$20>0,IF(AI81>0,IF(AI128>($B$61/1000),AI128-($B$61/1000),0),IF(AI128>($B$54/1000),AI128-($B$54/1000),0)),IF(Input!AL99=0,0,Input!AL74))","v":6.25},{"$f":"IF($B$20>0,IF(AJ81>0,IF(AJ128>($B$61/1000),AJ128-($B$61/1000),0),IF(AJ128>($B$54/1000),AJ128-($B$54/1000),0)),IF(Input!AM99=0,0,Input!AM74))","v":6.25},{"$f":"IF($B$20>0,IF(AK81>0,IF(AK128>($B$61/1000),AK128-($B$61/1000),0),IF(AK128>($B$54/1000),AK128-($B$54/1000),0)),IF(Input!AN99=0,0,Input!AN74))","v":6.25},{"$f":"IF($B$20>0,IF(AL81>0,IF(AL128>($B$61/1000),AL128-($B$61/1000),0),IF(AL128>($B$54/1000),AL128-($B$54/1000),0)),IF(Input!AO99=0,0,Input!AO74))","v":6.25},{"$f":"IF($B$20>0,IF(AM81>0,IF(AM128>($B$61/1000),AM128-($B$61/1000),0),IF(AM128>($B$54/1000),AM128-($B$54/1000),0)),IF(Input!AP99=0,0,Input!AP74))","v":6.25},{"$f":"IF($B$20>0,IF(AN81>0,IF(AN128>($B$61/1000),AN128-($B$61/1000),0),IF(AN128>($B$54/1000),AN128-($B$54/1000),0)),IF(Input!AQ99=0,0,Input!AQ74))","v":6.25},{"$f":"IF($B$20>0,IF(AO81>0,IF(AO128>($B$61/1000),AO128-($B$61/1000),0),IF(AO128>($B$54/1000),AO128-($B$54/1000),0)),IF(Input!AR99=0,0,Input!AR74))","v":6.25},{"$f":"IF($B$20>0,IF(AP81>0,IF(AP128>($B$61/1000),AP128-($B$61/1000),0),IF(AP128>($B$54/1000),AP128-($B$54/1000),0)),IF(Input!AS99=0,0,Input!AS74))","v":6.25}]
[null,null,{"$f":"IF($B$20>0,IF(C82>0,IF(C129>($B$61/1000),C129-($B$61/1000),0),IF(C129>($B$54/1000),C129-($B$54/1000),0)),IF(Input!F100=0,0,Input!F75))","v":6.25},{"$f":"IF($B$20>0,IF(D82>0,IF(D129>($B$61/1000),D129-($B$61/1000),0),IF(D129>($B$54/1000),D129-($B$54/1000),0)),IF(Input!G100=0,0,Input!G75))","v":6.25},{"$f":"IF($B$20>0,IF(E82>0,IF(E129>($B$61/1000),E129-($B$61/1000),0),IF(E129>($B$54/1000),E129-($B$54/1000),0)),IF(Input!H100=0,0,Input!H75))","v":6.25},{"$f":"IF($B$20>0,IF(F82>0,IF(F129>($B$61/1000),F129-($B$61/1000),0),IF(F129>($B$54/1000),F129-($B$54/1000),0)),IF(Input!I100=0,0,Input!I75))","v":6.25},{"$f":"IF($B$20>0,IF(G82>0,IF(G129>($B$61/1000),G129-($B$61/1000),0),IF(G129>($B$54/1000),G129-($B$54/1000),0)),IF(Input!J100=0,0,Input!J75))","v":6.25},{"$f":"IF($B$20>0,IF(H82>0,IF(H129>($B$61/1000),H129-($B$61/1000),0),IF(H129>($B$54/1000),H129-($B$54/1000),0)),IF(Input!K100=0,0,Input!K75))","v":6.25},{"$f":"IF($B$20>0,IF(I82>0,IF(I129>($B$61/1000),I129-($B$61/1000),0),IF(I129>($B$54/1000),I129-($B$54/1000),0)),IF(Input!L100=0,0,Input!L75))","v":6.25},{"$f":"IF($B$20>0,IF(J82>0,IF(J129>($B$61/1000),J129-($B$61/1000),0),IF(J129>($B$54/1000),J129-($B$54/1000),0)),IF(Input!M100=0,0,Input!M75))","v":6.25},{"$f":"IF($B$20>0,IF(K82>0,IF(K129>($B$61/1000),K129-($B$61/1000),0),IF(K129>($B$54/1000),K129-($B$54/1000),0)),IF(Input!N100=0,0,Input!N75))","v":6.25},{"$f":"IF($B$20>0,IF(L82>0,IF(L129>($B$61/1000),L129-($B$61/1000),0),IF(L129>($B$54/1000),L129-($B$54/1000),0)),IF(Input!O100=0,0,Input!O75))","v":6.25},{"$f":"IF($B$20>0,IF(M82>0,IF(M129>($B$61/1000),M129-($B$61/1000),0),IF(M129>($B$54/1000),M129-($B$54/1000),0)),IF(Input!P100=0,0,Input!P75))","v":6.25},{"$f":"IF($B$20>0,IF(N82>0,IF(N129>($B$61/1000),N129-($B$61/1000),0),IF(N129>($B$54/1000),N129-($B$54/1000),0)),IF(Input!Q100=0,0,Input!Q75))","v":6.25},{"$f":"IF($B$20>0,IF(O82>0,IF(O129>($B$61/1000),O129-($B$61/1000),0),IF(O129>($B$54/1000),O129-($B$54/1000),0)),IF(Input!R100=0,0,Input!R75))","v":6.25},{"$f":"IF($B$20>0,IF(P82>0,IF(P129>($B$61/1000),P129-($B$61/1000),0),IF(P129>($B$54/1000),P129-($B$54/1000),0)),IF(Input!S100=0,0,Input!S75))","v":6.25},{"$f":"IF($B$20>0,IF(Q82>0,IF(Q129>($B$61/1000),Q129-($B$61/1000),0),IF(Q129>($B$54/1000),Q129-($B$54/1000),0)),IF(Input!T100=0,0,Input!T75))","v":6.25},{"$f":"IF($B$20>0,IF(R82>0,IF(R129>($B$61/1000),R129-($B$61/1000),0),IF(R129>($B$54/1000),R129-($B$54/1000),0)),IF(Input!U100=0,0,Input!U75))","v":6.25},{"$f":"IF($B$20>0,IF(S82>0,IF(S129>($B$61/1000),S129-($B$61/1000),0),IF(S129>($B$54/1000),S129-($B$54/1000),0)),IF(Input!V100=0,0,Input!V75))","v":6.25},{"$f":"IF($B$20>0,IF(T82>0,IF(T129>($B$61/1000),T129-($B$61/1000),0),IF(T129>($B$54/1000),T129-($B$54/1000),0)),IF(Input!W100=0,0,Input!W75))","v":6.25},{"$f":"IF($B$20>0,IF(U82>0,IF(U129>($B$61/1000),U129-($B$61/1000),0),IF(U129>($B$54/1000),U129-($B$54/1000),0)),IF(Input!X100=0,0,Input!X75))","v":6.25},{"$f":"IF($B$20>0,IF(V82>0,IF(V129>($B$61/1000),V129-($B$61/1000),0),IF(V129>($B$54/1000),V129-($B$54/1000),0)),IF(Input!Y100=0,0,Input!Y75))","v":6.25},{"$f":"IF($B$20>0,IF(W82>0,IF(W129>($B$61/1000),W129-($B$61/1000),0),IF(W129>($B$54/1000),W129-($B$54/1000),0)),IF(Input!Z100=0,0,Input!Z75))","v":6.25},{"$f":"IF($B$20>0,IF(X82>0,IF(X129>($B$61/1000),X129-($B$61/1000),0),IF(X129>($B$54/1000),X129-($B$54/1000),0)),IF(Input!AA100=0,0,Input!AA75))","v":6.25},{"$f":"IF($B$20>0,IF(Y82>0,IF(Y129>($B$61/1000),Y129-($B$61/1000),0),IF(Y129>($B$54/1000),Y129-($B$54/1000),0)),IF(Input!AB100=0,0,Input!AB75))","v":6.25},{"$f":"IF($B$20>0,IF(Z82>0,IF(Z129>($B$61/1000),Z129-($B$61/1000),0),IF(Z129>($B$54/1000),Z129-($B$54/1000),0)),IF(Input!AC100=0,0,Input!AC75))","v":6.25},{"$f":"IF($B$20>0,IF(AA82>0,IF(AA129>($B$61/1000),AA129-($B$61/1000),0),IF(AA129>($B$54/1000),AA129-($B$54/1000),0)),IF(Input!AD100=0,0,Input!AD75))","v":6.25},{"$f":"IF($B$20>0,IF(AB82>0,IF(AB129>($B$61/1000),AB129-($B$61/1000),0),IF(AB129>($B$54/1000),AB129-($B$54/1000),0)),IF(Input!AE100=0,0,Input!AE75))","v":6.25},{"$f":"IF($B$20>0,IF(AC82>0,IF(AC129>($B$61/1000),AC129-($B$61/1000),0),IF(AC129>($B$54/1000),AC129-($B$54/1000),0)),IF(Input!AF100=0,0,Input!AF75))","v":6.25},{"$f":"IF($B$20>0,IF(AD82>0,IF(AD129>($B$61/1000),AD129-($B$61/1000),0),IF(AD129>($B$54/1000),AD129-($B$54/1000),0)),IF(Input!AG100=0,0,Input!AG75))","v":6.25},{"$f":"IF($B$20>0,IF(AE82>0,IF(AE129>($B$61/1000),AE129-($B$61/1000),0),IF(AE129>($B$54/1000),AE129-($B$54/1000),0)),IF(Input!AH100=0,0,Input!AH75))","v":6.25},{"$f":"IF($B$20>0,IF(AF82>0,IF(AF129>($B$61/1000),AF129-($B$61/1000),0),IF(AF129>($B$54/1000),AF129-($B$54/1000),0)),IF(Input!AI100=0,0,Input!AI75))","v":6.25},{"$f":"IF($B$20>0,IF(AG82>0,IF(AG129>($B$61/1000),AG129-($B$61/1000),0),IF(AG129>($B$54/1000),AG129-($B$54/1000),0)),IF(Input!AJ100=0,0,Input!AJ75))","v":6.25},{"$f":"IF($B$20>0,IF(AH82>0,IF(AH129>($B$61/1000),AH129-($B$61/1000),0),IF(AH129>($B$54/1000),AH129-($B$54/1000),0)),IF(Input!AK100=0,0,Input!AK75))","v":6.25},{"$f":"IF($B$20>0,IF(AI82>0,IF(AI129>($B$61/1000),AI129-($B$61/1000),0),IF(AI129>($B$54/1000),AI129-($B$54/1000),0)),IF(Input!AL100=0,0,Input!AL75))","v":6.25},{"$f":"IF($B$20>0,IF(AJ82>0,IF(AJ129>($B$61/1000),AJ129-($B$61/1000),0),IF(AJ129>($B$54/1000),AJ129-($B$54/1000),0)),IF(Input!AM100=0,0,Input!AM75))","v":6.25},{"$f":"IF($B$20>0,IF(AK82>0,IF(AK129>($B$61/1000),AK129-($B$61/1000),0),IF(AK129>($B$54/1000),AK129-($B$54/1000),0)),IF(Input!AN100=0,0,Input!AN75))","v":6.25},{"$f":"IF($B$20>0,IF(AL82>0,IF(AL129>($B$61/1000),AL129-($B$61/1000),0),IF(AL129>($B$54/1000),AL129-($B$54/1000),0)),IF(Input!AO100=0,0,Input!AO75))","v":6.25},{"$f":"IF($B$20>0,IF(AM82>0,IF(AM129>($B$61/1000),AM129-($B$61/1000),0),IF(AM129>($B$54/1000),AM129-($B$54/1000),0)),IF(Input!AP100=0,0,Input!AP75))","v":6.25},{"$f":"IF($B$20>0,IF(AN82>0,IF(AN129>($B$61/1000),AN129-($B$61/1000),0),IF(AN129>($B$54/1000),AN129-($B$54/1000),0)),IF(Input!AQ100=0,0,Input!AQ75))","v":6.25},{"$f":"IF($B$20>0,IF(AO82>0,IF(AO129>($B$61/1000),AO129-($B$61/1000),0),IF(AO129>($B$54/1000),AO129-($B$54/1000),0)),IF(Input!AR100=0,0,Input!AR75))","v":6.25},{"$f":"IF($B$20>0,IF(AP82>0,IF(AP129>($B$61/1000),AP129-($B$61/1000),0),IF(AP129>($B$54/1000),AP129-($B$54/1000),0)),IF(Input!AS100=0,0,Input!AS75))","v":6.25}]
[null,null,{"$f":"IF($B$20>0,IF(C83>0,IF(C130>($B$61/1000),C130-($B$61/1000),0),IF(C130>($B$54/1000),C130-($B$54/1000),0)),IF(Input!F101=0,0,Input!F76))","v":6.25},{"$f":"IF($B$20>0,IF(D83>0,IF(D130>($B$61/1000),D130-($B$61/1000),0),IF(D130>($B$54/1000),D130-($B$54/1000),0)),IF(Input!G101=0,0,Input!G76))","v":6.25},{"$f":"IF($B$20>0,IF(E83>0,IF(E130>($B$61/1000),E130-($B$61/1000),0),IF(E130>($B$54/1000),E130-($B$54/1000),0)),IF(Input!H101=0,0,Input!H76))","v":6.25},{"$f":"IF($B$20>0,IF(F83>0,IF(F130>($B$61/1000),F130-($B$61/1000),0),IF(F130>($B$54/1000),F130-($B$54/1000),0)),IF(Input!I101=0,0,Input!I76))","v":6.25},{"$f":"IF($B$20>0,IF(G83>0,IF(G130>($B$61/1000),G130-($B$61/1000),0),IF(G130>($B$54/1000),G130-($B$54/1000),0)),IF(Input!J101=0,0,Input!J76))","v":6.25},{"$f":"IF($B$20>0,IF(H83>0,IF(H130>($B$61/1000),H130-($B$61/1000),0),IF(H130>($B$54/1000),H130-($B$54/1000),0)),IF(Input!K101=0,0,Input!K76))","v":6.25},{"$f":"IF($B$20>0,IF(I83>0,IF(I130>($B$61/1000),I130-($B$61/1000),0),IF(I130>($B$54/1000),I130-($B$54/1000),0)),IF(Input!L101=0,0,Input!L76))","v":6.25},{"$f":"IF($B$20>0,IF(J83>0,IF(J130>($B$61/1000),J130-($B$61/1000),0),IF(J130>($B$54/1000),J130-($B$54/1000),0)),IF(Input!M101=0,0,Input!M76))","v":6.25},{"$f":"IF($B$20>0,IF(K83>0,IF(K130>($B$61/1000),K130-($B$61/1000),0),IF(K130>($B$54/1000),K130-($B$54/1000),0)),IF(Input!N101=0,0,Input!N76))","v":6.25},{"$f":"IF($B$20>0,IF(L83>0,IF(L130>($B$61/1000),L130-($B$61/1000),0),IF(L130>($B$54/1000),L130-($B$54/1000),0)),IF(Input!O101=0,0,Input!O76))","v":6.25},{"$f":"IF($B$20>0,IF(M83>0,IF(M130>($B$61/1000),M130-($B$61/1000),0),IF(M130>($B$54/1000),M130-($B$54/1000),0)),IF(Input!P101=0,0,Input!P76))","v":6.25},{"$f":"IF($B$20>0,IF(N83>0,IF(N130>($B$61/1000),N130-($B$61/1000),0),IF(N130>($B$54/1000),N130-($B$54/1000),0)),IF(Input!Q101=0,0,Input!Q76))","v":6.25},{"$f":"IF($B$20>0,IF(O83>0,IF(O130>($B$61/1000),O130-($B$61/1000),0),IF(O130>($B$54/1000),O130-($B$54/1000),0)),IF(Input!R101=0,0,Input!R76))","v":6.25},{"$f":"IF($B$20>0,IF(P83>0,IF(P130>($B$61/1000),P130-($B$61/1000),0),IF(P130>($B$54/1000),P130-($B$54/1000),0)),IF(Input!S101=0,0,Input!S76))","v":6.25},{"$f":"IF($B$20>0,IF(Q83>0,IF(Q130>($B$61/1000),Q130-($B$61/1000),0),IF(Q130>($B$54/1000),Q130-($B$54/1000),0)),IF(Input!T101=0,0,Input!T76))","v":6.25},{"$f":"IF($B$20>0,IF(R83>0,IF(R130>($B$61/1000),R130-($B$61/1000),0),IF(R130>($B$54/1000),R130-($B$54/1000),0)),IF(Input!U101=0,0,Input!U76))","v":6.25},{"$f":"IF($B$20>0,IF(S83>0,IF(S130>($B$61/1000),S130-($B$61/1000),0),IF(S130>($B$54/1000),S130-($B$54/1000),0)),IF(Input!V101=0,0,Input!V76))","v":6.25},{"$f":"IF($B$20>0,IF(T83>0,IF(T130>($B$61/1000),T130-($B$61/1000),0),IF(T130>($B$54/1000),T130-($B$54/1000),0)),IF(Input!W101=0,0,Input!W76))","v":6.25},{"$f":"IF($B$20>0,IF(U83>0,IF(U130>($B$61/1000),U130-($B$61/1000),0),IF(U130>($B$54/1000),U130-($B$54/1000),0)),IF(Input!X101=0,0,Input!X76))","v":6.25},{"$f":"IF($B$20>0,IF(V83>0,IF(V130>($B$61/1000),V130-($B$61/1000),0),IF(V130>($B$54/1000),V130-($B$54/1000),0)),IF(Input!Y101=0,0,Input!Y76))","v":6.25},{"$f":"IF($B$20>0,IF(W83>0,IF(W130>($B$61/1000),W130-($B$61/1000),0),IF(W130>($B$54/1000),W130-($B$54/1000),0)),IF(Input!Z101=0,0,Input!Z76))","v":6.25},{"$f":"IF($B$20>0,IF(X83>0,IF(X130>($B$61/1000),X130-($B$61/1000),0),IF(X130>($B$54/1000),X130-($B$54/1000),0)),IF(Input!AA101=0,0,Input!AA76))","v":6.25},{"$f":"IF($B$20>0,IF(Y83>0,IF(Y130>($B$61/1000),Y130-($B$61/1000),0),IF(Y130>($B$54/1000),Y130-($B$54/1000),0)),IF(Input!AB101=0,0,Input!AB76))","v":6.25},{"$f":"IF($B$20>0,IF(Z83>0,IF(Z130>($B$61/1000),Z130-($B$61/1000),0),IF(Z130>($B$54/1000),Z130-($B$54/1000),0)),IF(Input!AC101=0,0,Input!AC76))","v":6.25},{"$f":"IF($B$20>0,IF(AA83>0,IF(AA130>($B$61/1000),AA130-($B$61/1000),0),IF(AA130>($B$54/1000),AA130-($B$54/1000),0)),IF(Input!AD101=0,0,Input!AD76))","v":6.25},{"$f":"IF($B$20>0,IF(AB83>0,IF(AB130>($B$61/1000),AB130-($B$61/1000),0),IF(AB130>($B$54/1000),AB130-($B$54/1000),0)),IF(Input!AE101=0,0,Input!AE76))","v":6.25},{"$f":"IF($B$20>0,IF(AC83>0,IF(AC130>($B$61/1000),AC130-($B$61/1000),0),IF(AC130>($B$54/1000),AC130-($B$54/1000),0)),IF(Input!AF101=0,0,Input!AF76))","v":6.25},{"$f":"IF($B$20>0,IF(AD83>0,IF(AD130>($B$61/1000),AD130-($B$61/1000),0),IF(AD130>($B$54/1000),AD130-($B$54/1000),0)),IF(Input!AG101=0,0,Input!AG76))","v":6.25},{"$f":"IF($B$20>0,IF(AE83>0,IF(AE130>($B$61/1000),AE130-($B$61/1000),0),IF(AE130>($B$54/1000),AE130-($B$54/1000),0)),IF(Input!AH101=0,0,Input!AH76))","v":6.25},{"$f":"IF($B$20>0,IF(AF83>0,IF(AF130>($B$61/1000),AF130-($B$61/1000),0),IF(AF130>($B$54/1000),AF130-($B$54/1000),0)),IF(Input!AI101=0,0,Input!AI76))","v":6.25},{"$f":"IF($B$20>0,IF(AG83>0,IF(AG130>($B$61/1000),AG130-($B$61/1000),0),IF(AG130>($B$54/1000),AG130-($B$54/1000),0)),IF(Input!AJ101=0,0,Input!AJ76))","v":6.25},{"$f":"IF($B$20>0,IF(AH83>0,IF(AH130>($B$61/1000),AH130-($B$61/1000),0),IF(AH130>($B$54/1000),AH130-($B$54/1000),0)),IF(Input!AK101=0,0,Input!AK76))","v":6.25},{"$f":"IF($B$20>0,IF(AI83>0,IF(AI130>($B$61/1000),AI130-($B$61/1000),0),IF(AI130>($B$54/1000),AI130-($B$54/1000),0)),IF(Input!AL101=0,0,Input!AL76))","v":6.25},{"$f":"IF($B$20>0,IF(AJ83>0,IF(AJ130>($B$61/1000),AJ130-($B$61/1000),0),IF(AJ130>($B$54/1000),AJ130-($B$54/1000),0)),IF(Input!AM101=0,0,Input!AM76))","v":6.25},{"$f":"IF($B$20>0,IF(AK83>0,IF(AK130>($B$61/1000),AK130-($B$61/1000),0),IF(AK130>($B$54/1000),AK130-($B$54/1000),0)),IF(Input!AN101=0,0,Input!AN76))","v":6.25},{"$f":"IF($B$20>0,IF(AL83>0,IF(AL130>($B$61/1000),AL130-($B$61/1000),0),IF(AL130>($B$54/1000),AL130-($B$54/1000),0)),IF(Input!AO101=0,0,Input!AO76))","v":6.25},{"$f":"IF($B$20>0,IF(AM83>0,IF(AM130>($B$61/1000),AM130-($B$61/1000),0),IF(AM130>($B$54/1000),AM130-($B$54/1000),0)),IF(Input!AP101=0,0,Input!AP76))","v":6.25},{"$f":"IF($B$20>0,IF(AN83>0,IF(AN130>($B$61/1000),AN130-($B$61/1000),0),IF(AN130>($B$54/1000),AN130-($B$54/1000),0)),IF(Input!AQ101=0,0,Input!AQ76))","v":6.25},{"$f":"IF($B$20>0,IF(AO83>0,IF(AO130>($B$61/1000),AO130-($B$61/1000),0),IF(AO130>($B$54/1000),AO130-($B$54/1000),0)),IF(Input!AR101=0,0,Input!AR76))","v":6.25},{"$f":"IF($B$20>0,IF(AP83>0,IF(AP130>($B$61/1000),AP130-($B$61/1000),0),IF(AP130>($B$54/1000),AP130-($B$54/1000),0)),IF(Input!AS101=0,0,Input!AS76))","v":6.25}]
[null,null,{"$f":"IF($B$20>0,IF(C84>0,IF(C131>($B$61/1000),C131-($B$61/1000),0),IF(C131>($B$54/1000),C131-($B$54/1000),0)),IF(Input!F102=0,0,Input!F77))","v":6.25},{"$f":"IF($B$20>0,IF(D84>0,IF(D131>($B$61/1000),D131-($B$61/1000),0),IF(D131>($B$54/1000),D131-($B$54/1000),0)),IF(Input!G102=0,0,Input!G77))","v":6.25},{"$f":"IF($B$20>0,IF(E84>0,IF(E131>($B$61/1000),E131-($B$61/1000),0),IF(E131>($B$54/1000),E131-($B$54/1000),0)),IF(Input!H102=0,0,Input!H77))","v":6.25},{"$f":"IF($B$20>0,IF(F84>0,IF(F131>($B$61/1000),F131-($B$61/1000),0),IF(F131>($B$54/1000),F131-($B$54/1000),0)),IF(Input!I102=0,0,Input!I77))","v":6.25},{"$f":"IF($B$20>0,IF(G84>0,IF(G131>($B$61/1000),G131-($B$61/1000),0),IF(G131>($B$54/1000),G131-($B$54/1000),0)),IF(Input!J102=0,0,Input!J77))","v":6.25},{"$f":"IF($B$20>0,IF(H84>0,IF(H131>($B$61/1000),H131-($B$61/1000),0),IF(H131>($B$54/1000),H131-($B$54/1000),0)),IF(Input!K102=0,0,Input!K77))","v":6.25},{"$f":"IF($B$20>0,IF(I84>0,IF(I131>($B$61/1000),I131-($B$61/1000),0),IF(I131>($B$54/1000),I131-($B$54/1000),0)),IF(Input!L102=0,0,Input!L77))","v":6.25},{"$f":"IF($B$20>0,IF(J84>0,IF(J131>($B$61/1000),J131-($B$61/1000),0),IF(J131>($B$54/1000),J131-($B$54/1000),0)),IF(Input!M102=0,0,Input!M77))","v":6.25},{"$f":"IF($B$20>0,IF(K84>0,IF(K131>($B$61/1000),K131-($B$61/1000),0),IF(K131>($B$54/1000),K131-($B$54/1000),0)),IF(Input!N102=0,0,Input!N77))","v":6.25},{"$f":"IF($B$20>0,IF(L84>0,IF(L131>($B$61/1000),L131-($B$61/1000),0),IF(L131>($B$54/1000),L131-($B$54/1000),0)),IF(Input!O102=0,0,Input!O77))","v":6.25},{"$f":"IF($B$20>0,IF(M84>0,IF(M131>($B$61/1000),M131-($B$61/1000),0),IF(M131>($B$54/1000),M131-($B$54/1000),0)),IF(Input!P102=0,0,Input!P77))","v":6.25},{"$f":"IF($B$20>0,IF(N84>0,IF(N131>($B$61/1000),N131-($B$61/1000),0),IF(N131>($B$54/1000),N131-($B$54/1000),0)),IF(Input!Q102=0,0,Input!Q77))","v":6.25},{"$f":"IF($B$20>0,IF(O84>0,IF(O131>($B$61/1000),O131-($B$61/1000),0),IF(O131>($B$54/1000),O131-($B$54/1000),0)),IF(Input!R102=0,0,Input!R77))","v":6.25},{"$f":"IF($B$20>0,IF(P84>0,IF(P131>($B$61/1000),P131-($B$61/1000),0),IF(P131>($B$54/1000),P131-($B$54/1000),0)),IF(Input!S102=0,0,Input!S77))","v":6.25},{"$f":"IF($B$20>0,IF(Q84>0,IF(Q131>($B$61/1000),Q131-($B$61/1000),0),IF(Q131>($B$54/1000),Q131-($B$54/1000),0)),IF(Input!T102=0,0,Input!T77))","v":6.25},{"$f":"IF($B$20>0,IF(R84>0,IF(R131>($B$61/1000),R131-($B$61/1000),0),IF(R131>($B$54/1000),R131-($B$54/1000),0)),IF(Input!U102=0,0,Input!U77))","v":6.25},{"$f":"IF($B$20>0,IF(S84>0,IF(S131>($B$61/1000),S131-($B$61/1000),0),IF(S131>($B$54/1000),S131-($B$54/1000),0)),IF(Input!V102=0,0,Input!V77))","v":6.25},{"$f":"IF($B$20>0,IF(T84>0,IF(T131>($B$61/1000),T131-($B$61/1000),0),IF(T131>($B$54/1000),T131-($B$54/1000),0)),IF(Input!W102=0,0,Input!W77))","v":6.25},{"$f":"IF($B$20>0,IF(U84>0,IF(U131>($B$61/1000),U131-($B$61/1000),0),IF(U131>($B$54/1000),U131-($B$54/1000),0)),IF(Input!X102=0,0,Input!X77))","v":6.25},{"$f":"IF($B$20>0,IF(V84>0,IF(V131>($B$61/1000),V131-($B$61/1000),0),IF(V131>($B$54/1000),V131-($B$54/1000),0)),IF(Input!Y102=0,0,Input!Y77))","v":6.25},{"$f":"IF($B$20>0,IF(W84>0,IF(W131>($B$61/1000),W131-($B$61/1000),0),IF(W131>($B$54/1000),W131-($B$54/1000),0)),IF(Input!Z102=0,0,Input!Z77))","v":6.25},{"$f":"IF($B$20>0,IF(X84>0,IF(X131>($B$61/1000),X131-($B$61/1000),0),IF(X131>($B$54/1000),X131-($B$54/1000),0)),IF(Input!AA102=0,0,Input!AA77))","v":6.25},{"$f":"IF($B$20>0,IF(Y84>0,IF(Y131>($B$61/1000),Y131-($B$61/1000),0),IF(Y131>($B$54/1000),Y131-($B$54/1000),0)),IF(Input!AB102=0,0,Input!AB77))","v":6.25},{"$f":"IF($B$20>0,IF(Z84>0,IF(Z131>($B$61/1000),Z131-($B$61/1000),0),IF(Z131>($B$54/1000),Z131-($B$54/1000),0)),IF(Input!AC102=0,0,Input!AC77))","v":6.25},{"$f":"IF($B$20>0,IF(AA84>0,IF(AA131>($B$61/1000),AA131-($B$61/1000),0),IF(AA131>($B$54/1000),AA131-($B$54/1000),0)),IF(Input!AD102=0,0,Input!AD77))","v":6.25},{"$f":"IF($B$20>0,IF(AB84>0,IF(AB131>($B$61/1000),AB131-($B$61/1000),0),IF(AB131>($B$54/1000),AB131-($B$54/1000),0)),IF(Input!AE102=0,0,Input!AE77))","v":6.25},{"$f":"IF($B$20>0,IF(AC84>0,IF(AC131>($B$61/1000),AC131-($B$61/1000),0),IF(AC131>($B$54/1000),AC131-($B$54/1000),0)),IF(Input!AF102=0,0,Input!AF77))","v":6.25},{"$f":"IF($B$20>0,IF(AD84>0,IF(AD131>($B$61/1000),AD131-($B$61/1000),0),IF(AD131>($B$54/1000),AD131-($B$54/1000),0)),IF(Input!AG102=0,0,Input!AG77))","v":6.25},{"$f":"IF($B$20>0,IF(AE84>0,IF(AE131>($B$61/1000),AE131-($B$61/1000),0),IF(AE131>($B$54/1000),AE131-($B$54/1000),0)),IF(Input!AH102=0,0,Input!AH77))","v":6.25},{"$f":"IF($B$20>0,IF(AF84>0,IF(AF131>($B$61/1000),AF131-($B$61/1000),0),IF(AF131>($B$54/1000),AF131-($B$54/1000),0)),IF(Input!AI102=0,0,Input!AI77))","v":6.25},{"$f":"IF($B$20>0,IF(AG84>0,IF(AG131>($B$61/1000),AG131-($B$61/1000),0),IF(AG131>($B$54/1000),AG131-($B$54/1000),0)),IF(Input!AJ102=0,0,Input!AJ77))","v":6.25},{"$f":"IF($B$20>0,IF(AH84>0,IF(AH131>($B$61/1000),AH131-($B$61/1000),0),IF(AH131>($B$54/1000),AH131-($B$54/1000),0)),IF(Input!AK102=0,0,Input!AK77))","v":6.25},{"$f":"IF($B$20>0,IF(AI84>0,IF(AI131>($B$61/1000),AI131-($B$61/1000),0),IF(AI131>($B$54/1000),AI131-($B$54/1000),0)),IF(Input!AL102=0,0,Input!AL77))","v":6.25},{"$f":"IF($B$20>0,IF(AJ84>0,IF(AJ131>($B$61/1000),AJ131-($B$61/1000),0),IF(AJ131>($B$54/1000),AJ131-($B$54/1000),0)),IF(Input!AM102=0,0,Input!AM77))","v":6.25},{"$f":"IF($B$20>0,IF(AK84>0,IF(AK131>($B$61/1000),AK131-($B$61/1000),0),IF(AK131>($B$54/1000),AK131-($B$54/1000),0)),IF(Input!AN102=0,0,Input!AN77))","v":6.25},{"$f":"IF($B$20>0,IF(AL84>0,IF(AL131>($B$61/1000),AL131-($B$61/1000),0),IF(AL131>($B$54/1000),AL131-($B$54/1000),0)),IF(Input!AO102=0,0,Input!AO77))","v":6.25},{"$f":"IF($B$20>0,IF(AM84>0,IF(AM131>($B$61/1000),AM131-($B$61/1000),0),IF(AM131>($B$54/1000),AM131-($B$54/1000),0)),IF(Input!AP102=0,0,Input!AP77))","v":6.25},{"$f":"IF($B$20>0,IF(AN84>0,IF(AN131>($B$61/1000),AN131-($B$61/1000),0),IF(AN131>($B$54/1000),AN131-($B$54/1000),0)),IF(Input!AQ102=0,0,Input!AQ77))","v":6.25},{"$f":"IF($B$20>0,IF(AO84>0,IF(AO131>($B$61/1000),AO131-($B$61/1000),0),IF(AO131>($B$54/1000),AO131-($B$54/1000),0)),IF(Input!AR102=0,0,Input!AR77))","v":6.25},{"$f":"IF($B$20>0,IF(AP84>0,IF(AP131>($B$61/1000),AP131-($B$61/1000),0),IF(AP131>($B$54/1000),AP131-($B$54/1000),0)),IF(Input!AS102=0,0,Input!AS77))","v":6.25}]
[null,null,{"$f":"IF($B$20>0,IF(C85>0,IF(C132>($B$61/1000),C132-($B$61/1000),0),IF(C132>($B$54/1000),C132-($B$54/1000),0)),IF(Input!F103=0,0,Input!F78))","v":6.25},{"$f":"IF($B$20>0,IF(D85>0,IF(D132>($B$61/1000),D132-($B$61/1000),0),IF(D132>($B$54/1000),D132-($B$54/1000),0)),IF(Input!G103=0,0,Input!G78))","v":6.25},{"$f":"IF($B$20>0,IF(E85>0,IF(E132>($B$61/1000),E132-($B$61/1000),0),IF(E132>($B$54/1000),E132-($B$54/1000),0)),IF(Input!H103=0,0,Input!H78))","v":6.25},{"$f":"IF($B$20>0,IF(F85>0,IF(F132>($B$61/1000),F132-($B$61/1000),0),IF(F132>($B$54/1000),F132-($B$54/1000),0)),IF(Input!I103=0,0,Input!I78))","v":6.25},{"$f":"IF($B$20>0,IF(G85>0,IF(G132>($B$61/1000),G132-($B$61/1000),0),IF(G132>($B$54/1000),G132-($B$54/1000),0)),IF(Input!J103=0,0,Input!J78))","v":6.25},{"$f":"IF($B$20>0,IF(H85>0,IF(H132>($B$61/1000),H132-($B$61/1000),0),IF(H132>($B$54/1000),H132-($B$54/1000),0)),IF(Input!K103=0,0,Input!K78))","v":6.25},{"$f":"IF($B$20>0,IF(I85>0,IF(I132>($B$61/1000),I132-($B$61/1000),0),IF(I132>($B$54/1000),I132-($B$54/1000),0)),IF(Input!L103=0,0,Input!L78))","v":6.25},{"$f":"IF($B$20>0,IF(J85>0,IF(J132>($B$61/1000),J132-($B$61/1000),0),IF(J132>($B$54/1000),J132-($B$54/1000),0)),IF(Input!M103=0,0,Input!M78))","v":6.25},{"$f":"IF($B$20>0,IF(K85>0,IF(K132>($B$61/1000),K132-($B$61/1000),0),IF(K132>($B$54/1000),K132-($B$54/1000),0)),IF(Input!N103=0,0,Input!N78))","v":6.25},{"$f":"IF($B$20>0,IF(L85>0,IF(L132>($B$61/1000),L132-($B$61/1000),0),IF(L132>($B$54/1000),L132-($B$54/1000),0)),IF(Input!O103=0,0,Input!O78))","v":6.25},{"$f":"IF($B$20>0,IF(M85>0,IF(M132>($B$61/1000),M132-($B$61/1000),0),IF(M132>($B$54/1000),M132-($B$54/1000),0)),IF(Input!P103=0,0,Input!P78))","v":6.25},{"$f":"IF($B$20>0,IF(N85>0,IF(N132>($B$61/1000),N132-($B$61/1000),0),IF(N132>($B$54/1000),N132-($B$54/1000),0)),IF(Input!Q103=0,0,Input!Q78))","v":6.25},{"$f":"IF($B$20>0,IF(O85>0,IF(O132>($B$61/1000),O132-($B$61/1000),0),IF(O132>($B$54/1000),O132-($B$54/1000),0)),IF(Input!R103=0,0,Input!R78))","v":6.25},{"$f":"IF($B$20>0,IF(P85>0,IF(P132>($B$61/1000),P132-($B$61/1000),0),IF(P132>($B$54/1000),P132-($B$54/1000),0)),IF(Input!S103=0,0,Input!S78))","v":6.25},{"$f":"IF($B$20>0,IF(Q85>0,IF(Q132>($B$61/1000),Q132-($B$61/1000),0),IF(Q132>($B$54/1000),Q132-($B$54/1000),0)),IF(Input!T103=0,0,Input!T78))","v":6.25},{"$f":"IF($B$20>0,IF(R85>0,IF(R132>($B$61/1000),R132-($B$61/1000),0),IF(R132>($B$54/1000),R132-($B$54/1000),0)),IF(Input!U103=0,0,Input!U78))","v":6.25},{"$f":"IF($B$20>0,IF(S85>0,IF(S132>($B$61/1000),S132-($B$61/1000),0),IF(S132>($B$54/1000),S132-($B$54/1000),0)),IF(Input!V103=0,0,Input!V78))","v":6.25},{"$f":"IF($B$20>0,IF(T85>0,IF(T132>($B$61/1000),T132-($B$61/1000),0),IF(T132>($B$54/1000),T132-($B$54/1000),0)),IF(Input!W103=0,0,Input!W78))","v":6.25},{"$f":"IF($B$20>0,IF(U85>0,IF(U132>($B$61/1000),U132-($B$61/1000),0),IF(U132>($B$54/1000),U132-($B$54/1000),0)),IF(Input!X103=0,0,Input!X78))","v":6.25},{"$f":"IF($B$20>0,IF(V85>0,IF(V132>($B$61/1000),V132-($B$61/1000),0),IF(V132>($B$54/1000),V132-($B$54/1000),0)),IF(Input!Y103=0,0,Input!Y78))","v":6.25},{"$f":"IF($B$20>0,IF(W85>0,IF(W132>($B$61/1000),W132-($B$61/1000),0),IF(W132>($B$54/1000),W132-($B$54/1000),0)),IF(Input!Z103=0,0,Input!Z78))","v":6.25},{"$f":"IF($B$20>0,IF(X85>0,IF(X132>($B$61/1000),X132-($B$61/1000),0),IF(X132>($B$54/1000),X132-($B$54/1000),0)),IF(Input!AA103=0,0,Input!AA78))","v":6.25},{"$f":"IF($B$20>0,IF(Y85>0,IF(Y132>($B$61/1000),Y132-($B$61/1000),0),IF(Y132>($B$54/1000),Y132-($B$54/1000),0)),IF(Input!AB103=0,0,Input!AB78))","v":6.25},{"$f":"IF($B$20>0,IF(Z85>0,IF(Z132>($B$61/1000),Z132-($B$61/1000),0),IF(Z132>($B$54/1000),Z132-($B$54/1000),0)),IF(Input!AC103=0,0,Input!AC78))","v":6.25},{"$f":"IF($B$20>0,IF(AA85>0,IF(AA132>($B$61/1000),AA132-($B$61/1000),0),IF(AA132>($B$54/1000),AA132-($B$54/1000),0)),IF(Input!AD103=0,0,Input!AD78))","v":6.25},{"$f":"IF($B$20>0,IF(AB85>0,IF(AB132>($B$61/1000),AB132-($B$61/1000),0),IF(AB132>($B$54/1000),AB132-($B$54/1000),0)),IF(Input!AE103=0,0,Input!AE78))","v":6.25},{"$f":"IF($B$20>0,IF(AC85>0,IF(AC132>($B$61/1000),AC132-($B$61/1000),0),IF(AC132>($B$54/1000),AC132-($B$54/1000),0)),IF(Input!AF103=0,0,Input!AF78))","v":6.25},{"$f":"IF($B$20>0,IF(AD85>0,IF(AD132>($B$61/1000),AD132-($B$61/1000),0),IF(AD132>($B$54/1000),AD132-($B$54/1000),0)),IF(Input!AG103=0,0,Input!AG78))","v":6.25},{"$f":"IF($B$20>0,IF(AE85>0,IF(AE132>($B$61/1000),AE132-($B$61/1000),0),IF(AE132>($B$54/1000),AE132-($B$54/1000),0)),IF(Input!AH103=0,0,Input!AH78))","v":6.25},{"$f":"IF($B$20>0,IF(AF85>0,IF(AF132>($B$61/1000),AF132-($B$61/1000),0),IF(AF132>($B$54/1000),AF132-($B$54/1000),0)),IF(Input!AI103=0,0,Input!AI78))","v":6.25},{"$f":"IF($B$20>0,IF(AG85>0,IF(AG132>($B$61/1000),AG132-($B$61/1000),0),IF(AG132>($B$54/1000),AG132-($B$54/1000),0)),IF(Input!AJ103=0,0,Input!AJ78))","v":6.25},{"$f":"IF($B$20>0,IF(AH85>0,IF(AH132>($B$61/1000),AH132-($B$61/1000),0),IF(AH132>($B$54/1000),AH132-($B$54/1000),0)),IF(Input!AK103=0,0,Input!AK78))","v":6.25},{"$f":"IF($B$20>0,IF(AI85>0,IF(AI132>($B$61/1000),AI132-($B$61/1000),0),IF(AI132>($B$54/1000),AI132-($B$54/1000),0)),IF(Input!AL103=0,0,Input!AL78))","v":6.25},{"$f":"IF($B$20>0,IF(AJ85>0,IF(AJ132>($B$61/1000),AJ132-($B$61/1000),0),IF(AJ132>($B$54/1000),AJ132-($B$54/1000),0)),IF(Input!AM103=0,0,Input!AM78))","v":6.25},{"$f":"IF($B$20>0,IF(AK85>0,IF(AK132>($B$61/1000),AK132-($B$61/1000),0),IF(AK132>($B$54/1000),AK132-($B$54/1000),0)),IF(Input!AN103=0,0,Input!AN78))","v":6.25},{"$f":"IF($B$20>0,IF(AL85>0,IF(AL132>($B$61/1000),AL132-($B$61/1000),0),IF(AL132>($B$54/1000),AL132-($B$54/1000),0)),IF(Input!AO103=0,0,Input!AO78))","v":6.25},{"$f":"IF($B$20>0,IF(AM85>0,IF(AM132>($B$61/1000),AM132-($B$61/1000),0),IF(AM132>($B$54/1000),AM132-($B$54/1000),0)),IF(Input!AP103=0,0,Input!AP78))","v":6.25},{"$f":"IF($B$20>0,IF(AN85>0,IF(AN132>($B$61/1000),AN132-($B$61/1000),0),IF(AN132>($B$54/1000),AN132-($B$54/1000),0)),IF(Input!AQ103=0,0,Input!AQ78))","v":6.25},{"$f":"IF($B$20>0,IF(AO85>0,IF(AO132>($B$61/1000),AO132-($B$61/1000),0),IF(AO132>($B$54/1000),AO132-($B$54/1000),0)),IF(Input!AR103=0,0,Input!AR78))","v":6.25},{"$f":"IF($B$20>0,IF(AP85>0,IF(AP132>($B$61/1000),AP132-($B$61/1000),0),IF(AP132>($B$54/1000),AP132-($B$54/1000),0)),IF(Input!AS103=0,0,Input!AS78))","v":6.25}]
[null,null,{"$f":"IF($B$20>0,IF(C86>0,IF(C133>($B$61/1000),C133-($B$61/1000),0),IF(C133>($B$54/1000),C133-($B$54/1000),0)),IF(Input!F104=0,0,Input!F79))","v":6.25},{"$f":"IF($B$20>0,IF(D86>0,IF(D133>($B$61/1000),D133-($B$61/1000),0),IF(D133>($B$54/1000),D133-($B$54/1000),0)),IF(Input!G104=0,0,Input!G79))","v":6.25},{"$f":"IF($B$20>0,IF(E86>0,IF(E133>($B$61/1000),E133-($B$61/1000),0),IF(E133>($B$54/1000),E133-($B$54/1000),0)),IF(Input!H104=0,0,Input!H79))","v":6.25},{"$f":"IF($B$20>0,IF(F86>0,IF(F133>($B$61/1000),F133-($B$61/1000),0),IF(F133>($B$54/1000),F133-($B$54/1000),0)),IF(Input!I104=0,0,Input!I79))","v":6.25},{"$f":"IF($B$20>0,IF(G86>0,IF(G133>($B$61/1000),G133-($B$61/1000),0),IF(G133>($B$54/1000),G133-($B$54/1000),0)),IF(Input!J104=0,0,Input!J79))","v":6.25},{"$f":"IF($B$20>0,IF(H86>0,IF(H133>($B$61/1000),H133-($B$61/1000),0),IF(H133>($B$54/1000),H133-($B$54/1000),0)),IF(Input!K104=0,0,Input!K79))","v":6.25},{"$f":"IF($B$20>0,IF(I86>0,IF(I133>($B$61/1000),I133-($B$61/1000),0),IF(I133>($B$54/1000),I133-($B$54/1000),0)),IF(Input!L104=0,0,Input!L79))","v":6.25},{"$f":"IF($B$20>0,IF(J86>0,IF(J133>($B$61/1000),J133-($B$61/1000),0),IF(J133>($B$54/1000),J133-($B$54/1000),0)),IF(Input!M104=0,0,Input!M79))","v":6.25},{"$f":"IF($B$20>0,IF(K86>0,IF(K133>($B$61/1000),K133-($B$61/1000),0),IF(K133>($B$54/1000),K133-($B$54/1000),0)),IF(Input!N104=0,0,Input!N79))","v":6.25},{"$f":"IF($B$20>0,IF(L86>0,IF(L133>($B$61/1000),L133-($B$61/1000),0),IF(L133>($B$54/1000),L133-($B$54/1000),0)),IF(Input!O104=0,0,Input!O79))","v":6.25},{"$f":"IF($B$20>0,IF(M86>0,IF(M133>($B$61/1000),M133-($B$61/1000),0),IF(M133>($B$54/1000),M133-($B$54/1000),0)),IF(Input!P104=0,0,Input!P79))","v":6.25},{"$f":"IF($B$20>0,IF(N86>0,IF(N133>($B$61/1000),N133-($B$61/1000),0),IF(N133>($B$54/1000),N133-($B$54/1000),0)),IF(Input!Q104=0,0,Input!Q79))","v":6.25},{"$f":"IF($B$20>0,IF(O86>0,IF(O133>($B$61/1000),O133-($B$61/1000),0),IF(O133>($B$54/1000),O133-($B$54/1000),0)),IF(Input!R104=0,0,Input!R79))","v":6.25},{"$f":"IF($B$20>0,IF(P86>0,IF(P133>($B$61/1000),P133-($B$61/1000),0),IF(P133>($B$54/1000),P133-($B$54/1000),0)),IF(Input!S104=0,0,Input!S79))","v":6.25},{"$f":"IF($B$20>0,IF(Q86>0,IF(Q133>($B$61/1000),Q133-($B$61/1000),0),IF(Q133>($B$54/1000),Q133-($B$54/1000),0)),IF(Input!T104=0,0,Input!T79))","v":6.25},{"$f":"IF($B$20>0,IF(R86>0,IF(R133>($B$61/1000),R133-($B$61/1000),0),IF(R133>($B$54/1000),R133-($B$54/1000),0)),IF(Input!U104=0,0,Input!U79))","v":6.25},{"$f":"IF($B$20>0,IF(S86>0,IF(S133>($B$61/1000),S133-($B$61/1000),0),IF(S133>($B$54/1000),S133-($B$54/1000),0)),IF(Input!V104=0,0,Input!V79))","v":6.25},{"$f":"IF($B$20>0,IF(T86>0,IF(T133>($B$61/1000),T133-($B$61/1000),0),IF(T133>($B$54/1000),T133-($B$54/1000),0)),IF(Input!W104=0,0,Input!W79))","v":6.25},{"$f":"IF($B$20>0,IF(U86>0,IF(U133>($B$61/1000),U133-($B$61/1000),0),IF(U133>($B$54/1000),U133-($B$54/1000),0)),IF(Input!X104=0,0,Input!X79))","v":6.25},{"$f":"IF($B$20>0,IF(V86>0,IF(V133>($B$61/1000),V133-($B$61/1000),0),IF(V133>($B$54/1000),V133-($B$54/1000),0)),IF(Input!Y104=0,0,Input!Y79))","v":6.25},{"$f":"IF($B$20>0,IF(W86>0,IF(W133>($B$61/1000),W133-($B$61/1000),0),IF(W133>($B$54/1000),W133-($B$54/1000),0)),IF(Input!Z104=0,0,Input!Z79))","v":6.25},{"$f":"IF($B$20>0,IF(X86>0,IF(X133>($B$61/1000),X133-($B$61/1000),0),IF(X133>($B$54/1000),X133-($B$54/1000),0)),IF(Input!AA104=0,0,Input!AA79))","v":6.25},{"$f":"IF($B$20>0,IF(Y86>0,IF(Y133>($B$61/1000),Y133-($B$61/1000),0),IF(Y133>($B$54/1000),Y133-($B$54/1000),0)),IF(Input!AB104=0,0,Input!AB79))","v":6.25},{"$f":"IF($B$20>0,IF(Z86>0,IF(Z133>($B$61/1000),Z133-($B$61/1000),0),IF(Z133>($B$54/1000),Z133-($B$54/1000),0)),IF(Input!AC104=0,0,Input!AC79))","v":6.25},{"$f":"IF($B$20>0,IF(AA86>0,IF(AA133>($B$61/1000),AA133-($B$61/1000),0),IF(AA133>($B$54/1000),AA133-($B$54/1000),0)),IF(Input!AD104=0,0,Input!AD79))","v":6.25},{"$f":"IF($B$20>0,IF(AB86>0,IF(AB133>($B$61/1000),AB133-($B$61/1000),0),IF(AB133>($B$54/1000),AB133-($B$54/1000),0)),IF(Input!AE104=0,0,Input!AE79))","v":6.25},{"$f":"IF($B$20>0,IF(AC86>0,IF(AC133>($B$61/1000),AC133-($B$61/1000),0),IF(AC133>($B$54/1000),AC133-($B$54/1000),0)),IF(Input!AF104=0,0,Input!AF79))","v":6.25},{"$f":"IF($B$20>0,IF(AD86>0,IF(AD133>($B$61/1000),AD133-($B$61/1000),0),IF(AD133>($B$54/1000),AD133-($B$54/1000),0)),IF(Input!AG104=0,0,Input!AG79))","v":6.25},{"$f":"IF($B$20>0,IF(AE86>0,IF(AE133>($B$61/1000),AE133-($B$61/1000),0),IF(AE133>($B$54/1000),AE133-($B$54/1000),0)),IF(Input!AH104=0,0,Input!AH79))","v":6.25},{"$f":"IF($B$20>0,IF(AF86>0,IF(AF133>($B$61/1000),AF133-($B$61/1000),0),IF(AF133>($B$54/1000),AF133-($B$54/1000),0)),IF(Input!AI104=0,0,Input!AI79))","v":6.25},{"$f":"IF($B$20>0,IF(AG86>0,IF(AG133>($B$61/1000),AG133-($B$61/1000),0),IF(AG133>($B$54/1000),AG133-($B$54/1000),0)),IF(Input!AJ104=0,0,Input!AJ79))","v":6.25},{"$f":"IF($B$20>0,IF(AH86>0,IF(AH133>($B$61/1000),AH133-($B$61/1000),0),IF(AH133>($B$54/1000),AH133-($B$54/1000),0)),IF(Input!AK104=0,0,Input!AK79))","v":6.25},{"$f":"IF($B$20>0,IF(AI86>0,IF(AI133>($B$61/1000),AI133-($B$61/1000),0),IF(AI133>($B$54/1000),AI133-($B$54/1000),0)),IF(Input!AL104=0,0,Input!AL79))","v":6.25},{"$f":"IF($B$20>0,IF(AJ86>0,IF(AJ133>($B$61/1000),AJ133-($B$61/1000),0),IF(AJ133>($B$54/1000),AJ133-($B$54/1000),0)),IF(Input!AM104=0,0,Input!AM79))","v":6.25},{"$f":"IF($B$20>0,IF(AK86>0,IF(AK133>($B$61/1000),AK133-($B$61/1000),0),IF(AK133>($B$54/1000),AK133-($B$54/1000),0)),IF(Input!AN104=0,0,Input!AN79))","v":6.25},{"$f":"IF($B$20>0,IF(AL86>0,IF(AL133>($B$61/1000),AL133-($B$61/1000),0),IF(AL133>($B$54/1000),AL133-($B$54/1000),0)),IF(Input!AO104=0,0,Input!AO79))","v":6.25},{"$f":"IF($B$20>0,IF(AM86>0,IF(AM133>($B$61/1000),AM133-($B$61/1000),0),IF(AM133>($B$54/1000),AM133-($B$54/1000),0)),IF(Input!AP104=0,0,Input!AP79))","v":6.25},{"$f":"IF($B$20>0,IF(AN86>0,IF(AN133>($B$61/1000),AN133-($B$61/1000),0),IF(AN133>($B$54/1000),AN133-($B$54/1000),0)),IF(Input!AQ104=0,0,Input!AQ79))","v":6.25},{"$f":"IF($B$20>0,IF(AO86>0,IF(AO133>($B$61/1000),AO133-($B$61/1000),0),IF(AO133>($B$54/1000),AO133-($B$54/1000),0)),IF(Input!AR104=0,0,Input!AR79))","v":6.25},{"$f":"IF($B$20>0,IF(AP86>0,IF(AP133>($B$61/1000),AP133-($B$61/1000),0),IF(AP133>($B$54/1000),AP133-($B$54/1000),0)),IF(Input!AS104=0,0,Input!AS79))","v":6.25}]
[null,null,{"$f":"IF($B$20>0,IF(C87>0,IF(C134>($B$61/1000),C134-($B$61/1000),0),IF(C134>($B$54/1000),C134-($B$54/1000),0)),IF(Input!F105=0,0,Input!F80))","v":6.25},{"$f":"IF($B$20>0,IF(D87>0,IF(D134>($B$61/1000),D134-($B$61/1000),0),IF(D134>($B$54/1000),D134-($B$54/1000),0)),IF(Input!G105=0,0,Input!G80))","v":6.25},{"$f":"IF($B$20>0,IF(E87>0,IF(E134>($B$61/1000),E134-($B$61/1000),0),IF(E134>($B$54/1000),E134-($B$54/1000),0)),IF(Input!H105=0,0,Input!H80))","v":6.25},{"$f":"IF($B$20>0,IF(F87>0,IF(F134>($B$61/1000),F134-($B$61/1000),0),IF(F134>($B$54/1000),F134-($B$54/1000),0)),IF(Input!I105=0,0,Input!I80))","v":6.25},{"$f":"IF($B$20>0,IF(G87>0,IF(G134>($B$61/1000),G134-($B$61/1000),0),IF(G134>($B$54/1000),G134-($B$54/1000),0)),IF(Input!J105=0,0,Input!J80))","v":6.25},{"$f":"IF($B$20>0,IF(H87>0,IF(H134>($B$61/1000),H134-($B$61/1000),0),IF(H134>($B$54/1000),H134-($B$54/1000),0)),IF(Input!K105=0,0,Input!K80))","v":6.25},{"$f":"IF($B$20>0,IF(I87>0,IF(I134>($B$61/1000),I134-($B$61/1000),0),IF(I134>($B$54/1000),I134-($B$54/1000),0)),IF(Input!L105=0,0,Input!L80))","v":6.25},{"$f":"IF($B$20>0,IF(J87>0,IF(J134>($B$61/1000),J134-($B$61/1000),0),IF(J134>($B$54/1000),J134-($B$54/1000),0)),IF(Input!M105=0,0,Input!M80))","v":6.25},{"$f":"IF($B$20>0,IF(K87>0,IF(K134>($B$61/1000),K134-($B$61/1000),0),IF(K134>($B$54/1000),K134-($B$54/1000),0)),IF(Input!N105=0,0,Input!N80))","v":6.25},{"$f":"IF($B$20>0,IF(L87>0,IF(L134>($B$61/1000),L134-($B$61/1000),0),IF(L134>($B$54/1000),L134-($B$54/1000),0)),IF(Input!O105=0,0,Input!O80))","v":6.25},{"$f":"IF($B$20>0,IF(M87>0,IF(M134>($B$61/1000),M134-($B$61/1000),0),IF(M134>($B$54/1000),M134-($B$54/1000),0)),IF(Input!P105=0,0,Input!P80))","v":6.25},{"$f":"IF($B$20>0,IF(N87>0,IF(N134>($B$61/1000),N134-($B$61/1000),0),IF(N134>($B$54/1000),N134-($B$54/1000),0)),IF(Input!Q105=0,0,Input!Q80))","v":6.25},{"$f":"IF($B$20>0,IF(O87>0,IF(O134>($B$61/1000),O134-($B$61/1000),0),IF(O134>($B$54/1000),O134-($B$54/1000),0)),IF(Input!R105=0,0,Input!R80))","v":6.25},{"$f":"IF($B$20>0,IF(P87>0,IF(P134>($B$61/1000),P134-($B$61/1000),0),IF(P134>($B$54/1000),P134-($B$54/1000),0)),IF(Input!S105=0,0,Input!S80))","v":6.25},{"$f":"IF($B$20>0,IF(Q87>0,IF(Q134>($B$61/1000),Q134-($B$61/1000),0),IF(Q134>($B$54/1000),Q134-($B$54/1000),0)),IF(Input!T105=0,0,Input!T80))","v":6.25},{"$f":"IF($B$20>0,IF(R87>0,IF(R134>($B$61/1000),R134-($B$61/1000),0),IF(R134>($B$54/1000),R134-($B$54/1000),0)),IF(Input!U105=0,0,Input!U80))","v":6.25},{"$f":"IF($B$20>0,IF(S87>0,IF(S134>($B$61/1000),S134-($B$61/1000),0),IF(S134>($B$54/1000),S134-($B$54/1000),0)),IF(Input!V105=0,0,Input!V80))","v":6.25},{"$f":"IF($B$20>0,IF(T87>0,IF(T134>($B$61/1000),T134-($B$61/1000),0),IF(T134>($B$54/1000),T134-($B$54/1000),0)),IF(Input!W105=0,0,Input!W80))","v":6.25},{"$f":"IF($B$20>0,IF(U87>0,IF(U134>($B$61/1000),U134-($B$61/1000),0),IF(U134>($B$54/1000),U134-($B$54/1000),0)),IF(Input!X105=0,0,Input!X80))","v":6.25},{"$f":"IF($B$20>0,IF(V87>0,IF(V134>($B$61/1000),V134-($B$61/1000),0),IF(V134>($B$54/1000),V134-($B$54/1000),0)),IF(Input!Y105=0,0,Input!Y80))","v":6.25},{"$f":"IF($B$20>0,IF(W87>0,IF(W134>($B$61/1000),W134-($B$61/1000),0),IF(W134>($B$54/1000),W134-($B$54/1000),0)),IF(Input!Z105=0,0,Input!Z80))","v":6.25},{"$f":"IF($B$20>0,IF(X87>0,IF(X134>($B$61/1000),X134-($B$61/1000),0),IF(X134>($B$54/1000),X134-($B$54/1000),0)),IF(Input!AA105=0,0,Input!AA80))","v":6.25},{"$f":"IF($B$20>0,IF(Y87>0,IF(Y134>($B$61/1000),Y134-($B$61/1000),0),IF(Y134>($B$54/1000),Y134-($B$54/1000),0)),IF(Input!AB105=0,0,Input!AB80))","v":6.25},{"$f":"IF($B$20>0,IF(Z87>0,IF(Z134>($B$61/1000),Z134-($B$61/1000),0),IF(Z134>($B$54/1000),Z134-($B$54/1000),0)),IF(Input!AC105=0,0,Input!AC80))","v":6.25},{"$f":"IF($B$20>0,IF(AA87>0,IF(AA134>($B$61/1000),AA134-($B$61/1000),0),IF(AA134>($B$54/1000),AA134-($B$54/1000),0)),IF(Input!AD105=0,0,Input!AD80))","v":6.25},{"$f":"IF($B$20>0,IF(AB87>0,IF(AB134>($B$61/1000),AB134-($B$61/1000),0),IF(AB134>($B$54/1000),AB134-($B$54/1000),0)),IF(Input!AE105=0,0,Input!AE80))","v":6.25},{"$f":"IF($B$20>0,IF(AC87>0,IF(AC134>($B$61/1000),AC134-($B$61/1000),0),IF(AC134>($B$54/1000),AC134-($B$54/1000),0)),IF(Input!AF105=0,0,Input!AF80))","v":6.25},{"$f":"IF($B$20>0,IF(AD87>0,IF(AD134>($B$61/1000),AD134-($B$61/1000),0),IF(AD134>($B$54/1000),AD134-($B$54/1000),0)),IF(Input!AG105=0,0,Input!AG80))","v":6.25},{"$f":"IF($B$20>0,IF(AE87>0,IF(AE134>($B$61/1000),AE134-($B$61/1000),0),IF(AE134>($B$54/1000),AE134-($B$54/1000),0)),IF(Input!AH105=0,0,Input!AH80))","v":6.25},{"$f":"IF($B$20>0,IF(AF87>0,IF(AF134>($B$61/1000),AF134-($B$61/1000),0),IF(AF134>($B$54/1000),AF134-($B$54/1000),0)),IF(Input!AI105=0,0,Input!AI80))","v":6.25},{"$f":"IF($B$20>0,IF(AG87>0,IF(AG134>($B$61/1000),AG134-($B$61/1000),0),IF(AG134>($B$54/1000),AG134-($B$54/1000),0)),IF(Input!AJ105=0,0,Input!AJ80))","v":6.25},{"$f":"IF($B$20>0,IF(AH87>0,IF(AH134>($B$61/1000),AH134-($B$61/1000),0),IF(AH134>($B$54/1000),AH134-($B$54/1000),0)),IF(Input!AK105=0,0,Input!AK80))","v":6.25},{"$f":"IF($B$20>0,IF(AI87>0,IF(AI134>($B$61/1000),AI134-($B$61/1000),0),IF(AI134>($B$54/1000),AI134-($B$54/1000),0)),IF(Input!AL105=0,0,Input!AL80))","v":6.25},{"$f":"IF($B$20>0,IF(AJ87>0,IF(AJ134>($B$61/1000),AJ134-($B$61/1000),0),IF(AJ134>($B$54/1000),AJ134-($B$54/1000),0)),IF(Input!AM105=0,0,Input!AM80))","v":6.25},{"$f":"IF($B$20>0,IF(AK87>0,IF(AK134>($B$61/1000),AK134-($B$61/1000),0),IF(AK134>($B$54/1000),AK134-($B$54/1000),0)),IF(Input!AN105=0,0,Input!AN80))","v":6.25},{"$f":"IF($B$20>0,IF(AL87>0,IF(AL134>($B$61/1000),AL134-($B$61/1000),0),IF(AL134>($B$54/1000),AL134-($B$54/1000),0)),IF(Input!AO105=0,0,Input!AO80))","v":6.25},{"$f":"IF($B$20>0,IF(AM87>0,IF(AM134>($B$61/1000),AM134-($B$61/1000),0),IF(AM134>($B$54/1000),AM134-($B$54/1000),0)),IF(Input!AP105=0,0,Input!AP80))","v":6.25},{"$f":"IF($B$20>0,IF(AN87>0,IF(AN134>($B$61/1000),AN134-($B$61/1000),0),IF(AN134>($B$54/1000),AN134-($B$54/1000),0)),IF(Input!AQ105=0,0,Input!AQ80))","v":6.25},{"$f":"IF($B$20>0,IF(AO87>0,IF(AO134>($B$61/1000),AO134-($B$61/1000),0),IF(AO134>($B$54/1000),AO134-($B$54/1000),0)),IF(Input!AR105=0,0,Input!AR80))","v":6.25},{"$f":"IF($B$20>0,IF(AP87>0,IF(AP134>($B$61/1000),AP134-($B$61/1000),0),IF(AP134>($B$54/1000),AP134-($B$54/1000),0)),IF(Input!AS105=0,0,Input!AS80))","v":6.25}]
[]
[]
[]
[]
[]
["Interim Vertical-Downward-Flow-Proportion Map",null,{"$f":"Input!F111","v":0.95},{"$f":"Input!G111","v":0.95},{"$f":"Input!H111","v":0.95},{"$f":"Input!I111","v":0.95},{"$f":"Input!J111","v":0.95},{"$f":"Input!K111","v":0.95},{"$f":"Input!L111","v":0.95},{"$f":"Input!M111","v":0.95},{"$f":"Input!N111","v":0.95},{"$f":"Input!O111","v":0.95},{"$f":"Input!P111","v":0.95},{"$f":"Input!Q111","v":0.95},{"$f":"Input!R111","v":0.95},{"$f":"Input!S111","v":0.95},{"$f":"Input!T111","v":0.95},{"$f":"Input!U111","v":0.95},{"$f":"Input!V111","v":0.95},{"$f":"Input!W111","v":0.95},{"$f":"Input!X111","v":0.95},{"$f":"Input!Y111","v":0.95},{"$f":"Input!Z111","v":0.95},{"$f":"Input!AA111","v":0.95},{"$f":"Input!AB111","v":0.95},{"$f":"Input!AC111","v":0.95},{"$f":"Input!AD111","v":0.95},{"$f":"Input!AE111","v":0.95},{"$f":"Input!AF111","v":0.95},{"$f":"Input!AG111","v":0.95},{"$f":"Input!AH111","v":0.95},{"$f":"Input!AI111","v":0.95},{"$f":"Input!AJ111","v":0.95},{"$f":"Input!AK111","v":0.95},{"$f":"Input!AL111","v":0.95},{"$f":"Input!AM111","v":0.95},{"$f":"Input!AN111","v":0.95},{"$f":"Input!AO111","v":0.95},{"$f":"Input!AP111","v":0.95},{"$f":"Input!AQ111","v":0.95},{"$f":"Input!AR111","v":0.95},{"$f":"Input!AS111","v":0.95}]
[null,null,{"$f":"Input!F112","v":0.95},{"$f":"Input!G112","v":0.95},{"$f":"Input!H112","v":0.95},{"$f":"Input!I112","v":0.95},{"$f":"Input!J112","v":0.95},{"$f":"Input!K112","v":0.95},{"$f":"Input!L112","v":0.95},{"$f":"Input!M112","v":0.95},{"$f":"Input!N112","v":0.95},{"$f":"Input!O112","v":0.95},{"$f":"Input!P112","v":0.95},{"$f":"Input!Q112","v":0.95},{"$f":"Input!R112","v":0.95},{"$f":"Input!S112","v":0.95},{"$f":"Input!T112","v":0.95},{"$f":"Input!U112","v":0.95},{"$f":"Input!V112","v":0.95},{"$f":"Input!W112","v":0.95},{"$f":"Input!X112","v":0.95},{"$f":"Input!Y112","v":0.95},{"$f":"Input!Z112","v":0.95},{"$f":"Input!AA112","v":0.95},{"$f":"Input!AB112","v":0.95},{"$f":"Input!AC112","v":0.95},{"$f":"Input!AD112","v":0.95},{"$f":"Input!AE112","v":0.95},{"$f":"Input!AF112","v":0.95},{"$f":"Input!AG112","v":0.95},{"$f":"Input!AH112","v":0.95},{"$f":"Input!AI112","v":0.95},{"$f":"Input!AJ112","v":0.95},{"$f":"Input!AK112","v":0.95},{"$f":"Input!AL112","v":0.95},{"$f":"Input!AM112","v":0.95},{"$f":"Input!AN112","v":0.95},{"$f":"Input!AO112","v":0.95},{"$f":"Input!AP112","v":0.95},{"$f":"Input!AQ112","v":0.95},{"$f":"Input!AR112","v":0.95},{"$f":"Input!AS112","v":0.95}]
[null,null,{"$f":"Input!F113","v":0.95},{"$f":"Input!G113","v":0.95},{"$f":"Input!H113","v":0.95},{"$f":"Input!I113","v":0.95},{"$f":"Input!J113","v":0.95},{"$f":"Input!K113","v":0.95},{"$f":"Input!L113","v":0.95},{"$f":"Input!M113","v":0.95},{"$f":"Input!N113","v":0.95},{"$f":"Input!O113","v":0.95},{"$f":"Input!P113","v":0.95},{"$f":"Input!Q113","v":0.95},{"$f":"Input!R113","v":0.95},{"$f":"Input!S113","v":0.95},{"$f":"Input!T113","v":0.95},{"$f":"Input!U113","v":0.95},{"$f":"Input!V113","v":0.95},{"$f":"Input!W113","v":0.95},{"$f":"Input!X113","v":0.95},{"$f":"Input!Y113","v":0.95},{"$f":"Input!Z113","v":0.95},{"$f":"Input!AA113","v":0.95},{"$f":"Input!AB113","v":0.95},{"$f":"Input!AC113","v":0.95},{"$f":"Input!AD113","v":0.95},{"$f":"Input!AE113","v":0.95},{"$f":"Input!AF113","v":0.95},{"$f":"Input!AG113","v":0.95},{"$f":"Input!AH113","v":0.95},{"$f":"Input!AI113","v":0.95},{"$f":"Input!AJ113","v":0.95},{"$f":"Input!AK113","v":0.95},{"$f":"Input!AL113","v":0.95},{"$f":"Input!AM113","v":0.95},{"$f":"Input!AN113","v":0.95},{"$f":"Input!AO113","v":0.95},{"$f":"Input!AP113","v":0.95},{"$f":"Input!AQ113","v":0.95},{"$f":"Input!AR113","v":0.95},{"$f":"Input!AS113","v":0.95}]
[null,null,{"$f":"Input!F114","v":0.95},{"$f":"Input!G114","v":0.95},{"$f":"Input!H114","v":0.95},{"$f":"Input!I114","v":0.95},{"$f":"Input!J114","v":0.95},{"$f":"Input!K114","v":0.95},{"$f":"Input!L114","v":0.95},{"$f":"Input!M114","v":0.95},{"$f":"Input!N114","v":0.95},{"$f":"Input!O114","v":0.95},{"$f":"Input!P114","v":0.95},{"$f":"Input!Q114","v":0.95},{"$f":"Input!R114","v":0.95},{"$f":"Input!S114","v":0.95},{"$f":"Input!T114","v":0.95},{"$f":"Input!U114","v":0.95},{"$f":"Input!V114","v":0.95},{"$f":"Input!W114","v":0.95},{"$f":"Input!X114","v":0.95},{"$f":"Input!Y114","v":0.95},{"$f":"Input!Z114","v":0.95},{"$f":"Input!AA114","v":0.95},{"$f":"Input!AB114","v":0.95},{"$f":"Input!AC114","v":0.95},{"$f":"Input!AD114","v":0.95},{"$f":"Input!AE114","v":0.95},{"$f":"Input!AF114","v":0.95},{"$f":"Input!AG114","v":0.95},{"$f":"Input!AH114","v":0.95},{"$f":"Input!AI114","v":0.95},{"$f":"Input!AJ114","v":0.95},{"$f":"Input!AK114","v":0.95},{"$f":"Input!AL114","v":0.95},{"$f":"Input!AM114","v":0.95},{"$f":"Input!AN114","v":0.95},{"$f":"Input!AO114","v":0.95},{"$f":"Input!AP114","v":0.95},{"$f":"Input!AQ114","v":0.95},{"$f":"Input!AR114","v":0.95},{"$f":"Input!AS114","v":0.95}]
[null,null,{"$f":"Input!F115","v":0.95},{"$f":"Input!G115","v":0.95},{"$f":"Input!H115","v":0.95},{"$f":"Input!I115","v":0.95},{"$f":"Input!J115","v":0.95},{"$f":"Input!K115","v":0.95},{"$f":"Input!L115","v":0.95},{"$f":"Input!M115","v":0.95},{"$f":"Input!N115","v":0.95},{"$f":"Input!O115","v":0.95},{"$f":"Input!P115","v":0.95},{"$f":"Input!Q115","v":0.95},{"$f":"Input!R115","v":0.95},{"$f":"Input!S115","v":0.95},{"$f":"Input!T115","v":0.95},{"$f":"Input!U115","v":0.95},{"$f":"Input!V115","v":0.95},{"$f":"Input!W115","v":0.95},{"$f":"Input!X115","v":0.95},{"$f":"Input!Y115","v":0.95},{"$f":"Input!Z115","v":0.95},{"$f":"Input!AA115","v":0.95},{"$f":"Input!AB115","v":0.95},{"$f":"Input!AC115","v":0.95},{"$f":"Input!AD115","v":0.95},{"$f":"Input!AE115","v":0.95},{"$f":"Input!AF115","v":0.95},{"$f":"Input!AG115","v":0.95},{"$f":"Input!AH115","v":0.95},{"$f":"Input!AI115","v":0.95},{"$f":"Input!AJ115","v":0.95},{"$f":"Input!AK115","v":0.95},{"$f":"Input!AL115","v":0.95},{"$f":"Input!AM115","v":0.95},{"$f":"Input!AN115","v":0.95},{"$f":"Input!AO115","v":0.95},{"$f":"Input!AP115","v":0.95},{"$f":"Input!AQ115","v":0.95},{"$f":"Input!AR115","v":0.95},{"$f":"Input!AS115","v":0.95}]
[null,null,{"$f":"Input!F116","v":0.95},{"$f":"Input!G116","v":0.95},{"$f":"Input!H116","v":0.95},{"$f":"Input!I116","v":0.95},{"$f":"Input!J116","v":0.95},{"$f":"Input!K116","v":0.95},{"$f":"Input!L116","v":0.95},{"$f":"Input!M116","v":0.95},{"$f":"Input!N116","v":0.95},{"$f":"Input!O116","v":0.95},{"$f":"Input!P116","v":0.95},{"$f":"Input!Q116","v":0.95},{"$f":"Input!R116","v":0.95},{"$f":"Input!S116","v":0.95},{"$f":"Input!T116","v":0.95},{"$f":"Input!U116","v":0.95},{"$f":"Input!V116","v":0.95},{"$f":"Input!W116","v":0.95},{"$f":"Input!X116","v":0.95},{"$f":"Input!Y116","v":0.95},{"$f":"Input!Z116","v":0.95},{"$f":"Input!AA116","v":0.95},{"$f":"Input!AB116","v":0.95},{"$f":"Input!AC116","v":0.95},{"$f":"Input!AD116","v":0.95},{"$f":"Input!AE116","v":0.95},{"$f":"Input!AF116","v":0.95},{"$f":"Input!AG116","v":0.95},{"$f":"Input!AH116","v":0.95},{"$f":"Input!AI116","v":0.95},{"$f":"Input!AJ116","v":0.95},{"$f":"Input!AK116","v":0.95},{"$f":"Input!AL116","v":0.95},{"$f":"Input!AM116","v":0.95},{"$f":"Input!AN116","v":0.95},{"$f":"Input!AO116","v":0.95},{"$f":"Input!AP116","v":0.95},{"$f":"Input!AQ116","v":0.95},{"$f":"Input!AR116","v":0.95},{"$f":"Input!AS116","v":0.95}]
[null,null,{"$f":"Input!F117","v":0.95},{"$f":"Input!G117","v":0.95},{"$f":"Input!H117","v":0.95},{"$f":"Input!I117","v":0.95},{"$f":"Input!J117","v":0.95},{"$f":"Input!K117","v":0.95},{"$f":"Input!L117","v":0.95},{"$f":"Input!M117","v":0.95},{"$f":"Input!N117","v":0.95},{"$f":"Input!O117","v":0.95},{"$f":"Input!P117","v":0.95},{"$f":"Input!Q117","v":0.95},{"$f":"Input!R117","v":0.95},{"$f":"Input!S117","v":0.95},{"$f":"Input!T117","v":0.95},{"$f":"Input!U117","v":0.95},{"$f":"Input!V117","v":0.95},{"$f":"Input!W117","v":0.95},{"$f":"Input!X117","v":0.95},{"$f":"Input!Y117","v":0.95},{"$f":"Input!Z117","v":0.95},{"$f":"Input!AA117","v":0.95},{"$f":"Input!AB117","v":0.95},{"$f":"Input!AC117","v":0.95},{"$f":"Input!AD117","v":0.95},{"$f":"Input!AE117","v":0.95},{"$f":"Input!AF117","v":0.95},{"$f":"Input!AG117","v":0.95},{"$f":"Input!AH117","v":0.95},{"$f":"Input!AI117","v":0.95},{"$f":"Input!AJ117","v":0.95},{"$f":"Input!AK117","v":0.95},{"$f":"Input!AL117","v":0.95},{"$f":"Input!AM117","v":0.95},{"$f":"Input!AN117","v":0.95},{"$f":"Input!AO117","v":0.95},{"$f":"Input!AP117","v":0.95},{"$f":"Input!AQ117","v":0.95},{"$f":"Input!AR117","v":0.95},{"$f":"Input!AS117","v":0.95}]
[null,null,{"$f":"Input!F118","v":0.95},{"$f":"Input!G118","v":0.95},{"$f":"Input!H118","v":0.95},{"$f":"Input!I118","v":0.95},{"$f":"Input!J118","v":0.95},{"$f":"Input!K118","v":0.95},{"$f":"Input!L118","v":0.95},{"$f":"Input!M118","v":0.95},{"$f":"Input!N118","v":0.95},{"$f":"Input!O118","v":0.95},{"$f":"Input!P118","v":0.95},{"$f":"Input!Q118","v":0.95},{"$f":"Input!R118","v":0.95},{"$f":"Input!S118","v":0.95},{"$f":"Input!T118","v":0.95},{"$f":"Input!U118","v":0.95},{"$f":"Input!V118","v":0.95},{"$f":"Input!W118","v":0.95},{"$f":"Input!X118","v":0.95},{"$f":"Input!Y118","v":0.95},{"$f":"Input!Z118","v":0.95},{"$f":"Input!AA118","v":0.95},{"$f":"Input!AB118","v":0.95},{"$f":"Input!AC118","v":0.95},{"$f":"Input!AD118","v":0.95},{"$f":"Input!AE118","v":0.95},{"$f":"Input!AF118","v":0.95},{"$f":"Input!AG118","v":0.95},{"$f":"Input!AH118","v":0.95},{"$f":"Input!AI118","v":0.95},{"$f":"Input!AJ118","v":0.95},{"$f":"Input!AK118","v":0.95},{"$f":"Input!AL118","v":0.95},{"$f":"Input!AM118","v":0.95},{"$f":"Input!AN118","v":0.95},{"$f":"Input!AO118","v":0.95},{"$f":"Input!AP118","v":0.95},{"$f":"Input!AQ118","v":0.95},{"$f":"Input!AR118","v":0.95},{"$f":"Input!AS118","v":0.95}]
[null,null,{"$f":"Input!F119","v":0.95},{"$f":"Input!G119","v":0.95},{"$f":"Input!H119","v":0.95},{"$f":"Input!I119","v":0.95},{"$f":"Input!J119","v":0.95},{"$f":"Input!K119","v":0.95},{"$f":"Input!L119","v":0.95},{"$f":"Input!M119","v":0.95},{"$f":"Input!N119","v":0.95},{"$f":"Input!O119","v":0.95},{"$f":"Input!P119","v":0.95},{"$f":"Input!Q119","v":0.95},{"$f":"Input!R119","v":0.95},{"$f":"Input!S119","v":0.95},{"$f":"Input!T119","v":0.95},{"$f":"Input!U119","v":0.95},{"$f":"Input!V119","v":0.95},{"$f":"Input!W119","v":0.95},{"$f":"Input!X119","v":0.95},{"$f":"Input!Y119","v":0.95},{"$f":"Input!Z119","v":0.95},{"$f":"Input!AA119","v":0.95},{"$f":"Input!AB119","v":0.95},{"$f":"Input!AC119","v":0.95},{"$f":"Input!AD119","v":0.95},{"$f":"Input!AE119","v":0.95},{"$f":"Input!AF119","v":0.95},{"$f":"Input!AG119","v":0.95},{"$f":"Input!AH119","v":0.95},{"$f":"Input!AI119","v":0.95},{"$f":"Input!AJ119","v":0.95},{"$f":"Input!AK119","v":0.95},{"$f":"Input!AL119","v":0.95},{"$f":"Input!AM119","v":0.95},{"$f":"Input!AN119","v":0.95},{"$f":"Input!AO119","v":0.95},{"$f":"Input!AP119","v":0.95},{"$f":"Input!AQ119","v":0.95},{"$f":"Input!AR119","v":0.95},{"$f":"Input!AS119","v":0.95}]
[null,null,{"$f":"Input!F120","v":0.95},{"$f":"Input!G120","v":0.95},{"$f":"Input!H120","v":0.95},{"$f":"Input!I120","v":0.95},{"$f":"Input!J120","v":0.95},{"$f":"Input!K120","v":0.95},{"$f":"Input!L120","v":0.95},{"$f":"Input!M120","v":0.95},{"$f":"Input!N120","v":0.95},{"$f":"Input!O120","v":0.95},{"$f":"Input!P120","v":0.95},{"$f":"Input!Q120","v":0.95},{"$f":"Input!R120","v":0.95},{"$f":"Input!S120","v":0.95},{"$f":"Input!T120","v":0.95},{"$f":"Input!U120","v":0.95},{"$f":"Input!V120","v":0.95},{"$f":"Input!W120","v":0.95},{"$f":"Input!X120","v":0.95},{"$f":"Input!Y120","v":0.95},{"$f":"Input!Z120","v":0.95},{"$f":"Input!AA120","v":0.95},{"$f":"Input!AB120","v":0.95},{"$f":"Input!AC120","v":0.95},{"$f":"Input!AD120","v":0.95},{"$f":"Input!AE120","v":0.95},{"$f":"Input!AF120","v":0.95},{"$f":"Input!AG120","v":0.95},{"$f":"Input!AH120","v":0.95},{"$f":"Input!AI120","v":0.95},{"$f":"Input!AJ120","v":0.95},{"$f":"Input!AK120","v":0.95},{"$f":"Input!AL120","v":0.95},{"$f":"Input!AM120","v":0.95},{"$f":"Input!AN120","v":0.95},{"$f":"Input!AO120","v":0.95},{"$f":"Input!AP120","v":0.95},{"$f":"Input!AQ120","v":0.95},{"$f":"Input!AR120","v":0.95},{"$f":"Input!AS120","v":0.95}]
[null,null,{"$f":"Input!F121","v":0.95},{"$f":"Input!G121","v":0.95},{"$f":"Input!H121","v":0.95},{"$f":"Input!I121","v":0.95},{"$f":"Input!J121","v":0.95},{"$f":"Input!K121","v":0.95},{"$f":"Input!L121","v":0.95},{"$f":"Input!M121","v":0.95},{"$f":"Input!N121","v":0.95},{"$f":"Input!O121","v":0.95},{"$f":"Input!P121","v":0.95},{"$f":"Input!Q121","v":0.95},{"$f":"Input!R121","v":0.95},{"$f":"Input!S121","v":0.95},{"$f":"Input!T121","v":0.95},{"$f":"Input!U121","v":0.95},{"$f":"Input!V121","v":0.95},{"$f":"Input!W121","v":0.95},{"$f":"Input!X121","v":0.95},{"$f":"Input!Y121","v":0.95},{"$f":"Input!Z121","v":0.95},{"$f":"Input!AA121","v":0.95},{"$f":"Input!AB121","v":0.95},{"$f":"Input!AC121","v":0.95},{"$f":"Input!AD121","v":0.95},{"$f":"Input!AE121","v":0.95},{"$f":"Input!AF121","v":0.95},{"$f":"Input!AG121","v":0.95},{"$f":"Input!AH121","v":0.95},{"$f":"Input!AI121","v":0.95},{"$f":"Input!AJ121","v":0.95},{"$f":"Input!AK121","v":0.95},{"$f":"Input!AL121","v":0.95},{"$f":"Input!AM121","v":0.95},{"$f":"Input!AN121","v":0.95},{"$f":"Input!AO121","v":0.95},{"$f":"Input!AP121","v":0.95},{"$f":"Input!AQ121","v":0.95},{"$f":"Input!AR121","v":0.95},{"$f":"Input!AS121","v":0.95}]
[null,null,{"$f":"Input!F122","v":0.95},{"$f":"Input!G122","v":0.95},{"$f":"Input!H122","v":0.95},{"$f":"Input!I122","v":0.95},{"$f":"Input!J122","v":0.95},{"$f":"Input!K122","v":0.95},{"$f":"Input!L122","v":0.95},{"$f":"Input!M122","v":0.95},{"$f":"Input!N122","v":0.95},{"$f":"Input!O122","v":0.95},{"$f":"Input!P122","v":0.95},{"$f":"Input!Q122","v":0.95},{"$f":"Input!R122","v":0.95},{"$f":"Input!S122","v":0.95},{"$f":"Input!T122","v":0.95},{"$f":"Input!U122","v":0.95},{"$f":"Input!V122","v":0.95},{"$f":"Input!W122","v":0.95},{"$f":"Input!X122","v":0.95},{"$f":"Input!Y122","v":0.95},{"$f":"Input!Z122","v":0.95},{"$f":"Input!AA122","v":0.95},{"$f":"Input!AB122","v":0.95},{"$f":"Input!AC122","v":0.95},{"$f":"Input!AD122","v":0.95},{"$f":"Input!AE122","v":0.95},{"$f":"Input!AF122","v":0.95},{"$f":"Input!AG122","v":0.95},{"$f":"Input!AH122","v":0.95},{"$f":"Input!AI122","v":0.95},{"$f":"Input!AJ122","v":0.95},{"$f":"Input!AK122","v":0.95},{"$f":"Input!AL122","v":0.95},{"$f":"Input!AM122","v":0.95},{"$f":"Input!AN122","v":0.95},{"$f":"Input!AO122","v":0.95},{"$f":"Input!AP122","v":0.95},{"$f":"Input!AQ122","v":0.95},{"$f":"Input!AR122","v":0.95},{"$f":"Input!AS122","v":0.95}]
[null,null,{"$f":"Input!F123","v":0.95},{"$f":"Input!G123","v":0.95},{"$f":"Input!H123","v":0.95},{"$f":"Input!I123","v":0.95},{"$f":"Input!J123","v":0.95},{"$f":"Input!K123","v":0.95},{"$f":"Input!L123","v":0.95},{"$f":"Input!M123","v":0.95},{"$f":"Input!N123","v":0.95},{"$f":"Input!O123","v":0.95},{"$f":"Input!P123","v":0.95},{"$f":"Input!Q123","v":0.95},{"$f":"Input!R123","v":0.95},{"$f":"Input!S123","v":0.95},{"$f":"Input!T123","v":0.95},{"$f":"Input!U123","v":0.95},{"$f":"Input!V123","v":0.95},{"$f":"Input!W123","v":0.95},{"$f":"Input!X123","v":0.95},{"$f":"Input!Y123","v":0.95},{"$f":"Input!Z123","v":0.95},{"$f":"Input!AA123","v":0.95},{"$f":"Input!AB123","v":0.95},{"$f":"Input!AC123","v":0.95},{"$f":"Input!AD123","v":0.95},{"$f":"Input!AE123","v":0.95},{"$f":"Input!AF123","v":0.95},{"$f":"Input!AG123","v":0.95},{"$f":"Input!AH123","v":0.95},{"$f":"Input!AI123","v":0.95},{"$f":"Input!AJ123","v":0.95},{"$f":"Input!AK123","v":0.95},{"$f":"Input!AL123","v":0.95},{"$f":"Input!AM123","v":0.95},{"$f":"Input!AN123","v":0.95},{"$f":"Input!AO123","v":0.95},{"$f":"Input!AP123","v":0.95},{"$f":"Input!AQ123","v":0.95},{"$f":"Input!AR123","v":0.95},{"$f":"Input!AS123","v":0.95}]
[null,null,{"$f":"Input!F124","v":0.95},{"$f":"Input!G124","v":0.95},{"$f":"Input!H124","v":0.95},{"$f":"Input!I124","v":0.95},{"$f":"Input!J124","v":0.95},{"$f":"Input!K124","v":0.95},{"$f":"Input!L124","v":0.95},{"$f":"Input!M124","v":0.95},{"$f":"Input!N124","v":0.95},{"$f":"Input!O124","v":0.95},{"$f":"Input!P124","v":0.95},{"$f":"Input!Q124","v":0.95},{"$f":"Input!R124","v":0.95},{"$f":"Input!S124","v":0.95},{"$f":"Input!T124","v":0.95},{"$f":"Input!U124","v":0.95},{"$f":"Input!V124","v":0.95},{"$f":"Input!W124","v":0.95},{"$f":"Input!X124","v":0.95},{"$f":"Input!Y124","v":0.95},{"$f":"Input!Z124","v":0.95},{"$f":"Input!AA124","v":0.95},{"$f":"Input!AB124","v":0.95},{"$f":"Input!AC124","v":0.95},{"$f":"Input!AD124","v":0.95},{"$f":"Input!AE124","v":0.95},{"$f":"Input!AF124","v":0.95},{"$f":"Input!AG124","v":0.95},{"$f":"Input!AH124","v":0.95},{"$f":"Input!AI124","v":0.95},{"$f":"Input!AJ124","v":0.95},{"$f":"Input!AK124","v":0.95},{"$f":"Input!AL124","v":0.95},{"$f":"Input!AM124","v":0.95},{"$f":"Input!AN124","v":0.95},{"$f":"Input!AO124","v":0.95},{"$f":"Input!AP124","v":0.95},{"$f":"Input!AQ124","v":0.95},{"$f":"Input!AR124","v":0.95},{"$f":"Input!AS124","v":0.95}]
[null,null,{"$f":"Input!F125","v":0.95},{"$f":"Input!G125","v":0.95},{"$f":"Input!H125","v":0.95},{"$f":"Input!I125","v":0.95},{"$f":"Input!J125","v":0.95},{"$f":"Input!K125","v":0.95},{"$f":"Input!L125","v":0.95},{"$f":"Input!M125","v":0.95},{"$f":"Input!N125","v":0.95},{"$f":"Input!O125","v":0.95},{"$f":"Input!P125","v":0.95},{"$f":"Input!Q125","v":0.95},{"$f":"Input!R125","v":0.95},{"$f":"Input!S125","v":0.95},{"$f":"Input!T125","v":0.95},{"$f":"Input!U125","v":0.95},{"$f":"Input!V125","v":0.95},{"$f":"Input!W125","v":0.95},{"$f":"Input!X125","v":0.95},{"$f":"Input!Y125","v":0.95},{"$f":"Input!Z125","v":0.95},{"$f":"Input!AA125","v":0.95},{"$f":"Input!AB125","v":0.95},{"$f":"Input!AC125","v":0.95},{"$f":"Input!AD125","v":0.95},{"$f":"Input!AE125","v":0.95},{"$f":"Input!AF125","v":0.95},{"$f":"Input!AG125","v":0.95},{"$f":"Input!AH125","v":0.95},{"$f":"Input!AI125","v":0.95},{"$f":"Input!AJ125","v":0.95},{"$f":"Input!AK125","v":0.95},{"$f":"Input!AL125","v":0.95},{"$f":"Input!AM125","v":0.95},{"$f":"Input!AN125","v":0.95},{"$f":"Input!AO125","v":0.95},{"$f":"Input!AP125","v":0.95},{"$f":"Input!AQ125","v":0.95},{"$f":"Input!AR125","v":0.95},{"$f":"Input!AS125","v":0.95}]
[null,null,{"$f":"Input!F126","v":0.95},{"$f":"Input!G126","v":0.95},{"$f":"Input!H126","v":0.95},{"$f":"Input!I126","v":0.95},{"$f":"Input!J126","v":0.95},{"$f":"Input!K126","v":0.95},{"$f":"Input!L126","v":0.95},{"$f":"Input!M126","v":0.95},{"$f":"Input!N126","v":0.95},{"$f":"Input!O126","v":0.95},{"$f":"Input!P126","v":0.95},{"$f":"Input!Q126","v":0.95},{"$f":"Input!R126","v":0.95},{"$f":"Input!S126","v":0.95},{"$f":"Input!T126","v":0.95},{"$f":"Input!U126","v":0.95},{"$f":"Input!V126","v":0.95},{"$f":"Input!W126","v":0.95},{"$f":"Input!X126","v":0.95},{"$f":"Input!Y126","v":0.95},{"$f":"Input!Z126","v":0.95},{"$f":"Input!AA126","v":0.95},{"$f":"Input!AB126","v":0.95},{"$f":"Input!AC126","v":0.95},{"$f":"Input!AD126","v":0.95},{"$f":"Input!AE126","v":0.95},{"$f":"Input!AF126","v":0.95},{"$f":"Input!AG126","v":0.95},{"$f":"Input!AH126","v":0.95},{"$f":"Input!AI126","v":0.95},{"$f":"Input!AJ126","v":0.95},{"$f":"Input!AK126","v":0.95},{"$f":"Input!AL126","v":0.95},{"$f":"Input!AM126","v":0.95},{"$f":"Input!AN126","v":0.95},{"$f":"Input!AO126","v":0.95},{"$f":"Input!AP126","v":0.95},{"$f":"Input!AQ126","v":0.95},{"$f":"Input!AR126","v":0.95},{"$f":"Input!AS126","v":0.95}]
[null,null,{"$f":"Input!F127","v":0.95},{"$f":"Input!G127","v":0.95},{"$f":"Input!H127","v":0.95},{"$f":"Input!I127","v":0.95},{"$f":"Input!J127","v":0.95},{"$f":"Input!K127","v":0.95},{"$f":"Input!L127","v":0.95},{"$f":"Input!M127","v":0.95},{"$f":"Input!N127","v":0.95},{"$f":"Input!O127","v":0.95},{"$f":"Input!P127","v":0.95},{"$f":"Input!Q127","v":0.95},{"$f":"Input!R127","v":0.95},{"$f":"Input!S127","v":0.95},{"$f":"Input!T127","v":0.95},{"$f":"Input!U127","v":0.95},{"$f":"Input!V127","v":0.95},{"$f":"Input!W127","v":0.95},{"$f":"Input!X127","v":0.95},{"$f":"Input!Y127","v":0.95},{"$f":"Input!Z127","v":0.95},{"$f":"Input!AA127","v":0.95},{"$f":"Input!AB127","v":0.95},{"$f":"Input!AC127","v":0.95},{"$f":"Input!AD127","v":0.95},{"$f":"Input!AE127","v":0.95},{"$f":"Input!AF127","v":0.95},{"$f":"Input!AG127","v":0.95},{"$f":"Input!AH127","v":0.95},{"$f":"Input!AI127","v":0.95},{"$f":"Input!AJ127","v":0.95},{"$f":"Input!AK127","v":0.95},{"$f":"Input!AL127","v":0.95},{"$f":"Input!AM127","v":0.95},{"$f":"Input!AN127","v":0.95},{"$f":"Input!AO127","v":0.95},{"$f":"Input!AP127","v":0.95},{"$f":"Input!AQ127","v":0.95},{"$f":"Input!AR127","v":0.95},{"$f":"Input!AS127","v":0.95}]
[null,null,{"$f":"Input!F128","v":0.95},{"$f":"Input!G128","v":0.95},{"$f":"Input!H128","v":0.95},{"$f":"Input!I128","v":0.95},{"$f":"Input!J128","v":0.95},{"$f":"Input!K128","v":0.95},{"$f":"Input!L128","v":0.95},{"$f":"Input!M128","v":0.95},{"$f":"Input!N128","v":0.95},{"$f":"Input!O128","v":0.95},{"$f":"Input!P128","v":0.95},{"$f":"Input!Q128","v":0.95},{"$f":"Input!R128","v":0.95},{"$f":"Input!S128","v":0.95},{"$f":"Input!T128","v":0.95},{"$f":"Input!U128","v":0.95},{"$f":"Input!V128","v":0.95},{"$f":"Input!W128","v":0.95},{"$f":"Input!X128","v":0.95},{"$f":"Input!Y128","v":0.95},{"$f":"Input!Z128","v":0.95},{"$f":"Input!AA128","v":0.95},{"$f":"Input!AB128","v":0.95},{"$f":"Input!AC128","v":0.95},{"$f":"Input!AD128","v":0.95},{"$f":"Input!AE128","v":0.95},{"$f":"Input!AF128","v":0.95},{"$f":"Input!AG128","v":0.95},{"$f":"Input!AH128","v":0.95},{"$f":"Input!AI128","v":0.95},{"$f":"Input!AJ128","v":0.95},{"$f":"Input!AK128","v":0.95},{"$f":"Input!AL128","v":0.95},{"$f":"Input!AM128","v":0.95},{"$f":"Input!AN128","v":0.95},{"$f":"Input!AO128","v":0.95},{"$f":"Input!AP128","v":0.95},{"$f":"Input!AQ128","v":0.95},{"$f":"Input!AR128","v":0.95},{"$f":"Input!AS128","v":0.95}]
[null,null,{"$f":"Input!F129","v":0.95},{"$f":"Input!G129","v":0.95},{"$f":"Input!H129","v":0.95},{"$f":"Input!I129","v":0.95},{"$f":"Input!J129","v":0.95},{"$f":"Input!K129","v":0.95},{"$f":"Input!L129","v":0.95},{"$f":"Input!M129","v":0.95},{"$f":"Input!N129","v":0.95},{"$f":"Input!O129","v":0.95},{"$f":"Input!P129","v":0.95},{"$f":"Input!Q129","v":0.95},{"$f":"Input!R129","v":0.95},{"$f":"Input!S129","v":0.95},{"$f":"Input!T129","v":0.95},{"$f":"Input!U129","v":0.95},{"$f":"Input!V129","v":0.95},{"$f":"Input!W129","v":0.95},{"$f":"Input!X129","v":0.95},{"$f":"Input!Y129","v":0.95},{"$f":"Input!Z129","v":0.95},{"$f":"Input!AA129","v":0.95},{"$f":"Input!AB129","v":0.95},{"$f":"Input!AC129","v":0.95},{"$f":"Input!AD129","v":0.95},{"$f":"Input!AE129","v":0.95},{"$f":"Input!AF129","v":0.95},{"$f":"Input!AG129","v":0.95},{"$f":"Input!AH129","v":0.95},{"$f":"Input!AI129","v":0.95},{"$f":"Input!AJ129","v":0.95},{"$f":"Input!AK129","v":0.95},{"$f":"Input!AL129","v":0.95},{"$f":"Input!AM129","v":0.95},{"$f":"Input!AN129","v":0.95},{"$f":"Input!AO129","v":0.95},{"$f":"Input!AP129","v":0.95},{"$f":"Input!AQ129","v":0.95},{"$f":"Input!AR129","v":0.95},{"$f":"Input!AS129","v":0.95}]
[null,null,{"$f":"Input!F130","v":0.95},{"$f":"Input!G130","v":0.95},{"$f":"Input!H130","v":0.95},{"$f":"Input!I130","v":0.95},{"$f":"Input!J130","v":0.95},{"$f":"Input!K130","v":0.95},{"$f":"Input!L130","v":0.95},{"$f":"Input!M130","v":0.95},{"$f":"Input!N130","v":0.95},{"$f":"Input!O130","v":0.95},{"$f":"Input!P130","v":0.95},{"$f":"Input!Q130","v":0.95},{"$f":"Input!R130","v":0.95},{"$f":"Input!S130","v":0.95},{"$f":"Input!T130","v":0.95},{"$f":"Input!U130","v":0.95},{"$f":"Input!V130","v":0.95},{"$f":"Input!W130","v":0.95},{"$f":"Input!X130","v":0.95},{"$f":"Input!Y130","v":0.95},{"$f":"Input!Z130","v":0.95},{"$f":"Input!AA130","v":0.95},{"$f":"Input!AB130","v":0.95},{"$f":"Input!AC130","v":0.95},{"$f":"Input!AD130","v":0.95},{"$f":"Input!AE130","v":0.95},{"$f":"Input!AF130","v":0.95},{"$f":"Input!AG130","v":0.95},{"$f":"Input!AH130","v":0.95},{"$f":"Input!AI130","v":0.95},{"$f":"Input!AJ130","v":0.95},{"$f":"Input!AK130","v":0.95},{"$f":"Input!AL130","v":0.95},{"$f":"Input!AM130","v":0.95},{"$f":"Input!AN130","v":0.95},{"$f":"Input!AO130","v":0.95},{"$f":"Input!AP130","v":0.95},{"$f":"Input!AQ130","v":0.95},{"$f":"Input!AR130","v":0.95},{"$f":"Input!AS130","v":0.95}]
[]
[]
[]
[]
[]
["Migrating Acidity Map - Vertical",null,0,0,0,0,0,0,0,0,0,0,0,0,0,0,0,0,0,0,0,0,0,0,0,0,0,0,0,0,0,0,0,0,0,0,0,0,0,0,0,0]
[null,null,{"$f":"IF(C90>0.0001,0,IF(C115>0,IF(C68>0,(($B$65/1000)*C140)+C165,(($B$58/1000)*C140)+C165),C165))","v":0},{"$f":"IF(D90>0.0001,0,IF(D115>0,IF(D68>0,(($B$65/1000)*D140)+D165,(($B$58/1000)*D140)+D165),D165))","v":0},{"$f":"IF(E90>0.0001,0,IF(E115>0,IF(E68>0,(($B$65/1000)*E140)+E165,(($B$58/1000)*E140)+E165),E165))","v":0},{"$f":"IF(F90>0.0001,0,IF(F115>0,IF(F68>0,(($B$65/1000)*F140)+F165,(($B$58/1000)*F140)+F165),F165))","v":0},{"$f":"IF(G90>0.0001,0,IF(G115>0,IF(G68>0,(($B$65/1000)*G140)+G165,(($B$58/1000)*G140)+G165),G165))","v":0},{"$f":"IF(H90>0.0001,0,IF(H115>0,IF(H68>0,(($B$65/1000)*H140)+H165,(($B$58/1000)*H140)+H165),H165))","v":0},{"$f":"IF(I90>0.0001,0,IF(I115>0,IF(I68>0,(($B$65/1000)*I140)+I165,(($B$58/1000)*I140)+I165),I165))","v":0},{"$f":"IF(J90>0.0001,0,IF(J115>0,IF(J68>0,(($B$65/1000)*J140)+J165,(($B$58/1000)*J140)+J165),J165))","v":0},{"$f":"IF(K90>0.0001,0,IF(K115>0,IF(K68>0,(($B$65/1000)*K140)+K165,(($B$58/1000)*K140)+K165),K165))","v":0},{"$f":"IF(L90>0.0001,0,IF(L115>0,IF(L68>0,(($B$65/1000)*L140)+L165,(($B$58/1000)*L140)+L165),L165))","v":0},{"$f":"IF(M90>0.0001,0,IF(M115>0,IF(M68>0,(($B$65/1000)*M140)+M165,(($B$58/1000)*M140)+M165),M165))","v":0},{"$f":"IF(N90>0.0001,0,IF(N115>0,IF(N68>0,(($B$65/1000)*N140)+N165,(($B$58/1000)*N140)+N165),N165))","v":0},{"$f":"IF(O90>0.0001,0,IF(O115>0,IF(O68>0,(($B$65/1000)*O140)+O165,(($B$58/1000)*O140)+O165),O165))","v":0},{"$f":"IF(P90>0.0001,0,IF(P115>0,IF(P68>0,(($B$65/1000)*P140)+P165,(($B$58/1000)*P140)+P165),P165))","v":0},{"$f":"IF(Q90>0.0001,0,IF(Q115>0,IF(Q68>0,(($B$65/1000)*Q140)+Q165,(($B$58/1000)*Q140)+Q165),Q165))","v":0},{"$f":"IF(R90>0.0001,0,IF(R115>0,IF(R68>0,(($B$65/1000)*R140)+R165,(($B$58/1000)*R140)+R165),R165))","v":0},{"$f":"IF(S90>0.0001,0,IF(S115>0,IF(S68>0,(($B$65/1000)*S140)+S165,(($B$58/1000)*S140)+S165),S165))","v":0},{"$f":"IF(T90>0.0001,0,IF(T115>0,IF(T68>0,(($B$65/1000)*T140)+T165,(($B$58/1000)*T140)+T165),T165))","v":0},{"$f":"IF(U90>0.0001,0,IF(U115>0,IF(U68>0,(($B$65/1000)*U140)+U165,(($B$58/1000)*U140)+U165),U165))","v":0},{"$f":"IF(V90>0.0001,0,IF(V115>0,IF(V68>0,(($B$65/1000)*V140)+V165,(($B$58/1000)*V140)+V165),V165))","v":0},{"$f":"IF(W90>0.0001,0,IF(W115>0,IF(W68>0,(($B$65/1000)*W140)+W165,(($B$58/1000)*W140)+W165),W165))","v":0},{"$f":"IF(X90>0.0001,0,IF(X115>0,IF(X68>0,(($B$65/1000)*X140)+X165,(($B$58/1000)*X140)+X165),X165))","v":0},{"$f":"IF(Y90>0.0001,0,IF(Y115>0,IF(Y68>0,(($B$65/1000)*Y140)+Y165,(($B$58/1000)*Y140)+Y165),Y165))","v":0},{"$f":"IF(Z90>0.0001,0,IF(Z115>0,IF(Z68>0,(($B$65/1000)*Z140)+Z165,(($B$58/1000)*Z140)+Z165),Z165))","v":0},{"$f":"IF(AA90>0.0001,0,IF(AA115>0,IF(AA68>0,(($B$65/1000)*AA140)+AA165,(($B$58/1000)*AA140)+AA165),AA165))","v":0},{"$f":"IF(AB90>0.0001,0,IF(AB115>0,IF(AB68>0,(($B$65/1000)*AB140)+AB165,(($B$58/1000)*AB140)+AB165),AB165))","v":0},{"$f":"IF(AC90>0.0001,0,IF(AC115>0,IF(AC68>0,(($B$65/1000)*AC140)+AC165,(($B$58/1000)*AC140)+AC165),AC165))","v":0},{"$f":"IF(AD90>0.0001,0,IF(AD115>0,IF(AD68>0,(($B$65/1000)*AD140)+AD165,(($B$58/1000)*AD140)+AD165),AD165))","v":0},{"$f":"IF(AE90>0.0001,0,IF(AE115>0,IF(AE68>0,(($B$65/1000)*AE140)+AE165,(($B$58/1000)*AE140)+AE165),AE165))","v":0},{"$f":"IF(AF90>0.0001,0,IF(AF115>0,IF(AF68>0,(($B$65/1000)*AF140)+AF165,(($B$58/1000)*AF140)+AF165),AF165))","v":0},{"$f":"IF(AG90>0.0001,0,IF(AG115>0,IF(AG68>0,(($B$65/1000)*AG140)+AG165,(($B$58/1000)*AG140)+AG165),AG165))","v":0},{"$f":"IF(AH90>0.0001,0,IF(AH115>0,IF(AH68>0,(($B$65/1000)*AH140)+AH165,(($B$58/1000)*AH140)+AH165),AH165))","v":0},{"$f":"IF(AI90>0.0001,0,IF(AI115>0,IF(AI68>0,(($B$65/1000)*AI140)+AI165,(($B$58/1000)*AI140)+AI165),AI165))","v":0},{"$f":"IF(AJ90>0.0001,0,IF(AJ115>0,IF(AJ68>0,(($B$65/1000)*AJ140)+AJ165,(($B$58/1000)*AJ140)+AJ165),AJ165))","v":0},{"$f":"IF(AK90>0.0001,0,IF(AK115>0,IF(AK68>0,(($B$65/1000)*AK140)+AK165,(($B$58/1000)*AK140)+AK165),AK165))","v":0},{"$f":"IF(AL90>0.0001,0,IF(AL115>0,IF(AL68>0,(($B$65/1000)*AL140)+AL165,(($B$58/1000)*AL140)+AL165),AL165))","v":0},{"$f":"IF(AM90>0.0001,0,IF(AM115>0,IF(AM68>0,(($B$65/1000)*AM140)+AM165,(($B$58/1000)*AM140)+AM165),AM165))","v":0},{"$f":"IF(AN90>0.0001,0,IF(AN115>0,IF(AN68>0,(($B$65/1000)*AN140)+AN165,(($B$58/1000)*AN140)+AN165),AN165))","v":0},{"$f":"IF(AO90>0.0001,0,IF(AO115>0,IF(AO68>0,(($B$65/1000)*AO140)+AO165,(($B$58/1000)*AO140)+AO165),AO165))","v":0},{"$f":"IF(AP90>0.0001,0,IF(AP115>0,IF(AP68>0,(($B$65/1000)*AP140)+AP165,(($B$58/1000)*AP140)+AP165),AP165))","v":0}]
[null,null,0,0,0,0,0,0,0,0,0,0,0,0,0,0,0,0,0,0,0,0,0,0,0,0,0,0,0,0,0,0,0,0,0,0,0,0,0,0,0,0]
[null,null,0,0,0,0,0,0,0,0,0,0,0,0,0,0,0,0,0,0,0,0,0,0,0,0,0,0,0,0,0,0,0,0,0,0,0,0,0,0,0,0]
[null,null,0,0,0,0,0,0,0,0,0,0,0,0,0,0,0,0,0,0,0,0,0,0,0,0,0,0,0,0,0,0,0,0,0,0,0,0,0,0,0,0]
[null,null,0,0,0,0,0,0,0,0,0,0,0,0,0,0,0,0,0,0,0,0,0,0,0,0,0,0,0,0,0,0,0,0,0,0,0,0,0,0,0,0]
[null,null,0,0,0,0,0,0,0,0,0,0,0,0,0,0,0,0,0,0,0,0,0,0,0,0,0,0,0,0,0,0,0,0,0,0,0,0,0,0,0,0]
[null,null,0,0,0,0,0,0,0,0,0,0,0,0,0,0,0,0,0,0,0,0,0,0,0,0,0,0,0,0,0,0,0,0,0,0,0,0,0,0,0,0]
[null,null,0,0,0,0,0,0,0,0,0,0,0,0,0,0,0,0,0,0,0,0,0,0,0,0,0,0,0,0,0,0,0,0,0,0,0,0,0,0,0,0]
[null,null,0,0,0,0,0,0,0,0,0,0,0,0,0,0,0,0,0,0,0,0,0,0,0,0,0,0,0,0,0,0,0,0,0,0,0,0,0,0,0,0]
[null,null,0,0,0,0,0,0,0,0,0,0,0,0,0,0,0,0,0,0,0,0,0,0,0,0,0,0,0,0,0,0,0,0,0,0,0,0,0,0,0,0]
[null,null,0,0,0,0,0,0,0,0,0,0,0,0,0,0,0,0,0,0,0,0,0,0,0,0,0,0,0,0,0,0,0,0,0,0,0,0,0,0,0,0]
[null,null,0,0,0,0,0,0,0,0,0,0,0,0,0,0,0,0,0,0,0,0,0,0,0,0,0,0,0,0,0,0,0,0,0,0,0,0,0,0,0,0]
[null,null,0,0,0,0,0,0,0,0,0,0,0,0,0,0,0,0,0,0,0,0,0,0,0,0,0,0,0,0,0,0,0,0,0,0,0,0,0,0,0,0]
[null,null,0,0,0,0,0,0,0,0,0,0,0,0,0,0,0,0,0,0,0,0,0,0,0,0,0,0,0,0,0,0,0,0,0,0,0,0,0,0,0,0]
[null,null,0,0,0,0,0,0,0,0,0,0,0,0,0,0,0,0,0,0,0,0,0,0,0,0,0,0,0,0,0,0,0,0,0,0,0,0,0,0,0,0]
[null,null,0,0,0,0,0,0,0,0,0,0,0,0,0,0,0,0,0,0,0,0,0,0,0,0,0,0,0,0,0,0,0,0,0,0,0,0,0,0,0,0]
[null,null,0,0,0,0,0,0,0,0,0,0,0,0,0,0,0,0,0,0,0,0,0,0,0,0,0,0,0,0,0,0,0,0,0,0,0,0,0,0,0,0]
[null,null,0,0,0,0,0,0,0,0,0,0,0,0,0,0,0,0,0,0,0,0,0,0,0,0,0,0,0,0,0,0,0,0,0,0,0,0,0,0,0,0]
[null,null,0,0,0,0,0,0,0,0,0,0,0,0,0,0,0,0,0,0,0,0,0,0,0,0,0,0,0,0,0,0,0,0,0,0,0,0,0,0,0,0]
[]
[]
[]
[]
[]
["Migrating Acidity Map - Lateral",null,{"$f":"IF(D90>0.0001,0,IF(D115>0,IF(D68>0,(($B$65/1000)*(1-D140))+D190,(($B$58/1000)*(1-D140))+D190),D190))","v":0},0,0,0,0,0,0,0,0,0,0,0,0,0,0,0,0,0,0,0,0,0,0,0,0,0,0,0,0,0,0,0,0,0,0,0,0,0,0,0]
[null,null,{"$f":"IF(D91>0.0001,0,IF(D116>0,IF(D69>0,(($B$65/1000)*(1-D141))+D191,(($B$58/1000)*(1-D141))+D191),D191))","v":0},0,0,0,0,0,0,0,0,0,0,0,0,0,0,0,0,0,0,0,0,0,0,0,0,0,0,0,0,0,0,0,0,0,0,0,0,0,0,0]
[null,null,{"$f":"IF(D92>0.0001,0,IF(D117>0,IF(D70>0,(($B$65/1000)*(1-D142))+D192,(($B$58/1000)*(1-D142))+D192),D192))","v":0},0,0,0,0,0,0,0,0,0,0,0,0,0,0,0,0,0,0,0,0,0,0,0,0,0,0,0,0,0,0,0,0,0,0,0,0,0,0,0]
[null,null,{"$f":"IF(D93>0.0001,0,IF(D118>0,IF(D71>0,(($B$65/1000)*(1-D143))+D193,(($B$58/1000)*(1-D143))+D193),D193))","v":0},0,0,0,0,0,0,0,0,0,0,0,0,0,0,0,0,0,0,0,0,0,0,0,0,0,0,0,0,0,0,0,0,0,0,0,0,0,0,0]
[null,null,{"$f":"IF(D94>0.0001,0,IF(D119>0,IF(D72>0,(($B$65/1000)*(1-D144))+D194,(($B$58/1000)*(1-D144))+D194),D194))","v":0},0,0,0,0,0,0,0,0,0,0,0,0,0,0,0,0,0,0,0,0,0,0,0,0,0,0,0,0,0,0,0,0,0,0,0,0,0,0,0]
[null,null,{"$f":"IF(D95>0.0001,0,IF(D120>0,IF(D73>0,(($B$65/1000)*(1-D145))+D195,(($B$58/1000)*(1-D145))+D195),D195))","v":0},0,0,0,0,0,0,0,0,0,0,0,0,0,0,0,0,0,0,0,0,0,0,0,0,0,0,0,0,0,0,0,0,0,0,0,0,0,0,0]
[null,null,{"$f":"IF(D96>0.0001,0,IF(D121>0,IF(D74>0,(($B$65/1000)*(1-D146))+D196,(($B$58/1000)*(1-D146))+D196),D196))","v":0},0,0,0,0,0,0,0,0,0,0,0,0,0,0,0,0,0,0,0,0,0,0,0,0,0,0,0,0,0,0,0,0,0,0,0,0,0,0,0]
[null,null,{"$f":"IF(D97>0.0001,0,IF(D122>0,IF(D75>0,(($B$65/1000)*(1-D147))+D197,(($B$58/1000)*(1-D147))+D197),D197))","v":0},0,0,0,0,0,0,0,0,0,0,0,0,0,0,0,0,0,0,0,0,0,0,0,0,0,0,0,0,0,0,0,0,0,0,0,0,0,0,0]
[null,null,{"$f":"IF(D98>0.0001,0,IF(D123>0,IF(D76>0,(($B$65/1000)*(1-D148))+D198,(($B$58/1000)*(1-D148))+D198),D198))","v":0},0,0,0,0,0,0,0,0,0,0,0,0,0,0,0,0,0,0,0,0,0,0,0,0,0,0,0,0,0,0,0,0,0,0,0,0,0,0,0]
[null,null,{"$f":"IF(D99>0.0001,0,IF(D124>0,IF(D77>0,(($B$65/1000)*(1-D149))+D199,(($B$58/1000)*(1-D149))+D199),D199))","v":0},0,0,0,0,0,0,0,0,0,0,0,0,0,0,0,0,0,0,0,0,0,0,0,0,0,0,0,0,0,0,0,0,0,0,0,0,0,0,0]
[null,null,{"$f":"IF(D100>0.0001,0,IF(D125>0,IF(D78>0,(($B$65/1000)*(1-D150))+D200,(($B$58/1000)*(1-D150))+D200),D200))","v":0},0,0,0,0,0,0,0,0,0,0,0,0,0,0,0,0,0,0,0,0,0,0,0,0,0,0,0,0,0,0,0,0,0,0,0,0,0,0,0]
[null,null,{"$f":"IF(D101>0.0001,0,IF(D126>0,IF(D79>0,(($B$65/1000)*(1-D151))+D201,(($B$58/1000)*(1-D151))+D201),D201))","v":0},0,0,0,0,0,0,0,0,0,0,0,0,0,0,0,0,0,0,0,0,0,0,0,0,0,0,0,0,0,0,0,0,0,0,0,0,0,0,0]
[null,null,{"$f":"IF(D102>0.0001,0,IF(D127>0,IF(D80>0,(($B$65/1000)*(1-D152))+D202,(($B$58/1000)*(1-D152))+D202),D202))","v":0},0,0,0,0,0,0,0,0,0,0,0,0,0,0,0,0,0,0,0,0,0,0,0,0,0,0,0,0,0,0,0,0,0,0,0,0,0,0,0]
[null,null,{"$f":"IF(D103>0.0001,0,IF(D128>0,IF(D81>0,(($B$65/1000)*(1-D153))+D203,(($B$58/1000)*(1-D153))+D203),D203))","v":0},0,0,0,0,0,0,0,0,0,0,0,0,0,0,0,0,0,0,0,0,0,0,0,0,0,0,0,0,0,0,0,0,0,0,0,0,0,0,0]
[null,null,{"$f":"IF(D104>0.0001,0,IF(D129>0,IF(D82>0,(($B$65/1000)*(1-D154))+D204,(($B$58/1000)*(1-D154))+D204),D204))","v":0},0,0,0,0,0,0,0,0,0,0,0,0,0,0,0,0,0,0,0,0,0,0,0,0,0,0,0,0,0,0,0,0,0,0,0,0,0,0,0]
[null,null,{"$f":"IF(D105>0.0001,0,IF(D130>0,IF(D83>0,(($B$65/1000)*(1-D155))+D205,(($B$58/1000)*(1-D155))+D205),D205))","v":0},0,0,0,0,0,0,0,0,0,0,0,0,0,0,0,0,0,0,0,0,0,0,0,0,0,0,0,0,0,0,0,0,0,0,0,0,0,0,0]
[null,null,{"$f":"IF(D106>0.0001,0,IF(D131>0,IF(D84>0,(($B$65/1000)*(1-D156))+D206,(($B$58/1000)*(1-D156))+D206),D206))","v":0},0,0,0,0,0,0,0,0,0,0,0,0,0,0,0,0,0,0,0,0,0,0,0,0,0,0,0,0,0,0,0,0,0,0,0,0,0,0,0]
[null,null,{"$f":"IF(D107>0.0001,0,IF(D132>0,IF(D85>0,(($B$65/1000)*(1-D157))+D207,(($B$58/1000)*(1-D157))+D207),D207))","v":0},0,0,0,0,0,0,0,0,0,0,0,0,0,0,0,0,0,0,0,0,0,0,0,0,0,0,0,0,0,0,0,0,0,0,0,0,0,0,0]
[null,null,{"$f":"IF(D108>0.0001,0,IF(D133>0,IF(D86>0,(($B$65/1000)*(1-D158))+D208,(($B$58/1000)*(1-D158))+D208),D208))","v":0},0,0,0,0,0,0,0,0,0,0,0,0,0,0,0,0,0,0,0,0,0,0,0,0,0,0,0,0,0,0,0,0,0,0,0,0,0,0,{"$f":"IF(AQ108>0.0001,0,IF(AQ133>0,IF(AQ86>0,($B$65/1000)*(1-AQ158),($B$58/1000)*(1-AQ158)),0))","v":0}]
[null,null,{"$f":"IF(D109>0.0001,0,IF(D134>0,IF(D87>0,(($B$65/1000)*(1-D159))+D209,(($B$58/1000)*(1-D159))+D209),D209))","v":0},0,0,0,0,0,0,0,0,0,0,0,0,0,0,0,0,0,0,0,0,0,0,0,0,0,0,0,0,0,0,0,0,0,0,0,0,0,0,{"$f":"IF(AQ109>0.0001,0,IF(AQ134>0,IF(AQ87>0,($B$65/1000)*(1-AQ159),($B$58/1000)*(1-AQ159)),0))","v":0}]
[]
[]
[]
[]
[]
["Non-Oxidizing Grid",null,{"$f":"Input!F86","v":1},{"$f":"Input!G86","v":1},{"$f":"Input!H86","v":1},{"$f":"Input!I86","v":1},{"$f":"Input!J86","v":1},{"$f":"Input!K86","v":1},{"$f":"Input!L86","v":1},{"$f":"Input!M86","v":1},{"$f":"Input!N86","v":1},{"$f":"Input!O86","v":1},{"$f":"Input!P86","v":1},{"$f":"Input!Q86","v":1},{"$f":"Input!R86","v":1},{"$f":"Input!S86","v":1},{"$f":"Input!T86","v":1},{"$f":"Input!U86","v":1},{"$f":"Input!V86","v":1},{"$f":"Input!W86","v":1},{"$f":"Input!X86","v":1},{"$f":"Input!Y86","v":1},{"$f":"Input!Z86","v":1},{"$f":"Input!AA86","v":1},{"$f":"Input!AB86","v":1},{"$f":"Input!AC86","v":1},{"$f":"Input!AD86","v":1},{"$f":"Input!AE86","v":1},{"$f":"Input!AF86","v":1},{"$f":"Input!AG86","v":1},{"$f":"Input!AH86","v":1},{"$f":"Input!AI86","v":1},{"$f":"Input!AJ86","v":1},{"$f":"Input!AK86","v":1},{"$f":"Input!AL86","v":1},{"$f":"Input!AM86","v":1},{"$f":"Input!AN86","v":1},{"$f":"Input!AO86","v":1},{"$f":"Input!AP86","v":1},{"$f":"Input!AQ86","v":1},{"$f":"Input!AR86","v":1},{"$f":"Input!AS86","v":1}]
[null,null,{"$f":"Input!F87","v":1},{"$f":"Input!G87","v":1},{"$f":"Input!H87","v":1},{"$f":"Input!I87","v":1},{"$f":"Input!J87","v":1},{"$f":"Input!K87","v":1},{"$f":"Input!L87","v":1},{"$f":"Input!M87","v":1},{"$f":"Input!N87","v":1},{"$f":"Input!O87","v":1},{"$f":"Input!P87","v":1},{"$f":"Input!Q87","v":1},{"$f":"Input!R87","v":1},{"$f":"Input!S87","v":1},{"$f":"Input!T87","v":1},{"$f":"Input!U87","v":1},{"$f":"Input!V87","v":1},{"$f":"Input!W87","v":1},{"$f":"Input!X87","v":1},{"$f":"Input!Y87","v":1},{"$f":"Input!Z87","v":1},{"$f":"Input!AA87","v":1},{"$f":"Input!AB87","v":1},{"$f":"Input!AC87","v":1},{"$f":"Input!AD87","v":1},{"$f":"Input!AE87","v":1},{"$f":"Input!AF87","v":1},{"$f":"Input!AG87","v":1},{"$f":"Input!AH87","v":1},{"$f":"Input!AI87","v":1},{"$f":"Input!AJ87","v":1},{"$f":"Input!AK87","v":1},{"$f":"Input!AL87","v":1},{"$f":"Input!AM87","v":1},{"$f":"Input!AN87","v":1},{"$f":"Input!AO87","v":1},{"$f":"Input!AP87","v":1},{"$f":"Input!AQ87","v":1},{"$f":"Input!AR87","v":1},{"$f":"Input!AS87","v":1}]
[null,null,{"$f":"Input!F88","v":1},{"$f":"Input!G88","v":1},{"$f":"Input!H88","v":1},{"$f":"Input!I88","v":1},{"$f":"Input!J88","v":1},{"$f":"Input!K88","v":1},{"$f":"Input!L88","v":1},{"$f":"Input!M88","v":1},{"$f":"Input!N88","v":1},{"$f":"Input!O88","v":1},{"$f":"Input!P88","v":1},{"$f":"Input!Q88","v":1},{"$f":"Input!R88","v":1},{"$f":"Input!S88","v":1},{"$f":"Input!T88","v":1},{"$f":"Input!U88","v":1},{"$f":"Input!V88","v":1},{"$f":"Input!W88","v":1},{"$f":"Input!X88","v":1},{"$f":"Input!Y88","v":1},{"$f":"Input!Z88","v":1},{"$f":"Input!AA88","v":1},{"$f":"Input!AB88","v":1},{"$f":"Input!AC88","v":1},{"$f":"Input!AD88","v":1},{"$f":"Input!AE88","v":1},{"$f":"Input!AF88","v":1},{"$f":"Input!AG88","v":1},{"$f":"Input!AH88","v":1},{"$f":"Input!AI88","v":1},{"$f":"Input!AJ88","v":1},{"$f":"Input!AK88","v":1},{"$f":"Input!AL88","v":1},{"$f":"Input!AM88","v":1},{"$f":"Input!AN88","v":1},{"$f":"Input!AO88","v":1},{"$f":"Input!AP88","v":1},{"$f":"Input!AQ88","v":1},{"$f":"Input!AR88","v":1},{"$f":"Input!AS88","v":1}]
[null,null,{"$f":"Input!F89","v":1},{"$f":"Input!G89","v":1},{"$f":"Input!H89","v":1},{"$f":"Input!I89","v":1},{"$f":"Input!J89","v":1},{"$f":"Input!K89","v":1},{"$f":"Input!L89","v":1},{"$f":"Input!M89","v":1},{"$f":"Input!N89","v":1},{"$f":"Input!O89","v":1},{"$f":"Input!P89","v":1},{"$f":"Input!Q89","v":1},{"$f":"Input!R89","v":1},{"$f":"Input!S89","v":1},{"$f":"Input!T89","v":1},{"$f":"Input!U89","v":1},{"$f":"Input!V89","v":1},{"$f":"Input!W89","v":1},{"$f":"Input!X89","v":1},{"$f":"Input!Y89","v":1},{"$f":"Input!Z89","v":1},{"$f":"Input!AA89","v":1},{"$f":"Input!AB89","v":1},{"$f":"Input!AC89","v":1},{"$f":"Input!AD89","v":1},{"$f":"Input!AE89","v":1},{"$f":"Input!AF89","v":1},{"$f":"Input!AG89","v":1},{"$f":"Input!AH89","v":1},{"$f":"Input!AI89","v":1},{"$f":"Input!AJ89","v":1},{"$f":"Input!AK89","v":1},{"$f":"Input!AL89","v":1},{"$f":"Input!AM89","v":1},{"$f":"Input!AN89","v":1},{"$f":"Input!AO89","v":1},{"$f":"Input!AP89","v":1},{"$f":"Input!AQ89","v":1},{"$f":"Input!AR89","v":1},{"$f":"Input!AS89","v":1}]
[null,null,{"$f":"Input!F90","v":1},{"$f":"Input!G90","v":1},{"$f":"Input!H90","v":1},{"$f":"Input!I90","v":1},{"$f":"Input!J90","v":1},{"$f":"Input!K90","v":1},{"$f":"Input!L90","v":1},{"$f":"Input!M90","v":1},{"$f":"Input!N90","v":1},{"$f":"Input!O90","v":1},{"$f":"Input!P90","v":1},{"$f":"Input!Q90","v":1},{"$f":"Input!R90","v":1},{"$f":"Input!S90","v":1},{"$f":"Input!T90","v":1},{"$f":"Input!U90","v":1},{"$f":"Input!V90","v":1},{"$f":"Input!W90","v":1},{"$f":"Input!X90","v":1},{"$f":"Input!Y90","v":1},{"$f":"Input!Z90","v":1},{"$f":"Input!AA90","v":1},{"$f":"Input!AB90","v":1},{"$f":"Input!AC90","v":1},{"$f":"Input!AD90","v":1},{"$f":"Input!AE90","v":1},{"$f":"Input!AF90","v":1},{"$f":"Input!AG90","v":1},{"$f":"Input!AH90","v":1},{"$f":"Input!AI90","v":1},{"$f":"Input!AJ90","v":1},{"$f":"Input!AK90","v":1},{"$f":"Input!AL90","v":1},{"$f":"Input!AM90","v":1},{"$f":"Input!AN90","v":1},{"$f":"Input!AO90","v":1},{"$f":"Input!AP90","v":1},{"$f":"Input!AQ90","v":1},{"$f":"Input!AR90","v":1},{"$f":"Input!AS90","v":1}]
[null,null,{"$f":"Input!F91","v":1},{"$f":"Input!G91","v":1},{"$f":"Input!H91","v":1},{"$f":"Input!I91","v":1},{"$f":"Input!J91","v":1},{"$f":"Input!K91","v":1},{"$f":"Input!L91","v":1},{"$f":"Input!M91","v":1},{"$f":"Input!N91","v":1},{"$f":"Input!O91","v":1},{"$f":"Input!P91","v":1},{"$f":"Input!Q91","v":1},{"$f":"Input!R91","v":1},{"$f":"Input!S91","v":1},{"$f":"Input!T91","v":1},{"$f":"Input!U91","v":1},{"$f":"Input!V91","v":1},{"$f":"Input!W91","v":1},{"$f":"Input!X91","v":1},{"$f":"Input!Y91","v":1},{"$f":"Input!Z91","v":1},{"$f":"Input!AA91","v":1},{"$f":"Input!AB91","v":1},{"$f":"Input!AC91","v":1},{"$f":"Input!AD91","v":1},{"$f":"Input!AE91","v":1},{"$f":"Input!AF91","v":1},{"$f":"Input!AG91","v":1},{"$f":"Input!AH91","v":1},{"$f":"Input!AI91","v":1},{"$f":"Input!AJ91","v":1},{"$f":"Input!AK91","v":1},{"$f":"Input!AL91","v":1},{"$f":"Input!AM91","v":1},{"$f":"Input!AN91","v":1},{"$f":"Input!AO91","v":1},{"$f":"Input!AP91","v":1},{"$f":"Input!AQ91","v":1},{"$f":"Input!AR91","v":1},{"$f":"Input!AS91","v":1}]
[null,null,{"$f":"Input!F92","v":1},{"$f":"Input!G92","v":1},{"$f":"Input!H92","v":1},{"$f":"Input!I92","v":1},{"$f":"Input!J92","v":1},{"$f":"Input!K92","v":1},{"$f":"Input!L92","v":1},{"$f":"Input!M92","v":1},{"$f":"Input!N92","v":1},{"$f":"Input!O92","v":1},{"$f":"Input!P92","v":1},{"$f":"Input!Q92","v":1},{"$f":"Input!R92","v":1},{"$f":"Input!S92","v":1},{"$f":"Input!T92","v":1},{"$f":"Input!U92","v":1},{"$f":"Input!V92","v":1},{"$f":"Input!W92","v":1},{"$f":"Input!X92","v":1},{"$f":"Input!Y92","v":1},{"$f":"Input!Z92","v":1},{"$f":"Input!AA92","v":1},{"$f":"Input!AB92","v":1},{"$f":"Input!AC92","v":1},{"$f":"Input!AD92","v":1},{"$f":"Input!AE92","v":1},{"$f":"Input!AF92","v":1},{"$f":"Input!AG92","v":1},{"$f":"Input!AH92","v":1},{"$f":"Input!AI92","v":1},{"$f":"Input!AJ92","v":1},{"$f":"Input!AK92","v":1},{"$f":"Input!AL92","v":1},{"$f":"Input!AM92","v":1},{"$f":"Input!AN92","v":1},{"$f":"Input!AO92","v":1},{"$f":"Input!AP92","v":1},{"$f":"Input!AQ92","v":1},{"$f":"Input!AR92","v":1},{"$f":"Input!AS92","v":1}]
[null,null,{"$f":"Input!F93","v":1},{"$f":"Input!G93","v":1},{"$f":"Input!H93","v":1},{"$f":"Input!I93","v":1},{"$f":"Input!J93","v":1},{"$f":"Input!K93","v":1},{"$f":"Input!L93","v":1},{"$f":"Input!M93","v":1},{"$f":"Input!N93","v":1},{"$f":"Input!O93","v":1},{"$f":"Input!P93","v":1},{"$f":"Input!Q93","v":1},{"$f":"Input!R93","v":1},{"$f":"Input!S93","v":1},{"$f":"Input!T93","v":1},{"$f":"Input!U93","v":1},{"$f":"Input!V93","v":1},{"$f":"Input!W93","v":1},{"$f":"Input!X93","v":1},{"$f":"Input!Y93","v":1},{"$f":"Input!Z93","v":1},{"$f":"Input!AA93","v":1},{"$f":"Input!AB93","v":1},{"$f":"Input!AC93","v":1},{"$f":"Input!AD93","v":1},{"$f":"Input!AE93","v":1},{"$f":"Input!AF93","v":1},{"$f":"Input!AG93","v":1},{"$f":"Input!AH93","v":1},{"$f":"Input!AI93","v":1},{"$f":"Input!AJ93","v":1},{"$f":"Input!AK93","v":1},{"$f":"Input!AL93","v":1},{"$f":"Input!AM93","v":1},{"$f":"Input!AN93","v":1},{"$f":"Input!AO93","v":1},{"$f":"Input!AP93","v":1},{"$f":"Input!AQ93","v":1},{"$f":"Input!AR93","v":1},{"$f":"Input!AS93","v":1}]
[null,null,{"$f":"Input!F94","v":1},{"$f":"Input!G94","v":1},{"$f":"Input!H94","v":1},{"$f":"Input!I94","v":1},{"$f":"Input!J94","v":1},{"$f":"Input!K94","v":1},{"$f":"Input!L94","v":1},{"$f":"Input!M94","v":1},{"$f":"Input!N94","v":1},{"$f":"Input!O94","v":1},{"$f":"Input!P94","v":1},{"$f":"Input!Q94","v":1},{"$f":"Input!R94","v":1},{"$f":"Input!S94","v":1},{"$f":"Input!T94","v":1},{"$f":"Input!U94","v":1},{"$f":"Input!V94","v":1},{"$f":"Input!W94","v":1},{"$f":"Input!X94","v":1},{"$f":"Input!Y94","v":1},{"$f":"Input!Z94","v":1},{"$f":"Input!AA94","v":1},{"$f":"Input!AB94","v":1},{"$f":"Input!AC94","v":1},{"$f":"Input!AD94","v":1},{"$f":"Input!AE94","v":1},{"$f":"Input!AF94","v":1},{"$f":"Input!AG94","v":1},{"$f":"Input!AH94","v":1},{"$f":"Input!AI94","v":1},{"$f":"Input!AJ94","v":1},{"$f":"Input!AK94","v":1},{"$f":"Input!AL94","v":1},{"$f":"Input!AM94","v":1},{"$f":"Input!AN94","v":1},{"$f":"Input!AO94","v":1},{"$f":"Input!AP94","v":1},{"$f":"Input!AQ94","v":1},{"$f":"Input!AR94","v":1},{"$f":"Input!AS94","v":1}]
[null,null,{"$f":"Input!F95","v":1},{"$f":"Input!G95","v":1},{"$f":"Input!H95","v":1},{"$f":"Input!I95","v":1},{"$f":"Input!J95","v":1},{"$f":"Input!K95","v":1},{"$f":"Input!L95","v":1},{"$f":"Input!M95","v":1},{"$f":"Input!N95","v":1},{"$f":"Input!O95","v":1},{"$f":"Input!P95","v":1},{"$f":"Input!Q95","v":1},{"$f":"Input!R95","v":1},{"$f":"Input!S95","v":1},{"$f":"Input!T95","v":1},{"$f":"Input!U95","v":1},{"$f":"Input!V95","v":1},{"$f":"Input!W95","v":1},{"$f":"Input!X95","v":1},{"$f":"Input!Y95","v":1},{"$f":"Input!Z95","v":1},{"$f":"Input!AA95","v":1},{"$f":"Input!AB95","v":1},{"$f":"Input!AC95","v":1},{"$f":"Input!AD95","v":1},{"$f":"Input!AE95","v":1},{"$f":"Input!AF95","v":1},{"$f":"Input!AG95","v":1},{"$f":"Input!AH95","v":1},{"$f":"Input!AI95","v":1},{"$f":"Input!AJ95","v":1},{"$f":"Input!AK95","v":1},{"$f":"Input!AL95","v":1},{"$f":"Input!AM95","v":1},{"$f":"Input!AN95","v":1},{"$f":"Input!AO95","v":1},{"$f":"Input!AP95","v":1},{"$f":"Input!AQ95","v":1},{"$f":"Input!AR95","v":1},{"$f":"Input!AS95","v":1}]
[null,null,{"$f":"Input!F96","v":1},{"$f":"Input!G96","v":1},{"$f":"Input!H96","v":1},{"$f":"Input!I96","v":1},{"$f":"Input!J96","v":1},{"$f":"Input!K96","v":1},{"$f":"Input!L96","v":1},{"$f":"Input!M96","v":1},{"$f":"Input!N96","v":1},{"$f":"Input!O96","v":1},{"$f":"Input!P96","v":1},{"$f":"Input!Q96","v":1},{"$f":"Input!R96","v":1},{"$f":"Input!S96","v":1},{"$f":"Input!T96","v":1},{"$f":"Input!U96","v":1},{"$f":"Input!V96","v":1},{"$f":"Input!W96","v":1},{"$f":"Input!X96","v":1},{"$f":"Input!Y96","v":1},{"$f":"Input!Z96","v":1},{"$f":"Input!AA96","v":1},{"$f":"Input!AB96","v":1},{"$f":"Input!AC96","v":1},{"$f":"Input!AD96","v":1},{"$f":"Input!AE96","v":1},{"$f":"Input!AF96","v":1},{"$f":"Input!AG96","v":1},{"$f":"Input!AH96","v":1},{"$f":"Input!AI96","v":1},{"$f":"Input!AJ96","v":1},{"$f":"Input!AK96","v":1},{"$f":"Input!AL96","v":1},{"$f":"Input!AM96","v":1},{"$f":"Input!AN96","v":1},{"$f":"Input!AO96","v":1},{"$f":"Input!AP96","v":1},{"$f":"Input!AQ96","v":1},{"$f":"Input!AR96","v":1},{"$f":"Input!AS96","v":1}]
[null,null,{"$f":"Input!F97","v":1},{"$f":"Input!G97","v":1},{"$f":"Input!H97","v":1},{"$f":"Input!I97","v":1},{"$f":"Input!J97","v":1},{"$f":"Input!K97","v":1},{"$f":"Input!L97","v":1},{"$f":"Input!M97","v":1},{"$f":"Input!N97","v":1},{"$f":"Input!O97","v":1},{"$f":"Input!P97","v":1},{"$f":"Input!Q97","v":1},{"$f":"Input!R97","v":1},{"$f":"Input!S97","v":1},{"$f":"Input!T97","v":1},{"$f":"Input!U97","v":1},{"$f":"Input!V97","v":1},{"$f":"Input!W97","v":1},{"$f":"Input!X97","v":1},{"$f":"Input!Y97","v":1},{"$f":"Input!Z97","v":1},{"$f":"Input!AA97","v":1},{"$f":"Input!AB97","v":1},{"$f":"Input!AC97","v":1},{"$f":"Input!AD97","v":1},{"$f":"Input!AE97","v":1},{"$f":"Input!AF97","v":1},{"$f":"Input!AG97","v":1},{"$f":"Input!AH97","v":1},{"$f":"Input!AI97","v":1},{"$f":"Input!AJ97","v":1},{"$f":"Input!AK97","v":1},{"$f":"Input!AL97","v":1},{"$f":"Input!AM97","v":1},{"$f":"Input!AN97","v":1},{"$f":"Input!AO97","v":1},{"$f":"Input!AP97","v":1},{"$f":"Input!AQ97","v":1},{"$f":"Input!AR97","v":1},{"$f":"Input!AS97","v":1}]
[null,null,{"$f":"Input!F98","v":1},{"$f":"Input!G98","v":1},{"$f":"Input!H98","v":1},{"$f":"Input!I98","v":1},{"$f":"Input!J98","v":1},{"$f":"Input!K98","v":1},{"$f":"Input!L98","v":1},{"$f":"Input!M98","v":1},{"$f":"Input!N98","v":1},{"$f":"Input!O98","v":1},{"$f":"Input!P98","v":1},{"$f":"Input!Q98","v":1},{"$f":"Input!R98","v":1},{"$f":"Input!S98","v":1},{"$f":"Input!T98","v":1},{"$f":"Input!U98","v":1},{"$f":"Input!V98","v":1},{"$f":"Input!W98","v":1},{"$f":"Input!X98","v":1},{"$f":"Input!Y98","v":1},{"$f":"Input!Z98","v":1},{"$f":"Input!AA98","v":1},{"$f":"Input!AB98","v":1},{"$f":"Input!AC98","v":1},{"$f":"Input!AD98","v":1},{"$f":"Input!AE98","v":1},{"$f":"Input!AF98","v":1},{"$f":"Input!AG98","v":1},{"$f":"Input!AH98","v":1},{"$f":"Input!AI98","v":1},{"$f":"Input!AJ98","v":1},{"$f":"Input!AK98","v":1},{"$f":"Input!AL98","v":1},{"$f":"Input!AM98","v":1},{"$f":"Input!AN98","v":1},{"$f":"Input!AO98","v":1},{"$f":"Input!AP98","v":1},{"$f":"Input!AQ98","v":1},{"$f":"Input!AR98","v":1},{"$f":"Input!AS98","v":1}]
[null,null,{"$f":"Input!F99","v":1},{"$f":"Input!G99","v":1},{"$f":"Input!H99","v":1},{"$f":"Input!I99","v":1},{"$f":"Input!J99","v":1},{"$f":"Input!K99","v":1},{"$f":"Input!L99","v":1},{"$f":"Input!M99","v":1},{"$f":"Input!N99","v":1},{"$f":"Input!O99","v":1},{"$f":"Input!P99","v":1},{"$f":"Input!Q99","v":1},{"$f":"Input!R99","v":1},{"$f":"Input!S99","v":1},{"$f":"Input!T99","v":1},{"$f":"Input!U99","v":1},{"$f":"Input!V99","v":1},{"$f":"Input!W99","v":1},{"$f":"Input!X99","v":1},{"$f":"Input!Y99","v":1},{"$f":"Input!Z99","v":1},{"$f":"Input!AA99","v":1},{"$f":"Input!AB99","v":1},{"$f":"Input!AC99","v":1},{"$f":"Input!AD99","v":1},{"$f":"Input!AE99","v":1},{"$f":"Input!AF99","v":1},{"$f":"Input!AG99","v":1},{"$f":"Input!AH99","v":1},{"$f":"Input!AI99","v":1},{"$f":"Input!AJ99","v":1},{"$f":"Input!AK99","v":1},{"$f":"Input!AL99","v":1},{"$f":"Input!AM99","v":1},{"$f":"Input!AN99","v":1},{"$f":"Input!AO99","v":1},{"$f":"Input!AP99","v":1},{"$f":"Input!AQ99","v":1},{"$f":"Input!AR99","v":1},{"$f":"Input!AS99","v":1}]
[null,null,{"$f":"Input!F100","v":1},{"$f":"Input!G100","v":1},{"$f":"Input!H100","v":1},{"$f":"Input!I100","v":1},{"$f":"Input!J100","v":1},{"$f":"Input!K100","v":1},{"$f":"Input!L100","v":1},{"$f":"Input!M100","v":1},{"$f":"Input!N100","v":1},{"$f":"Input!O100","v":1},{"$f":"Input!P100","v":1},{"$f":"Input!Q100","v":1},{"$f":"Input!R100","v":1},{"$f":"Input!S100","v":1},{"$f":"Input!T100","v":1},{"$f":"Input!U100","v":1},{"$f":"Input!V100","v":1},{"$f":"Input!W100","v":1},{"$f":"Input!X100","v":1},{"$f":"Input!Y100","v":1},{"$f":"Input!Z100","v":1},{"$f":"Input!AA100","v":1},{"$f":"Input!AB100","v":1},{"$f":"Input!AC100","v":1},{"$f":"Input!AD100","v":1},{"$f":"Input!AE100","v":1},{"$f":"Input!AF100","v":1},{"$f":"Input!AG100","v":1},{"$f":"Input!AH100","v":1},{"$f":"Input!AI100","v":1},{"$f":"Input!AJ100","v":1},{"$f":"Input!AK100","v":1},{"$f":"Input!AL100","v":1},{"$f":"Input!AM100","v":1},{"$f":"Input!AN100","v":1},{"$f":"Input!AO100","v":1},{"$f":"Input!AP100","v":1},{"$f":"Input!AQ100","v":1},{"$f":"Input!AR100","v":1},{"$f":"Input!AS100","v":1}]
[null,null,{"$f":"Input!F101","v":1},{"$f":"Input!G101","v":1},{"$f":"Input!H101","v":1},{"$f":"Input!I101","v":1},{"$f":"Input!J101","v":1},{"$f":"Input!K101","v":1},{"$f":"Input!L101","v":1},{"$f":"Input!M101","v":1},{"$f":"Input!N101","v":1},{"$f":"Input!O101","v":1},{"$f":"Input!P101","v":1},{"$f":"Input!Q101","v":1},{"$f":"Input!R101","v":1},{"$f":"Input!S101","v":1},{"$f":"Input!T101","v":1},{"$f":"Input!U101","v":1},{"$f":"Input!V101","v":1},{"$f":"Input!W101","v":1},{"$f":"Input!X101","v":1},{"$f":"Input!Y101","v":1},{"$f":"Input!Z101","v":1},{"$f":"Input!AA101","v":1},{"$f":"Input!AB101","v":1},{"$f":"Input!AC101","v":1},{"$f":"Input!AD101","v":1},{"$f":"Input!AE101","v":1},{"$f":"Input!AF101","v":1},{"$f":"Input!AG101","v":1},{"$f":"Input!AH101","v":1},{"$f":"Input!AI101","v":1},{"$f":"Input!AJ101","v":1},{"$f":"Input!AK101","v":1},{"$f":"Input!AL101","v":1},{"$f":"Input!AM101","v":1},{"$f":"Input!AN101","v":1},{"$f":"Input!AO101","v":1},{"$f":"Input!AP101","v":1},{"$f":"Input!AQ101","v":1},{"$f":"Input!AR101","v":1},{"$f":"Input!AS101","v":1}]
[null,null,{"$f":"Input!F102","v":1},{"$f":"Input!G102","v":1},{"$f":"Input!H102","v":1},{"$f":"Input!I102","v":1},{"$f":"Input!J102","v":1},{"$f":"Input!K102","v":1},{"$f":"Input!L102","v":1},{"$f":"Input!M102","v":1},{"$f":"Input!N102","v":1},{"$f":"Input!O102","v":1},{"$f":"Input!P102","v":1},{"$f":"Input!Q102","v":1},{"$f":"Input!R102","v":1},{"$f":"Input!S102","v":1},{"$f":"Input!T102","v":1},{"$f":"Input!U102","v":1},{"$f":"Input!V102","v":1},{"$f":"Input!W102","v":1},{"$f":"Input!X102","v":1},{"$f":"Input!Y102","v":1},{"$f":"Input!Z102","v":1},{"$f":"Input!AA102","v":1},{"$f":"Input!AB102","v":1},{"$f":"Input!AC102","v":1},{"$f":"Input!AD102","v":1},{"$f":"Input!AE102","v":1},{"$f":"Input!AF102","v":1},{"$f":"Input!AG102","v":1},{"$f":"Input!AH102","v":1},{"$f":"Input!AI102","v":1},{"$f":"Input!AJ102","v":1},{"$f":"Input!AK102","v":1},{"$f":"Input!AL102","v":1},{"$f":"Input!AM102","v":1},{"$f":"Input!AN102","v":1},{"$f":"Input!AO102","v":1},{"$f":"Input!AP102","v":1},{"$f":"Input!AQ102","v":1},{"$f":"Input!AR102","v":1},{"$f":"Input!AS102","v":1}]
[null,null,{"$f":"Input!F103","v":1},{"$f":"Input!G103","v":1},{"$f":"Input!H103","v":1},{"$f":"Input!I103","v":1},{"$f":"Input!J103","v":1},{"$f":"Input!K103","v":1},{"$f":"Input!L103","v":1},{"$f":"Input!M103","v":1},{"$f":"Input!N103","v":1},{"$f":"Input!O103","v":1},{"$f":"Input!P103","v":1},{"$f":"Input!Q103","v":1},{"$f":"Input!R103","v":1},{"$f":"Input!S103","v":1},{"$f":"Input!T103","v":1},{"$f":"Input!U103","v":1},{"$f":"Input!V103","v":1},{"$f":"Input!W103","v":1},{"$f":"Input!X103","v":1},{"$f":"Input!Y103","v":1},{"$f":"Input!Z103","v":1},{"$f":"Input!AA103","v":1},{"$f":"Input!AB103","v":1},{"$f":"Input!AC103","v":1},{"$f":"Input!AD103","v":1},{"$f":"Input!AE103","v":1},{"$f":"Input!AF103","v":1},{"$f":"Input!AG103","v":1},{"$f":"Input!AH103","v":1},{"$f":"Input!AI103","v":1},{"$f":"Input!AJ103","v":1},{"$f":"Input!AK103","v":1},{"$f":"Input!AL103","v":1},{"$f":"Input!AM103","v":1},{"$f":"Input!AN103","v":1},{"$f":"Input!AO103","v":1},{"$f":"Input!AP103","v":1},{"$f":"Input!AQ103","v":1},{"$f":"Input!AR103","v":1},{"$f":"Input!AS103","v":1}]
[null,null,{"$f":"Input!F104","v":1},{"$f":"Input!G104","v":1},{"$f":"Input!H104","v":1},{"$f":"Input!I104","v":1},{"$f":"Input!J104","v":1},{"$f":"Input!K104","v":1},{"$f":"Input!L104","v":1},{"$f":"Input!M104","v":1},{"$f":"Input!N104","v":1},{"$f":"Input!O104","v":1},{"$f":"Input!P104","v":1},{"$f":"Input!Q104","v":1},{"$f":"Input!R104","v":1},{"$f":"Input!S104","v":1},{"$f":"Input!T104","v":1},{"$f":"Input!U104","v":1},{"$f":"Input!V104","v":1},{"$f":"Input!W104","v":1},{"$f":"Input!X104","v":1},{"$f":"Input!Y104","v":1},{"$f":"Input!Z104","v":1},{"$f":"Input!AA104","v":1},{"$f":"Input!AB104","v":1},{"$f":"Input!AC104","v":1},{"$f":"Input!AD104","v":1},{"$f":"Input!AE104","v":1},{"$f":"Input!AF104","v":1},{"$f":"Input!AG104","v":1},{"$f":"Input!AH104","v":1},{"$f":"Input!AI104","v":1},{"$f":"Input!AJ104","v":1},{"$f":"Input!AK104","v":1},{"$f":"Input!AL104","v":1},{"$f":"Input!AM104","v":1},{"$f":"Input!AN104","v":1},{"$f":"Input!AO104","v":1},{"$f":"Input!AP104","v":1},{"$f":"Input!AQ104","v":1},{"$f":"Input!AR104","v":1},{"$f":"Input!AS104","v":1}]
[null,null,{"$f":"Input!F105","v":1},{"$f":"Input!G105","v":1},{"$f":"Input!H105","v":1},{"$f":"Input!I105","v":1},{"$f":"Input!J105","v":1},{"$f":"Input!K105","v":1},{"$f":"Input!L105","v":1},{"$f":"Input!M105","v":1},{"$f":"Input!N105","v":1},{"$f":"Input!O105","v":1},{"$f":"Input!P105","v":1},{"$f":"Input!Q105","v":1},{"$f":"Input!R105","v":1},{"$f":"Input!S105","v":1},{"$f":"Input!T105","v":1},{"$f":"Input!U105","v":1},{"$f":"Input!V105","v":1},{"$f":"Input!W105","v":1},{"$f":"Input!X105","v":1},{"$f":"Input!Y105","v":1},{"$f":"Input!Z105","v":1},{"$f":"Input!AA105","v":1},{"$f":"Input!AB105","v":1},{"$f":"Input!AC105","v":1},{"$f":"Input!AD105","v":1},{"$f":"Input!AE105","v":1},{"$f":"Input!AF105","v":1},{"$f":"Input!AG105","v":1},{"$f":"Input!AH105","v":1},{"$f":"Input!AI105","v":1},{"$f":"Input!AJ105","v":1},{"$f":"Input!AK105","v":1},{"$f":"Input!AL105","v":1},{"$f":"Input!AM105","v":1},{"$f":"Input!AN105","v":1},{"$f":"Input!AO105","v":1},{"$f":"Input!AP105","v":1},{"$f":"Input!AQ105","v":1},{"$f":"Input!AR105","v":1},{"$f":"Input!AS105","v":1}]